BEGIN:VCALENDAR
VERSION:2.0
PRODID:-//Trails Regional Library - ECPv6.15.20//NONSGML v1.0//EN
CALSCALE:GREGORIAN
METHOD:PUBLISH
X-ORIGINAL-URL:https://www.trailslibrary.org
X-WR-CALDESC:Events for Trails Regional Library
REFRESH-INTERVAL;VALUE=DURATION:PT1H
X-Robots-Tag:noindex
X-PUBLISHED-TTL:PT1H
BEGIN:VTIMEZONE
TZID:America/New_York
BEGIN:DAYLIGHT
TZOFFSETFROM:-0500
TZOFFSETTO:-0400
TZNAME:EDT
DTSTART:20230312T070000
END:DAYLIGHT
BEGIN:STANDARD
TZOFFSETFROM:-0400
TZOFFSETTO:-0500
TZNAME:EST
DTSTART:20231105T060000
END:STANDARD
BEGIN:DAYLIGHT
TZOFFSETFROM:-0500
TZOFFSETTO:-0400
TZNAME:EDT
DTSTART:20240310T070000
END:DAYLIGHT
BEGIN:STANDARD
TZOFFSETFROM:-0400
TZOFFSETTO:-0500
TZNAME:EST
DTSTART:20241103T060000
END:STANDARD
BEGIN:DAYLIGHT
TZOFFSETFROM:-0500
TZOFFSETTO:-0400
TZNAME:EDT
DTSTART:20250309T070000
END:DAYLIGHT
BEGIN:STANDARD
TZOFFSETFROM:-0400
TZOFFSETTO:-0500
TZNAME:EST
DTSTART:20251102T060000
END:STANDARD
END:VTIMEZONE
BEGIN:VEVENT
DTSTART;TZID=America/New_York:20240701T000000
DTEND;TZID=America/New_York:20240731T000000
DTSTAMP:20260424T231605
CREATED:20240520T204210Z
LAST-MODIFIED:20240520T204210Z
UID:10007682-1719792000-1722384000@www.trailslibrary.org
SUMMARY:Pop Up - Warrensburg
DESCRIPTION:All Ages: A surprise Program is scheduled!
URL:https://www.trailslibrary.org/event/pop-up-warrensburg-3/
LOCATION:Warrensburg Branch\, 432 N. Holden\, Warrensburg\, Missouri\, 64093\, United States
CATEGORIES:Adult,Adults,All Ages,Children,Family,Kids,preteens,senior,Seniors,Teen,Teens,Youth
END:VEVENT
BEGIN:VEVENT
DTSTART;TZID=America/New_York:20240709T100000
DTEND;TZID=America/New_York:20240709T110000
DTSTAMP:20260424T231605
CREATED:20240520T192229Z
LAST-MODIFIED:20240520T192229Z
UID:10007489-1720519200-1720522800@www.trailslibrary.org
SUMMARY:Coffee & Conversations - Holden
DESCRIPTION:Ages 19+: Come join the Trails Staff and members of the community for coffee and conversation.
URL:https://www.trailslibrary.org/event/coffee-conversations-holden-11/
LOCATION:Holden Branch\, 207 S. Main\, Holden\, MO\, 64040\, United States
CATEGORIES:Adult,Adults,senior,Seniors
END:VEVENT
BEGIN:VEVENT
DTSTART;TZID=America/New_York:20240709T110000
DTEND;TZID=America/New_York:20240709T113000
DTSTAMP:20260424T231605
CREATED:20240521T152624Z
LAST-MODIFIED:20240521T152624Z
UID:10007815-1720522800-1720524600@www.trailslibrary.org
SUMMARY:Chair Aerobics - Knob Noster
DESCRIPTION:Ages 19+: Get fit\, get flexible with us at our beginner chair aerobics class!
URL:https://www.trailslibrary.org/event/chair-aerobics-knob-noster-3/
LOCATION:Knob Noster Branch\, 202 N. Adams\, Knob Noster\, MO\, 65336\, United States
CATEGORIES:Adult,Adults,senior,Seniors
END:VEVENT
BEGIN:VEVENT
DTSTART;TZID=America/New_York:20240709T120000
DTEND;TZID=America/New_York:20240709T140000
DTSTAMP:20260424T231605
CREATED:20240521T152424Z
LAST-MODIFIED:20240521T152424Z
UID:10007810-1720526400-1720533600@www.trailslibrary.org
SUMMARY:Clunker Care - Knob Noster
DESCRIPTION:Ages 15+ REGISTRATION Required: Come and learn basics of maintaining your vehicle (checking fluid and pressure levels and know what to do in minor vehicle emergencies\, and things that are good to have in an emergency kit in case your car breaks down\, you have a maintenance issue\, or you have an accident).
URL:https://www.trailslibrary.org/event/clunker-care-knob-noster/
LOCATION:Knob Noster Branch\, 202 N. Adams\, Knob Noster\, MO\, 65336\, United States
CATEGORIES:Adult,Adults,Guest Speakers,senior,Seniors,Teen,Teens
END:VEVENT
BEGIN:VEVENT
DTSTART;TZID=America/New_York:20240709T150000
DTEND;TZID=America/New_York:20240709T160000
DTSTAMP:20260424T231605
CREATED:20240520T192230Z
LAST-MODIFIED:20240520T192230Z
UID:10007491-1720537200-1720540800@www.trailslibrary.org
SUMMARY:Sea Shell Craft - Holden
DESCRIPTION:Ages 19+ REGISTRATION Required: Create a wall art piece out of seashells and paint.
URL:https://www.trailslibrary.org/event/sea-shell-craft-holden-2/
LOCATION:Holden Branch\, 207 S. Main\, Holden\, MO\, 64040\, United States
CATEGORIES:Adult,Adults,Crafts,senior,Seniors
END:VEVENT
BEGIN:VEVENT
DTSTART;TZID=America/New_York:20240709T160000
DTEND;TZID=America/New_York:20240709T160000
DTSTAMP:20260424T231605
CREATED:20240520T194027Z
LAST-MODIFIED:20240520T194027Z
UID:10007583-1720540800-1720540800@www.trailslibrary.org
SUMMARY:Cinema Afternoon - Odessa
DESCRIPTION:All Ages: Join us for a cinematic adventure!
URL:https://www.trailslibrary.org/event/cinema-afternoon-odessa-3/
LOCATION:Odessa Branch\, 107 W. Mason\, Odessa\, MO\, 64076\, United States
CATEGORIES:Adult,Adults,All Ages,Children,Family,Kids,Movie,preteens,senior,Seniors,Teen,Teens,Youth
END:VEVENT
BEGIN:VEVENT
DTSTART;TZID=America/New_York:20240709T183000
DTEND;TZID=America/New_York:20240709T200000
DTSTAMP:20260424T231605
CREATED:20240520T204225Z
LAST-MODIFIED:20240520T204225Z
UID:10007688-1720549800-1720555200@www.trailslibrary.org
SUMMARY:Old Courthouse and Old Drum - Warrensburg
DESCRIPTION:Ages 19+: Trails has partnered with the historical society to present a program on the history of the old courthouse\, the Old Drum Trial\, and a visit to the memorial library.
URL:https://www.trailslibrary.org/event/old-courthouse-and-old-drum-warrensburg/
LOCATION:Warrensburg Branch\, 432 N. Holden\, Warrensburg\, Missouri\, 64093\, United States
CATEGORIES:Adult,Adults,Guest Presenter,senior,Seniors
END:VEVENT
END:VCALENDAR