BEGIN:VCALENDAR
VERSION:2.0
PRODID:-//Trails Regional Library - ECPv6.15.20//NONSGML v1.0//EN
CALSCALE:GREGORIAN
METHOD:PUBLISH
X-WR-CALNAME:Trails Regional Library
X-ORIGINAL-URL:https://www.trailslibrary.org
X-WR-CALDESC:Events for Trails Regional Library
REFRESH-INTERVAL;VALUE=DURATION:PT1H
X-Robots-Tag:noindex
X-PUBLISHED-TTL:PT1H
BEGIN:VTIMEZONE
TZID:America/New_York
BEGIN:DAYLIGHT
TZOFFSETFROM:-0500
TZOFFSETTO:-0400
TZNAME:EDT
DTSTART:20240310T070000
END:DAYLIGHT
BEGIN:STANDARD
TZOFFSETFROM:-0400
TZOFFSETTO:-0500
TZNAME:EST
DTSTART:20241103T060000
END:STANDARD
BEGIN:DAYLIGHT
TZOFFSETFROM:-0500
TZOFFSETTO:-0400
TZNAME:EDT
DTSTART:20250309T070000
END:DAYLIGHT
BEGIN:STANDARD
TZOFFSETFROM:-0400
TZOFFSETTO:-0500
TZNAME:EST
DTSTART:20251102T060000
END:STANDARD
BEGIN:DAYLIGHT
TZOFFSETFROM:-0500
TZOFFSETTO:-0400
TZNAME:EDT
DTSTART:20260308T070000
END:DAYLIGHT
BEGIN:STANDARD
TZOFFSETFROM:-0400
TZOFFSETTO:-0500
TZNAME:EST
DTSTART:20261101T060000
END:STANDARD
END:VTIMEZONE
BEGIN:VEVENT
DTSTART;TZID=America/New_York:20250123T150000
DTEND;TZID=America/New_York:20250123T150000
DTSTAMP:20260422T205920
CREATED:20241217T172639Z
LAST-MODIFIED:20241217T172639Z
UID:10008553-1737644400-1737644400@www.trailslibrary.org
SUMMARY:Chess Club - Holden Branch
DESCRIPTION:Ages 13+ REGISTRATION REQUIRED: Come play Chess with us at the library. All skill levels welcome.
URL:https://www.trailslibrary.org/event/chess-club-holden-branch/
LOCATION:Holden Branch\, 207 S. Main\, Holden\, MO\, 64040\, United States
CATEGORIES:Adult,Adults,Pre-Teen,Pre-Teens,senior,Seniors,Teen,Teens
END:VEVENT
BEGIN:VEVENT
DTSTART;TZID=America/New_York:20250123T150000
DTEND;TZID=America/New_York:20250123T150000
DTSTAMP:20260422T205920
CREATED:20241217T183736Z
LAST-MODIFIED:20241217T183736Z
UID:10008738-1737644400-1737644400@www.trailslibrary.org
SUMMARY:Card Making - Warrensburg Branch
DESCRIPTION:Ages 19+ REGISTRATION REQUIRED: Get creative with your friends at Trails and make three adorable\, handcrafted cards! Perfect for any occasion\, this fun and easy class will have you leaving with unique creations and great memories.
URL:https://www.trailslibrary.org/event/card-making-warrensburg-branch/
LOCATION:Warrensburg Branch\, 432 N. Holden\, Warrensburg\, Missouri\, 64093\, United States
CATEGORIES:Adult,Adults,Crafts,senior,Seniors
END:VEVENT
END:VCALENDAR