BEGIN:VCALENDAR
VERSION:2.0
PRODID:-//Trails Regional Library - ECPv6.15.20//NONSGML v1.0//EN
CALSCALE:GREGORIAN
METHOD:PUBLISH
X-ORIGINAL-URL:https://www.trailslibrary.org
X-WR-CALDESC:Events for Trails Regional Library
REFRESH-INTERVAL;VALUE=DURATION:PT1H
X-Robots-Tag:noindex
X-PUBLISHED-TTL:PT1H
BEGIN:VTIMEZONE
TZID:America/New_York
BEGIN:DAYLIGHT
TZOFFSETFROM:-0500
TZOFFSETTO:-0400
TZNAME:EDT
DTSTART:20240310T070000
END:DAYLIGHT
BEGIN:STANDARD
TZOFFSETFROM:-0400
TZOFFSETTO:-0500
TZNAME:EST
DTSTART:20241103T060000
END:STANDARD
BEGIN:DAYLIGHT
TZOFFSETFROM:-0500
TZOFFSETTO:-0400
TZNAME:EDT
DTSTART:20250309T070000
END:DAYLIGHT
BEGIN:STANDARD
TZOFFSETFROM:-0400
TZOFFSETTO:-0500
TZNAME:EST
DTSTART:20251102T060000
END:STANDARD
BEGIN:DAYLIGHT
TZOFFSETFROM:-0500
TZOFFSETTO:-0400
TZNAME:EDT
DTSTART:20260308T070000
END:DAYLIGHT
BEGIN:STANDARD
TZOFFSETFROM:-0400
TZOFFSETTO:-0500
TZNAME:EST
DTSTART:20261101T060000
END:STANDARD
END:VTIMEZONE
BEGIN:VEVENT
DTSTART;TZID=America/New_York:20250326T133000
DTEND;TZID=America/New_York:20250326T133000
DTSTAMP:20260422T173926
CREATED:20241217T174730Z
LAST-MODIFIED:20241217T174730Z
UID:10008625-1742995800-1742995800@www.trailslibrary.org
SUMMARY:Any Book Book Club - Lexington Branch
DESCRIPTION:Ages 19+: Not your ordinary book club!  Join us and as everyone shares information with the group about a book they really enjoyed. Needing a suggestion for your next read? Find it here\, we all love recommendations!
URL:https://www.trailslibrary.org/event/any-book-book-club-lexington-branch-2/
LOCATION:Lexington Branch\, 1008 Main Street\, Lexington\, MO\, 64067\, United States
CATEGORIES:Adult,Adults,Book Club,senior,Seniors
END:VEVENT
BEGIN:VEVENT
DTSTART;TZID=America/New_York:20250326T140000
DTEND;TZID=America/New_York:20250326T140000
DTSTAMP:20260422T173926
CREATED:20241217T184453Z
LAST-MODIFIED:20250227T215512Z
UID:10008768-1742997600-1742997600@www.trailslibrary.org
SUMMARY:Game On! - Warrensburg Branch
DESCRIPTION:All Ages: Bring a friend or a parent and join us for a fun-filled game day at the library! Enjoy oversized yard games\, plus a variety of board and card games for all ages.
URL:https://www.trailslibrary.org/event/game-on-warrensburg-branch-7/
LOCATION:Warrensburg Branch\, 432 N. Holden\, Warrensburg\, Missouri\, 64093\, United States
CATEGORIES:Adult,Adults,All Ages,Children,Family,Kids,preteens,senior,Seniors,Teen,Teens,Youth
END:VEVENT
BEGIN:VEVENT
DTSTART;TZID=America/New_York:20250326T160000
DTEND;TZID=America/New_York:20250326T160000
DTSTAMP:20260422T173926
CREATED:20241218T174538Z
LAST-MODIFIED:20241218T174538Z
UID:10008863-1743004800-1743004800@www.trailslibrary.org
SUMMARY:Book Club - Waverly Branch
DESCRIPTION:Ages 19+: Share your favorite read with the group and discover your next favorite.
URL:https://www.trailslibrary.org/event/book-club-waverly-branch-3/
LOCATION:Waverly Branch\, 203 E. Kelling\, Waverly\, MO\, 64096\, United States
CATEGORIES:Adult,Adults,Book Club,senior,Seniors
END:VEVENT
END:VCALENDAR