BEGIN:VCALENDAR
VERSION:2.0
PRODID:-//Trails Regional Library - ECPv6.15.20//NONSGML v1.0//EN
CALSCALE:GREGORIAN
METHOD:PUBLISH
X-WR-CALNAME:Trails Regional Library
X-ORIGINAL-URL:https://www.trailslibrary.org
X-WR-CALDESC:Events for Trails Regional Library
REFRESH-INTERVAL;VALUE=DURATION:PT1H
X-Robots-Tag:noindex
X-PUBLISHED-TTL:PT1H
BEGIN:VTIMEZONE
TZID:America/New_York
BEGIN:DAYLIGHT
TZOFFSETFROM:-0500
TZOFFSETTO:-0400
TZNAME:EDT
DTSTART:20240310T070000
END:DAYLIGHT
BEGIN:STANDARD
TZOFFSETFROM:-0400
TZOFFSETTO:-0500
TZNAME:EST
DTSTART:20241103T060000
END:STANDARD
BEGIN:DAYLIGHT
TZOFFSETFROM:-0500
TZOFFSETTO:-0400
TZNAME:EDT
DTSTART:20250309T070000
END:DAYLIGHT
BEGIN:STANDARD
TZOFFSETFROM:-0400
TZOFFSETTO:-0500
TZNAME:EST
DTSTART:20251102T060000
END:STANDARD
BEGIN:DAYLIGHT
TZOFFSETFROM:-0500
TZOFFSETTO:-0400
TZNAME:EDT
DTSTART:20260308T070000
END:DAYLIGHT
BEGIN:STANDARD
TZOFFSETFROM:-0400
TZOFFSETTO:-0500
TZNAME:EST
DTSTART:20261101T060000
END:STANDARD
END:VTIMEZONE
BEGIN:VEVENT
DTSTART;TZID=America/New_York:20250609T101500
DTEND;TZID=America/New_York:20250609T101500
DTSTAMP:20260422T125134
CREATED:20250509T133644Z
LAST-MODIFIED:20250509T133644Z
UID:10008921-1749464100-1749464100@www.trailslibrary.org
SUMMARY:Book Club - Corder Branch
DESCRIPTION:Ages 19+: Join us at the library for a lively discussion about this month’s book.
URL:https://www.trailslibrary.org/event/book-club-corder-branch-11/
LOCATION:Corder Branch\, 221 N. Lafayette\, Corder\, MO\, 64021\, United States
CATEGORIES:Adult,Adults,Book Club,senior,Seniors
END:VEVENT
BEGIN:VEVENT
DTSTART;TZID=America/New_York:20250609T150000
DTEND;TZID=America/New_York:20250609T150000
DTSTAMP:20260422T125134
CREATED:20250509T142527Z
LAST-MODIFIED:20250509T142527Z
UID:10009210-1749481200-1749481200@www.trailslibrary.org
SUMMARY:Nail Polish Mugs - Waverly Branch
DESCRIPTION:Ages 19+: Create a unique marbled mug with nail polish!
URL:https://www.trailslibrary.org/event/nail-polish-mugs-waverly-branch/
LOCATION:Waverly Branch\, 203 E. Kelling\, Waverly\, MO\, 64096\, United States
CATEGORIES:Adult,Adults,Crafts,senior,Seniors
END:VEVENT
BEGIN:VEVENT
DTSTART;TZID=America/New_York:20250609T173000
DTEND;TZID=America/New_York:20250609T173000
DTSTAMP:20260422T125134
CREATED:20250509T142139Z
LAST-MODIFIED:20250509T142139Z
UID:10009154-1749490200-1749490200@www.trailslibrary.org
SUMMARY:Noveltea - Warrensburg Branch
DESCRIPTION:Ages 19+: Join us for a cup of tea\, an award winning book\, and great conversations. This month’s pick is One of Our Kind by Nicola Yoon
URL:https://www.trailslibrary.org/event/noveltea-warrensburg-branch-6/
LOCATION:Warrensburg Branch\, 432 N. Holden\, Warrensburg\, Missouri\, 64093\, United States
CATEGORIES:Adult,Adults,Book Club,senior,Seniors
END:VEVENT
BEGIN:VEVENT
DTSTART;TZID=America/New_York:20250609T203000
DTEND;TZID=America/New_York:20250609T203000
DTSTAMP:20260422T125134
CREATED:20250509T142025Z
LAST-MODIFIED:20250509T142025Z
UID:10009138-1749501000-1749501000@www.trailslibrary.org
SUMMARY:Late Night Hike KNSP - Warrensburg Branch
DESCRIPTION:All Ages: Join us at the visitor center for a late night hike with State Park personnel as we learn about the animals of the park.
URL:https://www.trailslibrary.org/event/late-night-hike-knsp-warrensburg-branch/
LOCATION:Warrensburg Branch\, 432 N. Holden\, Warrensburg\, Missouri\, 64093\, United States
CATEGORIES:Adult,Adults,All Ages,Children,Family,Guest Presenter,Kids,preteens,senior,Seniors,Teen,Teens,Youth
END:VEVENT
END:VCALENDAR