BEGIN:VCALENDAR
VERSION:2.0
PRODID:-//Trails Regional Library - ECPv6.15.20//NONSGML v1.0//EN
CALSCALE:GREGORIAN
METHOD:PUBLISH
X-ORIGINAL-URL:https://www.trailslibrary.org
X-WR-CALDESC:Events for Trails Regional Library
REFRESH-INTERVAL;VALUE=DURATION:PT1H
X-Robots-Tag:noindex
X-PUBLISHED-TTL:PT1H
BEGIN:VTIMEZONE
TZID:America/New_York
BEGIN:DAYLIGHT
TZOFFSETFROM:-0500
TZOFFSETTO:-0400
TZNAME:EDT
DTSTART:20240310T070000
END:DAYLIGHT
BEGIN:STANDARD
TZOFFSETFROM:-0400
TZOFFSETTO:-0500
TZNAME:EST
DTSTART:20241103T060000
END:STANDARD
BEGIN:DAYLIGHT
TZOFFSETFROM:-0500
TZOFFSETTO:-0400
TZNAME:EDT
DTSTART:20250309T070000
END:DAYLIGHT
BEGIN:STANDARD
TZOFFSETFROM:-0400
TZOFFSETTO:-0500
TZNAME:EST
DTSTART:20251102T060000
END:STANDARD
BEGIN:DAYLIGHT
TZOFFSETFROM:-0500
TZOFFSETTO:-0400
TZNAME:EDT
DTSTART:20260308T070000
END:DAYLIGHT
BEGIN:STANDARD
TZOFFSETFROM:-0400
TZOFFSETTO:-0500
TZNAME:EST
DTSTART:20261101T060000
END:STANDARD
END:VTIMEZONE
BEGIN:VEVENT
DTSTART;TZID=America/New_York:20250617T100000
DTEND;TZID=America/New_York:20250617T100000
DTSTAMP:20260422T125241
CREATED:20250509T142149Z
LAST-MODIFIED:20250509T142149Z
UID:10009159-1750154400-1750154400@www.trailslibrary.org
SUMMARY:One-on-One TECHtorials - Warrensburg Branch
DESCRIPTION:Ages 19+ REGISTRATION REQUIRED: Get personalized tech help with your smartphone\, tablet\, or laptop—perfect for learning the basics or building your confidence. Appointments are required and must be scheduled at least 24 hours in advance.
URL:https://www.trailslibrary.org/event/one-on-one-techtorials-warrensburg-branch-3/
LOCATION:Warrensburg Branch\, 432 N. Holden\, Warrensburg\, Missouri\, 64093\, United States
CATEGORIES:Adult,Adults,senior,Seniors,Technology
END:VEVENT
BEGIN:VEVENT
DTSTART;TZID=America/New_York:20250617T100000
DTEND;TZID=America/New_York:20250617T100000
DTSTAMP:20260422T125241
CREATED:20250509T142734Z
LAST-MODIFIED:20250509T142734Z
UID:10009238-1750154400-1750154400@www.trailslibrary.org
SUMMARY:Music by Skippy - Odessa Branch
DESCRIPTION:All Ages: Join Skippy the Human Drum Machine for a fun-filled hour of learning to make noises just like musical instruments and get your blood pumping with a dance party in the process!
URL:https://www.trailslibrary.org/event/music-by-skippy-odessa-branch/
LOCATION:Odessa Branch\, 107 W. Mason\, Odessa\, MO\, 64076\, United States
CATEGORIES:Adult,Adults,All Ages,Children,Family,Guest Presenter,Kids,preteens,senior,Seniors,Teen,Teens,Youth
END:VEVENT
BEGIN:VEVENT
DTSTART;TZID=America/New_York:20250617T130000
DTEND;TZID=America/New_York:20250617T130000
DTSTAMP:20260422T125241
CREATED:20250509T142731Z
LAST-MODIFIED:20250509T142731Z
UID:10009233-1750165200-1750165200@www.trailslibrary.org
SUMMARY:Music by Skippy - Concordia Branch
DESCRIPTION:All Ages: Join Skippy the Human Drum Machine for a fun-filled hour of learning to make noises just like musical instruments and get your blood pumping with a dance party in the process!
URL:https://www.trailslibrary.org/event/music-by-skippy-concordia-branch/
LOCATION:Concordia Branch\, 813 S Main\, Concordia\, MO\, 64020\, United States
CATEGORIES:Adult,Adults,All Ages,Children,Family,Guest Presenter,Kids,preteens,senior,Seniors,Teen,Teens,Youth
END:VEVENT
BEGIN:VEVENT
DTSTART;TZID=America/New_York:20250617T143000
DTEND;TZID=America/New_York:20250617T143000
DTSTAMP:20260422T125241
CREATED:20250509T141824Z
LAST-MODIFIED:20250509T141824Z
UID:10009129-1750170600-1750170600@www.trailslibrary.org
SUMMARY:Family Storytime - Warrensburg Branch
DESCRIPTION:All Ages: Join us for stories\, music\, crafts and fun! Ideal for the whole family.
URL:https://www.trailslibrary.org/event/family-storytime-warrensburg-branch-3/
LOCATION:Warrensburg Branch\, 432 N. Holden\, Warrensburg\, Missouri\, 64093\, United States
CATEGORIES:Adult,Adults,All Ages,Children,Family,Kids,preteens,senior,Seniors,Storytime,Teen,Teens,Youth
END:VEVENT
BEGIN:VEVENT
DTSTART;TZID=America/New_York:20250617T160000
DTEND;TZID=America/New_York:20250617T160000
DTSTAMP:20260422T125241
CREATED:20250509T142732Z
LAST-MODIFIED:20250509T142732Z
UID:10009236-1750176000-1750176000@www.trailslibrary.org
SUMMARY:Music by Skippy - Knob Noster Branch
DESCRIPTION:All Ages: Join Skippy the Human Drum Machine for a fun-filled hour of learning to make noises just like musical instruments and get your blood pumping with a dance party in the process!
URL:https://www.trailslibrary.org/event/music-by-skippy-knob-noster-branch/
LOCATION:Knob Noster Branch\, 202 N. Adams\, Knob Noster\, MO\, 65336\, United States
CATEGORIES:Adult,Adults,All Ages,Children,Family,Guest Presenter,Kids,preteens,senior,Seniors,Teen,Teens,Youth
END:VEVENT
BEGIN:VEVENT
DTSTART;TZID=America/New_York:20250617T170000
DTEND;TZID=America/New_York:20250617T170000
DTSTAMP:20260422T125241
CREATED:20250509T142115Z
LAST-MODIFIED:20250509T142115Z
UID:10009140-1750179600-1750179600@www.trailslibrary.org
SUMMARY:Literary Antics - Warrensburg Branch
DESCRIPTION:Ages 19+ REGISTRATION REQUIRED: Transform retired books into one-of-a-kind crafts in this creative program!
URL:https://www.trailslibrary.org/event/literary-antics-warrensburg-branch-3/
LOCATION:Warrensburg Branch\, 432 N. Holden\, Warrensburg\, Missouri\, 64093\, United States
CATEGORIES:Adult,Adults,Crafts,senior,Seniors
END:VEVENT
END:VCALENDAR