BEGIN:VCALENDAR
VERSION:2.0
PRODID:-//Trails Regional Library - ECPv6.15.20//NONSGML v1.0//EN
CALSCALE:GREGORIAN
METHOD:PUBLISH
X-ORIGINAL-URL:https://www.trailslibrary.org
X-WR-CALDESC:Events for Trails Regional Library
REFRESH-INTERVAL;VALUE=DURATION:PT1H
X-Robots-Tag:noindex
X-PUBLISHED-TTL:PT1H
BEGIN:VTIMEZONE
TZID:America/New_York
BEGIN:DAYLIGHT
TZOFFSETFROM:-0500
TZOFFSETTO:-0400
TZNAME:EDT
DTSTART:20240310T070000
END:DAYLIGHT
BEGIN:STANDARD
TZOFFSETFROM:-0400
TZOFFSETTO:-0500
TZNAME:EST
DTSTART:20241103T060000
END:STANDARD
BEGIN:DAYLIGHT
TZOFFSETFROM:-0500
TZOFFSETTO:-0400
TZNAME:EDT
DTSTART:20250309T070000
END:DAYLIGHT
BEGIN:STANDARD
TZOFFSETFROM:-0400
TZOFFSETTO:-0500
TZNAME:EST
DTSTART:20251102T060000
END:STANDARD
BEGIN:DAYLIGHT
TZOFFSETFROM:-0500
TZOFFSETTO:-0400
TZNAME:EDT
DTSTART:20260308T070000
END:DAYLIGHT
BEGIN:STANDARD
TZOFFSETFROM:-0400
TZOFFSETTO:-0500
TZNAME:EST
DTSTART:20261101T060000
END:STANDARD
END:VTIMEZONE
BEGIN:VEVENT
DTSTART;TZID=America/New_York:20250619T140000
DTEND;TZID=America/New_York:20250619T140000
DTSTAMP:20260422T142522
CREATED:20250509T141624Z
LAST-MODIFIED:20250509T141624Z
UID:10009126-1750341600-1750341600@www.trailslibrary.org
SUMMARY:Drums Alive! - Warrensburg Branch
DESCRIPTION:Ages 55+: Drums Alive® is the original and only evidence-based drumming fitness\, health\, and wellness program that provides a “Whole Brain & Whole Body” workout that promotes physical\, social\, emotional\, and cognitive health at all life stages.
URL:https://www.trailslibrary.org/event/drums-alive-warrensburg-branch/
LOCATION:Warrensburg Branch\, 432 N. Holden\, Warrensburg\, Missouri\, 64093\, United States
CATEGORIES:senior,Seniors
END:VEVENT
BEGIN:VEVENT
DTSTART;TZID=America/New_York:20250619T170000
DTEND;TZID=America/New_York:20250619T170000
DTSTAMP:20260422T142522
CREATED:20250509T140019Z
LAST-MODIFIED:20250509T140019Z
UID:10009044-1750352400-1750352400@www.trailslibrary.org
SUMMARY:Book Lovers' Book Club - Odessa Branch
DESCRIPTION:Ages 19+: Adult book club that meets once a month to discuss their book of choice. This month’s book of choice open for discussion is Remarkably Bright Creatures by Shelby Van Pelt.
URL:https://www.trailslibrary.org/event/book-lovers-book-club-odessa-branch-7/
LOCATION:Odessa Branch\, 107 W. Mason\, Odessa\, MO\, 64076\, United States
CATEGORIES:Adult,Adults,Book Club,senior,Seniors
END:VEVENT
END:VCALENDAR