BEGIN:VCALENDAR
VERSION:2.0
PRODID:-//Trails Regional Library - ECPv6.15.20//NONSGML v1.0//EN
CALSCALE:GREGORIAN
METHOD:PUBLISH
X-ORIGINAL-URL:https://www.trailslibrary.org
X-WR-CALDESC:Events for Trails Regional Library
REFRESH-INTERVAL;VALUE=DURATION:PT1H
X-Robots-Tag:noindex
X-PUBLISHED-TTL:PT1H
BEGIN:VTIMEZONE
TZID:America/New_York
BEGIN:DAYLIGHT
TZOFFSETFROM:-0500
TZOFFSETTO:-0400
TZNAME:EDT
DTSTART:20240310T070000
END:DAYLIGHT
BEGIN:STANDARD
TZOFFSETFROM:-0400
TZOFFSETTO:-0500
TZNAME:EST
DTSTART:20241103T060000
END:STANDARD
BEGIN:DAYLIGHT
TZOFFSETFROM:-0500
TZOFFSETTO:-0400
TZNAME:EDT
DTSTART:20250309T070000
END:DAYLIGHT
BEGIN:STANDARD
TZOFFSETFROM:-0400
TZOFFSETTO:-0500
TZNAME:EST
DTSTART:20251102T060000
END:STANDARD
BEGIN:DAYLIGHT
TZOFFSETFROM:-0500
TZOFFSETTO:-0400
TZNAME:EDT
DTSTART:20260308T070000
END:DAYLIGHT
BEGIN:STANDARD
TZOFFSETFROM:-0400
TZOFFSETTO:-0500
TZNAME:EST
DTSTART:20261101T060000
END:STANDARD
END:VTIMEZONE
BEGIN:VEVENT
DTSTART;TZID=America/New_York:20250826T100000
DTEND;TZID=America/New_York:20250826T100000
DTSTAMP:20260422T051628
CREATED:20250509T142224Z
LAST-MODIFIED:20250509T142224Z
UID:10009169-1756202400-1756202400@www.trailslibrary.org
SUMMARY:One-on-One TECHtorials - Warrensburg Branch
DESCRIPTION:Ages 19+ REGISTRATION REQUIRED: Get personalized tech help with your smartphone\, tablet\, or laptop—perfect for learning the basics or building your confidence. Appointments are required and must be scheduled at least 24 hours in advance.
URL:https://www.trailslibrary.org/event/one-on-one-techtorials-warrensburg-branch-13/
LOCATION:Warrensburg Branch\, 432 N. Holden\, Warrensburg\, Missouri\, 64093\, United States
CATEGORIES:Adult,Adults,senior,Seniors,Technology
END:VEVENT
BEGIN:VEVENT
DTSTART;TZID=America/New_York:20250826T170000
DTEND;TZID=America/New_York:20250826T170000
DTSTAMP:20260422T051628
CREATED:20250509T134942Z
LAST-MODIFIED:20250509T134942Z
UID:10008991-1756227600-1756227600@www.trailslibrary.org
SUMMARY:Book Club - Knob Noster Branch
DESCRIPTION:Ages 19+: Join us at book club to share your thoughts\, meet fellow book lovers\, and help us choose next month’s read!
URL:https://www.trailslibrary.org/event/book-club-knob-noster-branch-8/
LOCATION:Knob Noster Branch\, 202 N. Adams\, Knob Noster\, MO\, 65336\, United States
CATEGORIES:Adult,Adults,Book Club,senior,Seniors
END:VEVENT
END:VCALENDAR