BEGIN:VCALENDAR
VERSION:2.0
PRODID:-//Trails Regional Library - ECPv6.15.20//NONSGML v1.0//EN
CALSCALE:GREGORIAN
METHOD:PUBLISH
X-ORIGINAL-URL:https://www.trailslibrary.org
X-WR-CALDESC:Events for Trails Regional Library
REFRESH-INTERVAL;VALUE=DURATION:PT1H
X-Robots-Tag:noindex
X-PUBLISHED-TTL:PT1H
BEGIN:VTIMEZONE
TZID:America/New_York
BEGIN:DAYLIGHT
TZOFFSETFROM:-0500
TZOFFSETTO:-0400
TZNAME:EDT
DTSTART:20240310T070000
END:DAYLIGHT
BEGIN:STANDARD
TZOFFSETFROM:-0400
TZOFFSETTO:-0500
TZNAME:EST
DTSTART:20241103T060000
END:STANDARD
BEGIN:DAYLIGHT
TZOFFSETFROM:-0500
TZOFFSETTO:-0400
TZNAME:EDT
DTSTART:20250309T070000
END:DAYLIGHT
BEGIN:STANDARD
TZOFFSETFROM:-0400
TZOFFSETTO:-0500
TZNAME:EST
DTSTART:20251102T060000
END:STANDARD
BEGIN:DAYLIGHT
TZOFFSETFROM:-0500
TZOFFSETTO:-0400
TZNAME:EDT
DTSTART:20260308T070000
END:DAYLIGHT
BEGIN:STANDARD
TZOFFSETFROM:-0400
TZOFFSETTO:-0500
TZNAME:EST
DTSTART:20261101T060000
END:STANDARD
END:VTIMEZONE
BEGIN:VEVENT
DTSTART;TZID=America/New_York:20250903T100000
DTEND;TZID=America/New_York:20250903T100000
DTSTAMP:20260422T034346
CREATED:20250811T150338Z
LAST-MODIFIED:20250811T150338Z
UID:10009381-1756893600-1756893600@www.trailslibrary.org
SUMMARY:Sassy Seniors - Waverly Branch
DESCRIPTION:Ages 55+: Join us each month for games and activites\, or just hang out.
URL:https://www.trailslibrary.org/event/sassy-seniors-waverly-branch-9/
LOCATION:Waverly Branch\, 203 E. Kelling\, Waverly\, MO\, 64096\, United States
CATEGORIES:senior,Seniors
END:VEVENT
BEGIN:VEVENT
DTSTART;TZID=America/New_York:20250903T173000
DTEND;TZID=America/New_York:20250903T173000
DTSTAMP:20260422T034346
CREATED:20250811T150159Z
LAST-MODIFIED:20250811T150159Z
UID:10009375-1756920600-1756920600@www.trailslibrary.org
SUMMARY:Watermelon Soiree - Warrensburg Branch
DESCRIPTION:Ages 19+: Celebrate summer’s juiciest fruit by creating a watermelon spritzer\, watermelon salad\, and a watermelon sorbet-perfect for chilling out and enjoying good company.
URL:https://www.trailslibrary.org/event/watermelon-soiree-warrensburg-branch/
LOCATION:Warrensburg Branch\, 432 N. Holden\, Warrensburg\, Missouri\, 64093\, United States
CATEGORIES:Adult,Adults,senior,Seniors
END:VEVENT
END:VCALENDAR