BEGIN:VCALENDAR
VERSION:2.0
PRODID:-//Trails Regional Library - ECPv6.15.20//NONSGML v1.0//EN
CALSCALE:GREGORIAN
METHOD:PUBLISH
X-WR-CALNAME:Trails Regional Library
X-ORIGINAL-URL:https://www.trailslibrary.org
X-WR-CALDESC:Events for Trails Regional Library
REFRESH-INTERVAL;VALUE=DURATION:PT1H
X-Robots-Tag:noindex
X-PUBLISHED-TTL:PT1H
BEGIN:VTIMEZONE
TZID:America/New_York
BEGIN:DAYLIGHT
TZOFFSETFROM:-0500
TZOFFSETTO:-0400
TZNAME:EDT
DTSTART:20250309T070000
END:DAYLIGHT
BEGIN:STANDARD
TZOFFSETFROM:-0400
TZOFFSETTO:-0500
TZNAME:EST
DTSTART:20251102T060000
END:STANDARD
BEGIN:DAYLIGHT
TZOFFSETFROM:-0500
TZOFFSETTO:-0400
TZNAME:EDT
DTSTART:20260308T070000
END:DAYLIGHT
BEGIN:STANDARD
TZOFFSETFROM:-0400
TZOFFSETTO:-0500
TZNAME:EST
DTSTART:20261101T060000
END:STANDARD
BEGIN:DAYLIGHT
TZOFFSETFROM:-0500
TZOFFSETTO:-0400
TZNAME:EDT
DTSTART:20270314T070000
END:DAYLIGHT
BEGIN:STANDARD
TZOFFSETFROM:-0400
TZOFFSETTO:-0500
TZNAME:EST
DTSTART:20271107T060000
END:STANDARD
END:VTIMEZONE
BEGIN:VEVENT
DTSTART;TZID=America/New_York:20260319T140000
DTEND;TZID=America/New_York:20260319T140000
DTSTAMP:20260421T172503
CREATED:20251215T205143Z
LAST-MODIFIED:20251215T205143Z
UID:10010052-1773928800-1773928800@www.trailslibrary.org
SUMMARY:Neurographic Art - Warrensburg Branch
DESCRIPTION:Ages 19+: A simple yet powerful drawing technique that transforms stress into calm through flowing lines\, shapes\, and colors. No artistic experience required—just an open mind and a willingness to explore.
URL:https://www.trailslibrary.org/event/neurographic-art-warrensburg-branch-3/
LOCATION:Warrensburg Branch\, 432 N. Holden\, Warrensburg\, Missouri\, 64093\, United States
CATEGORIES:Adult,Adults,Crafts,senior,Seniors
END:VEVENT
BEGIN:VEVENT
DTSTART;TZID=America/New_York:20260319T170000
DTEND;TZID=America/New_York:20260319T170000
DTSTAMP:20260421T172503
CREATED:20251215T201942Z
LAST-MODIFIED:20251215T201942Z
UID:10009852-1773939600-1773939600@www.trailslibrary.org
SUMMARY:Book Tasting - Knob Noster Branch
DESCRIPTION:Ages 19+: Choose a new genre from your menu for each “course\,” and we’ll bring a book right to your table. Spend a few minutes sampling it while enjoying light refreshments. You might just discover your next great read!
URL:https://www.trailslibrary.org/event/book-tasting-knob-noster-branch/
LOCATION:Knob Noster Branch\, 202 N. Adams\, Knob Noster\, MO\, 65336\, United States
CATEGORIES:Adult,Adults,senior,Seniors
END:VEVENT
BEGIN:VEVENT
DTSTART;TZID=America/New_York:20260319T170000
DTEND;TZID=America/New_York:20260319T170000
DTSTAMP:20260421T172503
CREATED:20251215T202948Z
LAST-MODIFIED:20251215T202948Z
UID:10009933-1773939600-1773939600@www.trailslibrary.org
SUMMARY:Book Lovers' Book Club - Odessa Branch
DESCRIPTION:Ages 19+: Adult book club that meets once a month to discuss their book of choice. This month’s book of choice open for discussion is News of the World by Paulette Jiles.
URL:https://www.trailslibrary.org/event/book-lovers-book-club-odessa-branch-16/
LOCATION:Odessa Branch\, 107 W. Mason\, Odessa\, MO\, 64076\, United States
CATEGORIES:Adult,Adults,Book Club,senior,Seniors
END:VEVENT
END:VCALENDAR