BEGIN:VCALENDAR
VERSION:2.0
PRODID:-//Trails Regional Library - ECPv6.15.20//NONSGML v1.0//EN
CALSCALE:GREGORIAN
METHOD:PUBLISH
X-WR-CALNAME:Trails Regional Library
X-ORIGINAL-URL:https://www.trailslibrary.org
X-WR-CALDESC:Events for Trails Regional Library
REFRESH-INTERVAL;VALUE=DURATION:PT1H
X-Robots-Tag:noindex
X-PUBLISHED-TTL:PT1H
BEGIN:VTIMEZONE
TZID:America/New_York
BEGIN:DAYLIGHT
TZOFFSETFROM:-0500
TZOFFSETTO:-0400
TZNAME:EDT
DTSTART:20230312T070000
END:DAYLIGHT
BEGIN:STANDARD
TZOFFSETFROM:-0400
TZOFFSETTO:-0500
TZNAME:EST
DTSTART:20231105T060000
END:STANDARD
BEGIN:DAYLIGHT
TZOFFSETFROM:-0500
TZOFFSETTO:-0400
TZNAME:EDT
DTSTART:20240310T070000
END:DAYLIGHT
BEGIN:STANDARD
TZOFFSETFROM:-0400
TZOFFSETTO:-0500
TZNAME:EST
DTSTART:20241103T060000
END:STANDARD
BEGIN:DAYLIGHT
TZOFFSETFROM:-0500
TZOFFSETTO:-0400
TZNAME:EDT
DTSTART:20250309T070000
END:DAYLIGHT
BEGIN:STANDARD
TZOFFSETFROM:-0400
TZOFFSETTO:-0500
TZNAME:EST
DTSTART:20251102T060000
END:STANDARD
END:VTIMEZONE
BEGIN:VEVENT
DTSTART;TZID=America/New_York:20240903T130000
DTEND;TZID=America/New_York:20240903T150000
DTSTAMP:20260422T203928
CREATED:20240822T210505Z
LAST-MODIFIED:20240822T210505Z
UID:10008356-1725368400-1725375600@www.trailslibrary.org
SUMMARY:Midday Matinee - Knob Noster
DESCRIPTION:All Ages: Come to the library and watch a classic movie with us. Enjoy some popcorn and a water\, coffee\, or tea on us. Feel free to bring some movie snacks of your own too! This month we’re watching The Prisoner of Zenda. “I haven’t lived like a king\, but perhaps I can die like one. I will not disgrace the crown I never wore.”
URL:https://www.trailslibrary.org/event/midday-matinee-knob-noster-3/
LOCATION:Knob Noster Branch\, 202 N. Adams\, Knob Noster\, MO\, 65336\, United States
CATEGORIES:Adult,Adults,All Ages,Children,Family,Kids,Movie,preteens,senior,Seniors,Teen,Teens,Youth
END:VEVENT
BEGIN:VEVENT
DTSTART;TZID=America/New_York:20240903T160000
DTEND;TZID=America/New_York:20240903T160000
DTSTAMP:20260422T203928
CREATED:20240822T211303Z
LAST-MODIFIED:20240822T211303Z
UID:10008432-1725379200-1725379200@www.trailslibrary.org
SUMMARY:Well-Read Poet's Society - Odessa
DESCRIPTION:Ages 13+: Join us for a cup of tea as we discuss\, read\, and compose poetry.
URL:https://www.trailslibrary.org/event/well-read-poets-society-odessa-12/
LOCATION:Odessa Branch\, 107 W. Mason\, Odessa\, MO\, 64076\, United States
CATEGORIES:Adult,Adults,preteens,senior,Seniors,Teen,Teens,Youth
END:VEVENT
BEGIN:VEVENT
DTSTART;TZID=America/New_York:20240904T090000
DTEND;TZID=America/New_York:20240904T110000
DTSTAMP:20260422T203928
CREATED:20240822T193715Z
LAST-MODIFIED:20240822T193715Z
UID:10008197-1725440400-1725447600@www.trailslibrary.org
SUMMARY:Coffee & Connections - Warrensburg
DESCRIPTION:Ages 19+: Do you need help but don’t know where to go? Stop here\, have a cup of coffee and chat with representitives from MVCAA \, Compass Health and other local agencies.
URL:https://www.trailslibrary.org/event/coffee-connections-warrensburg-87/
LOCATION:Warrensburg Branch\, 432 N. Holden\, Warrensburg\, Missouri\, 64093\, United States
CATEGORIES:Adult,Adults,senior,Seniors
END:VEVENT
BEGIN:VEVENT
DTSTART;TZID=America/New_York:20240904T100000
DTEND;TZID=America/New_York:20240904T100000
DTSTAMP:20260422T203928
CREATED:20240822T192618Z
LAST-MODIFIED:20240822T192618Z
UID:10008167-1725444000-1725444000@www.trailslibrary.org
SUMMARY:Sassy Seniors - Waverly
DESCRIPTION:Ages 55+: Come and enjoy games\, trivia and more!
URL:https://www.trailslibrary.org/event/sassy-seniors-waverly-4/
LOCATION:Waverly Branch\, 203 E. Kelling\, Waverly\, MO\, 64096\, United States
CATEGORIES:senior,Seniors
END:VEVENT
BEGIN:VEVENT
DTSTART;TZID=America/New_York:20240904T150000
DTEND;TZID=America/New_York:20240904T180000
DTSTAMP:20260422T203928
CREATED:20240822T194705Z
LAST-MODIFIED:20240822T194705Z
UID:10008237-1725462000-1725472800@www.trailslibrary.org
SUMMARY:Libraries Got Game - Warrensburg
DESCRIPTION:All Ages: Get BOARD at the library with your family and friends! Fun and exciting board and XL games.
URL:https://www.trailslibrary.org/event/libraries-got-game-warrensburg-75/
LOCATION:Warrensburg Branch\, 432 N. Holden\, Warrensburg\, Missouri\, 64093\, United States
CATEGORIES:Adult,Adults,All Ages,Children,Family,Kids,preteens,senior,Seniors,Teen,Teens,Youth
END:VEVENT
BEGIN:VEVENT
DTSTART;TZID=America/New_York:20240904T170000
DTEND;TZID=America/New_York:20240904T180000
DTSTAMP:20260422T203928
CREATED:20240822T201725Z
LAST-MODIFIED:20240822T201725Z
UID:10008323-1725469200-1725472800@www.trailslibrary.org
SUMMARY:Zumba - Warrensburg
DESCRIPTION:Ages 19+: Join us for ZUMBA! Classes have upbeat music\, are designed to be fun\, with participants encouraged to move to the beat. Our Zumba classes are designed for suitable for ages 13+ and all fitness levels.  We will target areas such as the core\, legs\, and glutes.
URL:https://www.trailslibrary.org/event/zumba-warrensburg-4/
LOCATION:Warrensburg Branch\, 432 N. Holden\, Warrensburg\, Missouri\, 64093\, United States
CATEGORIES:Adult,Adults,preteens,senior,Seniors,Teen,Teens,Youth
END:VEVENT
BEGIN:VEVENT
DTSTART;TZID=America/New_York:20240906T093000
DTEND;TZID=America/New_York:20240906T100000
DTSTAMP:20260422T203928
CREATED:20240822T164036Z
LAST-MODIFIED:20240822T164036Z
UID:10007956-1725615000-1725616800@www.trailslibrary.org
SUMMARY:Yoga Fridays - Corder
DESCRIPTION:Ages 19+: Attention Beginner Yogis… if you are interested in learning yoga\, want to get back into it\, or just plain curious if it is right for you\, this is the class you need! Bring a yoga mat (we may have an extra one if you don’t have one) and a water bottle. Classes will be performed barefoot\, wear loose clothing or active wear yoga pants/leggings.
URL:https://www.trailslibrary.org/event/yoga-fridays-corder/
LOCATION:Corder Branch\, 221 N. Lafayette\, Corder\, MO\, 64021\, United States
CATEGORIES:Adult,Adults,senior,Seniors
END:VEVENT
BEGIN:VEVENT
DTSTART;TZID=America/New_York:20240907T110000
DTEND;TZID=America/New_York:20240907T110000
DTSTAMP:20260422T203928
CREATED:20240822T170610Z
LAST-MODIFIED:20240822T170610Z
UID:10007990-1725706800-1725706800@www.trailslibrary.org
SUMMARY:Family Movie Matinee - Holden
DESCRIPTION:All Ages: Come to the library and enjoy a family friendly movie.
URL:https://www.trailslibrary.org/event/family-movie-matinee-holden-5/
LOCATION:Holden Branch\, 207 S. Main\, Holden\, MO\, 64040\, United States
CATEGORIES:Adult,Adults,All Ages,Children,Family,Kids,Movie,preteens,senior,Seniors,Teen,Teens,Youth
END:VEVENT
BEGIN:VEVENT
DTSTART;TZID=America/New_York:20240907T110000
DTEND;TZID=America/New_York:20240907T130000
DTSTAMP:20260422T203928
CREATED:20240822T184026Z
LAST-MODIFIED:20240822T184026Z
UID:10008061-1725706800-1725714000@www.trailslibrary.org
SUMMARY:Saturday Cinema - Leeton
DESCRIPTION:All Ages: Join us on the first Saturday of the month at 11:00 AM for a family friendly movie. Bring a friend and a drink with a lid. We will provide the popcorn!
URL:https://www.trailslibrary.org/event/saturday-cinema-leeton-10/
LOCATION:Leeton Express Branch\, 500 N. Main\, Leeton\, MO\, 64761\, United States
CATEGORIES:Adult,Adults,All Ages,Children,Family,Kids,Movie,preteens,senior,Seniors,Teen,Teens,Youth
END:VEVENT
BEGIN:VEVENT
DTSTART;TZID=America/New_York:20240907T130000
DTEND;TZID=America/New_York:20240907T130000
DTSTAMP:20260422T203928
CREATED:20240822T211149Z
LAST-MODIFIED:20240822T211149Z
UID:10008411-1725714000-1725714000@www.trailslibrary.org
SUMMARY:Silent Book Club - Odessa
DESCRIPTION:Ages 19+: Share a space with people who love books that come together to chat about books and then silently read for an hour. Adults join fellow community readers for an informal and relaxed reading session!
URL:https://www.trailslibrary.org/event/silent-book-club-odessa-4/
LOCATION:Odessa Branch\, 107 W. Mason\, Odessa\, MO\, 64076\, United States
CATEGORIES:Adult,Adults,Book Club,senior,Seniors
END:VEVENT
BEGIN:VEVENT
DTSTART;TZID=America/New_York:20240909T173000
DTEND;TZID=America/New_York:20240909T183000
DTSTAMP:20260422T203928
CREATED:20240822T200024Z
LAST-MODIFIED:20240822T200024Z
UID:10008276-1725903000-1725906600@www.trailslibrary.org
SUMMARY:NovelTea - Warrensburg
DESCRIPTION:Ages 19+: Join us for a warm cup of tea\, an award winning book\, and great conversations.
URL:https://www.trailslibrary.org/event/noveltea-warrensburg-2/
LOCATION:Warrensburg Branch\, 432 N. Holden\, Warrensburg\, Missouri\, 64093\, United States
CATEGORIES:Adult,Adults,Book Club,senior,Seniors
END:VEVENT
BEGIN:VEVENT
DTSTART;TZID=America/New_York:20240910T100000
DTEND;TZID=America/New_York:20240910T100000
DTSTAMP:20260422T203928
CREATED:20240822T170234Z
LAST-MODIFIED:20240822T170234Z
UID:10007979-1725962400-1725962400@www.trailslibrary.org
SUMMARY:Coffee & Conversations - Holden
DESCRIPTION:Ages 19+: Come join the Trails Staff and members of the community for coffee and conversation.
URL:https://www.trailslibrary.org/event/coffee-conversations-holden-2/
LOCATION:Holden Branch\, 207 S. Main\, Holden\, MO\, 64040\, United States
CATEGORIES:Adult,Adults,senior,Seniors
END:VEVENT
BEGIN:VEVENT
DTSTART;TZID=America/New_York:20240910T133000
DTEND;TZID=America/New_York:20240910T143000
DTSTAMP:20260422T203928
CREATED:20240822T185707Z
LAST-MODIFIED:20240822T185707Z
UID:10008100-1725975000-1725978600@www.trailslibrary.org
SUMMARY:The Story of Rose Emmet Young: History Roundtable - Lexington
DESCRIPTION:Ages 19+: If you enjoy local history\, you won’t want to miss this presentation about Rose Emmet Young\, author and women’s suffrage advocate.
URL:https://www.trailslibrary.org/event/the-story-of-rose-emmet-young-history-roundtable-lexington/
LOCATION:Lexington Branch\, 1008 Main Street\, Lexington\, MO\, 64067\, United States
CATEGORIES:Adult,Adults,All Ages,Children,Family,Guest Speakers,Kids,preteens,senior,Seniors,Teen,Teens,Youth
END:VEVENT
BEGIN:VEVENT
DTSTART;TZID=America/New_York:20240910T150000
DTEND;TZID=America/New_York:20240910T150000
DTSTAMP:20260422T203928
CREATED:20240822T170609Z
LAST-MODIFIED:20240822T170609Z
UID:10007988-1725980400-1725980400@www.trailslibrary.org
SUMMARY:Fall Watercolor - Holden
DESCRIPTION:Ages 19+ REGISTRATION REQUIRED: Come and enjoy learning to make Fall Watercolor compositions with us.
URL:https://www.trailslibrary.org/event/fall-watercolor-holden-3/
LOCATION:Holden Branch\, 207 S. Main\, Holden\, MO\, 64040\, United States
CATEGORIES:Adult,Adults,Crafts,senior,Seniors
END:VEVENT
BEGIN:VEVENT
DTSTART;TZID=America/New_York:20240910T170000
DTEND;TZID=America/New_York:20240910T170000
DTSTAMP:20260422T203928
CREATED:20240822T211103Z
LAST-MODIFIED:20240822T211103Z
UID:10008392-1725987600-1725987600@www.trailslibrary.org
SUMMARY:Love is an Open Book Club - Odessa
DESCRIPTION:Ages 19+: join us for a genre specific book club and dive into the world of romance
URL:https://www.trailslibrary.org/event/love-is-an-open-book-club-odessa/
LOCATION:Odessa Branch\, 107 W. Mason\, Odessa\, MO\, 64076\, United States
CATEGORIES:Adult,Adults,Book Club,senior,Seniors
END:VEVENT
BEGIN:VEVENT
DTSTART;TZID=America/New_York:20240910T173000
DTEND;TZID=America/New_York:20240910T183000
DTSTAMP:20260422T203928
CREATED:20240822T195824Z
LAST-MODIFIED:20240822T195824Z
UID:10008272-1725989400-1725993000@www.trailslibrary.org
SUMMARY:Mysteries & Mayhem: A True Crime Podcast Discussion Group - Warrensburg
DESCRIPTION:Ages 19+: Are you an avid true crime podcast listener? Join fellow podcast enthusiasts at the library once a month to discuss the genre as we make our way through different shows. Like a book club but for podcasts\, you’ll listen to the assigned episodes for the month at home and then meet at the library to discuss the crime\, the podcast\, and everything in-between.
URL:https://www.trailslibrary.org/event/mysteries-mayhem-a-true-crime-podcast-discussion-group-warrensburg/
LOCATION:Warrensburg Branch\, 432 N. Holden\, Warrensburg\, Missouri\, 64093\, United States
CATEGORIES:Adult,Adults,senior,Seniors
END:VEVENT
BEGIN:VEVENT
DTSTART;TZID=America/New_York:20240911T150000
DTEND;TZID=America/New_York:20240911T180000
DTSTAMP:20260422T203928
CREATED:20240822T194706Z
LAST-MODIFIED:20240822T194706Z
UID:10008238-1726066800-1726077600@www.trailslibrary.org
SUMMARY:Libraries Got Game - Warrensburg
DESCRIPTION:All Ages: Get BOARD at the library with your family and friends! Fun and exciting board and XL games.
URL:https://www.trailslibrary.org/event/libraries-got-game-warrensburg-76/
LOCATION:Warrensburg Branch\, 432 N. Holden\, Warrensburg\, Missouri\, 64093\, United States
CATEGORIES:Adult,Adults,All Ages,Children,Family,Kids,preteens,senior,Seniors,Teen,Teens,Youth
END:VEVENT
BEGIN:VEVENT
DTSTART;TZID=America/New_York:20240911T173000
DTEND;TZID=America/New_York:20240911T183000
DTSTAMP:20260422T203928
CREATED:20240822T195150Z
LAST-MODIFIED:20240822T195150Z
UID:10008253-1726075800-1726079400@www.trailslibrary.org
SUMMARY:Local Author Talk with Nora Wolfenbarger - Warrensburg
DESCRIPTION:Ages 13+: Learn about the life of local author from ideation\, writing\, editing\, publishing\, and publicity.
URL:https://www.trailslibrary.org/event/local-author-talk-with-nora-wolfenbarger-warrensburg/
LOCATION:Warrensburg Branch\, 432 N. Holden\, Warrensburg\, Missouri\, 64093\, United States
CATEGORIES:Adult,Adults,Guest Speakers,preteens,senior,Seniors,Teen,Teens,Youth
END:VEVENT
BEGIN:VEVENT
DTSTART;TZID=America/New_York:20240912T140000
DTEND;TZID=America/New_York:20240912T150000
DTSTAMP:20260422T203928
CREATED:20240822T210402Z
LAST-MODIFIED:20240822T210402Z
UID:10008332-1726149600-1726153200@www.trailslibrary.org
SUMMARY:Easy\, Cheesy\, Delicious - Knob Noster
DESCRIPTION:Ages 19+ REGISTRATION REQUIRED: Learn a new skill: Easy cheese making! Watch as I demonstrate how to make cheese and taste the delicious product.
URL:https://www.trailslibrary.org/event/easy-cheesy-delicious-knob-noster/
LOCATION:Knob Noster Branch\, 202 N. Adams\, Knob Noster\, MO\, 65336\, United States
CATEGORIES:Adult,Adults,Crafts,senior,Seniors
END:VEVENT
BEGIN:VEVENT
DTSTART;TZID=America/New_York:20240913T093000
DTEND;TZID=America/New_York:20240913T100000
DTSTAMP:20260422T203928
CREATED:20240822T164037Z
LAST-MODIFIED:20240822T164037Z
UID:10007957-1726219800-1726221600@www.trailslibrary.org
SUMMARY:Yoga Fridays - Corder
DESCRIPTION:Ages 19+: Attention Beginner Yogis… if you are interested in learning yoga\, want to get back into it\, or just plain curious if it is right for you\, this is the class you need! Bring a yoga mat (we may have an extra one if you don’t have one) and a water bottle. Classes will be performed barefoot\, wear loose clothing or active wear yoga pants/leggings.
URL:https://www.trailslibrary.org/event/yoga-fridays-corder-2/
LOCATION:Corder Branch\, 221 N. Lafayette\, Corder\, MO\, 64021\, United States
CATEGORIES:Adult,Adults,senior,Seniors
END:VEVENT
BEGIN:VEVENT
DTSTART;TZID=America/New_York:20240914T100000
DTEND;TZID=America/New_York:20240914T110000
DTSTAMP:20260422T203928
CREATED:20240822T161429Z
LAST-MODIFIED:20240822T161429Z
UID:10007859-1726308000-1726311600@www.trailslibrary.org
SUMMARY:Cartoons & Pancakes - Concordia
DESCRIPTION:All Ages: It’s Second Saturday! Let’s enjoy pancakes and cartoons!
URL:https://www.trailslibrary.org/event/cartoons-pancakes-concordia-5/
LOCATION:Concordia Branch\, 813 S Main\, Concordia\, MO\, 64020\, United States
CATEGORIES:Adult,Adults,All Ages,Children,Family,Kids,Movie,preteens,senior,Seniors,Teen,Teens,Youth
END:VEVENT
BEGIN:VEVENT
DTSTART;TZID=America/New_York:20240914T100000
DTEND;TZID=America/New_York:20240914T230000
DTSTAMP:20260422T203928
CREATED:20240822T194051Z
LAST-MODIFIED:20240822T194051Z
UID:10008220-1726308000-1726354800@www.trailslibrary.org
SUMMARY:Cryptid Adventures with Lyle Blackburn - Warrensburg
DESCRIPTION:Ages 11+: Join a lively\, virtual discussion on cryptic creatures including Missouri’s own MOMO!
URL:https://www.trailslibrary.org/event/cryptid-adventures-with-lyle-blackburn-warrensburg/
LOCATION:Warrensburg Branch\, 432 N. Holden\, Warrensburg\, Missouri\, 64093\, United States
CATEGORIES:Adult,Adults,Children,Guest Speakers,Kids,preteens,senior,Seniors,Teen,Teens,Youth
END:VEVENT
BEGIN:VEVENT
DTSTART;TZID=America/New_York:20240914T140000
DTEND;TZID=America/New_York:20240914T163000
DTSTAMP:20260422T203928
CREATED:20240822T194306Z
LAST-MODIFIED:20240822T194306Z
UID:10008229-1726322400-1726331400@www.trailslibrary.org
SUMMARY:Legends & Librarians - Warrensburg
DESCRIPTION:Ages 19+: Welcome Adventurers! Join us for Dungeons & Dragons Onshots where we explore different realms\, fight monsters\, and gain new friends.
URL:https://www.trailslibrary.org/event/legends-librarians-warrensburg/
LOCATION:Warrensburg Branch\, 432 N. Holden\, Warrensburg\, Missouri\, 64093\, United States
CATEGORIES:Adult,Adults,senior,Seniors
END:VEVENT
BEGIN:VEVENT
DTSTART;TZID=America/New_York:20240916T103000
DTEND;TZID=America/New_York:20240916T113000
DTSTAMP:20260422T203928
CREATED:20240822T162222Z
LAST-MODIFIED:20240822T162222Z
UID:10007879-1726482600-1726486200@www.trailslibrary.org
SUMMARY:Book Club - Corder
DESCRIPTION:Ages 19+: Join us at the library for a lively discussion about this month’s book. It’s a great opportunity to share your thoughts and insights with fellow readers.
URL:https://www.trailslibrary.org/event/book-club-corder-15/
LOCATION:Corder Branch\, 221 N. Lafayette\, Corder\, MO\, 64021\, United States
CATEGORIES:Adult,Adults,Book Club,senior,Seniors
END:VEVENT
BEGIN:VEVENT
DTSTART;TZID=America/New_York:20240916T173000
DTEND;TZID=America/New_York:20240916T183000
DTSTAMP:20260422T203928
CREATED:20240822T194050Z
LAST-MODIFIED:20240822T194050Z
UID:10008216-1726507800-1726511400@www.trailslibrary.org
SUMMARY:Craftastic  - Warrensburg
DESCRIPTION:Ages 19+ REGISTRATION REQUIRED: Join us to make a mosaic stepping stone for your garden.
URL:https://www.trailslibrary.org/event/craftastic-warrensburg-15/
LOCATION:Warrensburg Branch\, 432 N. Holden\, Warrensburg\, Missouri\, 64093\, United States
CATEGORIES:Adult,Adults,Crafts,preteens,senior,Seniors,Teen,Teens,Youth
END:VEVENT
BEGIN:VEVENT
DTSTART;TZID=America/New_York:20240917T180000
DTEND;TZID=America/New_York:20240917T180000
DTSTAMP:20260422T203928
CREATED:20240822T211018Z
LAST-MODIFIED:20240822T211018Z
UID:10008379-1726596000-1726596000@www.trailslibrary.org
SUMMARY:Bunco - Odessa
DESCRIPTION:Ages 19+: Bunco\, library edition! All the fun without the having to pay. Whether you are new to the game or an avid player\, join us for the revelry and prizes.
URL:https://www.trailslibrary.org/event/bunco-odessa-4/
LOCATION:Odessa Branch\, 107 W. Mason\, Odessa\, MO\, 64076\, United States
CATEGORIES:Adult,Adults,senior,Seniors
END:VEVENT
BEGIN:VEVENT
DTSTART;TZID=America/New_York:20240918T090000
DTEND;TZID=America/New_York:20240918T110000
DTSTAMP:20260422T203928
CREATED:20240822T193715Z
LAST-MODIFIED:20240822T193715Z
UID:10008199-1726650000-1726657200@www.trailslibrary.org
SUMMARY:Coffee & Connections - Warrensburg
DESCRIPTION:Ages 19+: Do you need help but don’t know where to go? Stop here\, have a cup of coffee and chat with representitives from MVCAA \, Compass Health and other local agencies.
URL:https://www.trailslibrary.org/event/coffee-connections-warrensburg-89/
LOCATION:Warrensburg Branch\, 432 N. Holden\, Warrensburg\, Missouri\, 64093\, United States
CATEGORIES:Adult,Adults,senior,Seniors
END:VEVENT
BEGIN:VEVENT
DTSTART;TZID=America/New_York:20240918T150000
DTEND;TZID=America/New_York:20240918T180000
DTSTAMP:20260422T203928
CREATED:20240822T194706Z
LAST-MODIFIED:20240822T194706Z
UID:10008239-1726671600-1726682400@www.trailslibrary.org
SUMMARY:Libraries Got Game - Warrensburg
DESCRIPTION:All Ages: Get BOARD at the library with your family and friends! Fun and exciting board and XL games.
URL:https://www.trailslibrary.org/event/libraries-got-game-warrensburg-77/
LOCATION:Warrensburg Branch\, 432 N. Holden\, Warrensburg\, Missouri\, 64093\, United States
CATEGORIES:Adult,Adults,All Ages,Children,Family,Kids,preteens,senior,Seniors,Teen,Teens,Youth
END:VEVENT
BEGIN:VEVENT
DTSTART;TZID=America/New_York:20240918T170000
DTEND;TZID=America/New_York:20240918T180000
DTSTAMP:20260422T203928
CREATED:20240822T201726Z
LAST-MODIFIED:20240822T201726Z
UID:10008324-1726678800-1726682400@www.trailslibrary.org
SUMMARY:Zumba - Warrensburg
DESCRIPTION:Ages 19+: Join us for ZUMBA! Classes have upbeat music\, are designed to be fun\, with participants encouraged to move to the beat. Our Zumba classes are designed for suitable for ages 13+ and all fitness levels.  We will target areas such as the core\, legs\, and glutes.
URL:https://www.trailslibrary.org/event/zumba-warrensburg-5/
LOCATION:Warrensburg Branch\, 432 N. Holden\, Warrensburg\, Missouri\, 64093\, United States
CATEGORIES:Adult,Adults,preteens,senior,Seniors,Teen,Teens,Youth
END:VEVENT
BEGIN:VEVENT
DTSTART;TZID=America/New_York:20240919T170000
DTEND;TZID=America/New_York:20240919T170000
DTSTAMP:20260422T203928
CREATED:20240822T211016Z
LAST-MODIFIED:20240822T211016Z
UID:10008375-1726765200-1726765200@www.trailslibrary.org
SUMMARY:Book Lovers' Book Club - Odessa
DESCRIPTION:Ages 19+: Adult book club that meets once a month to discuss their book of choice. This month’s book of choice open for discussion is\, “Into the Water” by Paula Hawkins.
URL:https://www.trailslibrary.org/event/book-lovers-book-club-odessa-39/
LOCATION:Odessa Branch\, 107 W. Mason\, Odessa\, MO\, 64076\, United States
CATEGORIES:Adult,Adults,Book Club,senior,Seniors
END:VEVENT
END:VCALENDAR