BEGIN:VCALENDAR
VERSION:2.0
PRODID:-//Trails Regional Library - ECPv6.15.20//NONSGML v1.0//EN
CALSCALE:GREGORIAN
METHOD:PUBLISH
X-ORIGINAL-URL:https://www.trailslibrary.org
X-WR-CALDESC:Events for Trails Regional Library
REFRESH-INTERVAL;VALUE=DURATION:PT1H
X-Robots-Tag:noindex
X-PUBLISHED-TTL:PT1H
BEGIN:VTIMEZONE
TZID:America/New_York
BEGIN:DAYLIGHT
TZOFFSETFROM:-0500
TZOFFSETTO:-0400
TZNAME:EDT
DTSTART:20240310T070000
END:DAYLIGHT
BEGIN:STANDARD
TZOFFSETFROM:-0400
TZOFFSETTO:-0500
TZNAME:EST
DTSTART:20241103T060000
END:STANDARD
BEGIN:DAYLIGHT
TZOFFSETFROM:-0500
TZOFFSETTO:-0400
TZNAME:EDT
DTSTART:20250309T070000
END:DAYLIGHT
BEGIN:STANDARD
TZOFFSETFROM:-0400
TZOFFSETTO:-0500
TZNAME:EST
DTSTART:20251102T060000
END:STANDARD
BEGIN:DAYLIGHT
TZOFFSETFROM:-0500
TZOFFSETTO:-0400
TZNAME:EDT
DTSTART:20260308T070000
END:DAYLIGHT
BEGIN:STANDARD
TZOFFSETFROM:-0400
TZOFFSETTO:-0500
TZNAME:EST
DTSTART:20261101T060000
END:STANDARD
END:VTIMEZONE
BEGIN:VEVENT
DTSTART;TZID=America/New_York:20250401T100000
DTEND;TZID=America/New_York:20250401T100000
DTSTAMP:20260422T091952
CREATED:20250214T152234Z
LAST-MODIFIED:20250214T152234Z
UID:10008868-1743501600-1743501600@www.trailslibrary.org
SUMMARY:Computer Basics Support Hour - Knob Noster Branch
DESCRIPTION:Ages 55+: Join us for a supportive\, drop-in session where seniors can get help with any technology-related questions or challenges they’re facing. Whether you need assistance with a computer\, smartphone\, or navigating the internet\, our friendly library staff are here to help!
URL:https://www.trailslibrary.org/event/computer-basics-support-hour-knob-noster-branch-2/
LOCATION:Knob Noster Branch\, 202 N. Adams\, Knob Noster\, MO\, 65336\, United States
CATEGORIES:Adult,Adults,senior,Seniors,Technology
END:VEVENT
BEGIN:VEVENT
DTSTART;TZID=America/New_York:20250401T160000
DTEND;TZID=America/New_York:20250401T160000
DTSTAMP:20260422T091952
CREATED:20241217T183515Z
LAST-MODIFIED:20241217T183515Z
UID:10008725-1743523200-1743523200@www.trailslibrary.org
SUMMARY:Well-Read Poet's Society - Odessa Branch
DESCRIPTION:Ages 13+: Join us for a cup of tea as we discuss\, read\, and compose poetry.
URL:https://www.trailslibrary.org/event/well-read-poets-society-odessa-branch-4/
LOCATION:Odessa Branch\, 107 W. Mason\, Odessa\, MO\, 64076\, United States
CATEGORIES:Adult,Adults,Pre-Teen,Pre-Teens,senior,Seniors,Teen,Teens
END:VEVENT
BEGIN:VEVENT
DTSTART;TZID=America/New_York:20250402T100000
DTEND;TZID=America/New_York:20250402T100000
DTSTAMP:20260422T091952
CREATED:20241218T174041Z
LAST-MODIFIED:20241218T174041Z
UID:10008841-1743588000-1743588000@www.trailslibrary.org
SUMMARY:Sassy Seniors - Waverly Branch
DESCRIPTION:Ages 55+: Come and join us each month for games \, activities or just hang out.
URL:https://www.trailslibrary.org/event/sassy-seniors-waverly-branch-4/
LOCATION:Waverly Branch\, 203 E. Kelling\, Waverly\, MO\, 64096\, United States
CATEGORIES:senior,Seniors
END:VEVENT
BEGIN:VEVENT
DTSTART;TZID=America/New_York:20250403T180000
DTEND;TZID=America/New_York:20250403T180000
DTSTAMP:20260422T091952
CREATED:20241217T174731Z
LAST-MODIFIED:20241217T174731Z
UID:10008629-1743703200-1743703200@www.trailslibrary.org
SUMMARY:Bee Creative - Lexington Branch
DESCRIPTION:Ages 19+ REGISTRATION REQUIRED: Buzz by for a fun craft to kick start Spring!
URL:https://www.trailslibrary.org/event/bee-creative-lexington-branch/
LOCATION:Lexington Branch\, 1008 Main Street\, Lexington\, MO\, 64067\, United States
CATEGORIES:Adult,Adults,Crafts,senior,Seniors
END:VEVENT
BEGIN:VEVENT
DTSTART;TZID=America/New_York:20250404T093000
DTEND;TZID=America/New_York:20250404T093000
DTSTAMP:20260422T091952
CREATED:20241217T171651Z
LAST-MODIFIED:20241217T171651Z
UID:10008543-1743759000-1743759000@www.trailslibrary.org
SUMMARY:Yoga Fridays - Corder Branch
DESCRIPTION:Ages 19+: Join our gentle chair yoga class designed for all levels\, from beginners to those returning to practice. This supportive environment allows you to experience the benefits of yoga at your own pace\, enhancing your flexibility\, strength\, and relaxation.
URL:https://www.trailslibrary.org/event/yoga-fridays-corder-branch-14/
LOCATION:Corder Branch\, 221 N. Lafayette\, Corder\, MO\, 64021\, United States
CATEGORIES:Adult,Adults,senior,Seniors
END:VEVENT
BEGIN:VEVENT
DTSTART;TZID=America/New_York:20250405T110000
DTEND;TZID=America/New_York:20250405T110000
DTSTAMP:20260422T091952
CREATED:20241217T173058Z
LAST-MODIFIED:20241217T173058Z
UID:10008575-1743850800-1743850800@www.trailslibrary.org
SUMMARY:Family Movie Matinee - Holden Branch
DESCRIPTION:All Ages: Come to the library and enjoy a family friendly movie.
URL:https://www.trailslibrary.org/event/family-movie-matinee-holden-branch-4/
LOCATION:Holden Branch\, 207 S. Main\, Holden\, MO\, 64040\, United States
CATEGORIES:Adult,Adults,All Ages,Children,Family,Kids,Movie,preteens,senior,Seniors,Teen,Teens,Youth
END:VEVENT
BEGIN:VEVENT
DTSTART;TZID=America/New_York:20250405T130000
DTEND;TZID=America/New_York:20250405T130000
DTSTAMP:20260422T091952
CREATED:20250214T152249Z
LAST-MODIFIED:20250214T152249Z
UID:10008873-1743858000-1743858000@www.trailslibrary.org
SUMMARY:Card Crafter’s Workshop - Knob Noster Branch
DESCRIPTION:Ages 19+: Join us for a fun and relaxing card-making workshop where you can craft unique cards for any occasion! Whether it’s for birthdays\, thank-you notes\, or just a cheerful hello\, we’ll provide the materials—you bring the creativity.
URL:https://www.trailslibrary.org/event/card-crafters-workshop-knob-noster-branch/
LOCATION:Knob Noster Branch\, 202 N. Adams\, Knob Noster\, MO\, 65336\, United States
CATEGORIES:Adult,Adults,Crafts,senior,Seniors
END:VEVENT
BEGIN:VEVENT
DTSTART;TZID=America/New_York:20250405T140000
DTEND;TZID=America/New_York:20250405T140000
DTSTAMP:20260422T091952
CREATED:20241217T175831Z
LAST-MODIFIED:20250128T154056Z
UID:10008671-1743861600-1743861600@www.trailslibrary.org
SUMMARY:Bunco - Odessa Branch
DESCRIPTION:Ages 19+: Bunco\, library edition! All the fun without the having to pay. Whether you are new to the game or an avid player\, join us for the revelry and prizes.
URL:https://www.trailslibrary.org/event/bunco-odessa-branch-2/
LOCATION:Odessa Branch\, 107 W. Mason\, Odessa\, MO\, 64076\, United States
CATEGORIES:Adult,Adults,senior,Seniors
END:VEVENT
BEGIN:VEVENT
DTSTART;TZID=America/New_York:20250408T100000
DTEND;TZID=America/New_York:20250408T100000
DTSTAMP:20260422T091952
CREATED:20241217T172656Z
LAST-MODIFIED:20241217T172656Z
UID:10008562-1744106400-1744106400@www.trailslibrary.org
SUMMARY:Coffee & Conversations - Holden Branch
DESCRIPTION:Ages 19+: Come join the Trails Staff and members of the community for coffee and conversation.
URL:https://www.trailslibrary.org/event/coffee-conversations-holden-branch-6/
LOCATION:Holden Branch\, 207 S. Main\, Holden\, MO\, 64040\, United States
CATEGORIES:Adult,Adults,senior,Seniors
END:VEVENT
BEGIN:VEVENT
DTSTART;TZID=America/New_York:20250408T150000
DTEND;TZID=America/New_York:20250408T150000
DTSTAMP:20260422T091952
CREATED:20241217T173258Z
LAST-MODIFIED:20241217T173258Z
UID:10008578-1744124400-1744124400@www.trailslibrary.org
SUMMARY:Oval Floral Ceramic Painting - Holden Branch
DESCRIPTION:Ages 19+ REGISTRATION REQUIRED: Come paint three dimensional oval floral ceramic wall plaques with us.
URL:https://www.trailslibrary.org/event/oval-floral-ceramic-painting-holden-branch/
LOCATION:Holden Branch\, 207 S. Main\, Holden\, MO\, 64040\, United States
CATEGORIES:Adult,Adults,Crafts,senior,Seniors
END:VEVENT
BEGIN:VEVENT
DTSTART;TZID=America/New_York:20250408T150000
DTEND;TZID=America/New_York:20250408T150000
DTSTAMP:20260422T091952
CREATED:20241217T175349Z
LAST-MODIFIED:20241217T175349Z
UID:10008653-1744124400-1744124400@www.trailslibrary.org
SUMMARY:Tech Tuesday - Lexington Branch
DESCRIPTION:Ages 19+: Beginner’s Class for adults looking to troubleshoot through everyday devices\, such as smart phones\, laptops\, iPads\, and more! Bring your own device!
URL:https://www.trailslibrary.org/event/tech-tuesday-lexington-branch-3/
LOCATION:Lexington Branch\, 1008 Main Street\, Lexington\, MO\, 64067\, United States
CATEGORIES:Adult,Adults,senior,Seniors,Technology
END:VEVENT
BEGIN:VEVENT
DTSTART;TZID=America/New_York:20250408T170000
DTEND;TZID=America/New_York:20250408T170000
DTSTAMP:20260422T091952
CREATED:20241217T180325Z
LAST-MODIFIED:20241217T180325Z
UID:10008689-1744131600-1744131600@www.trailslibrary.org
SUMMARY:Love is an Open Book Club - Odessa Branch
DESCRIPTION:Ages 19+: Join us for a genre specific book club and dive into the world of romance.
URL:https://www.trailslibrary.org/event/love-is-an-open-book-club-odessa-branch-4/
LOCATION:Odessa Branch\, 107 W. Mason\, Odessa\, MO\, 64076\, United States
CATEGORIES:Adult,Adults,Book Club,senior,Seniors
END:VEVENT
BEGIN:VEVENT
DTSTART;TZID=America/New_York:20250409T140000
DTEND;TZID=America/New_York:20250409T140000
DTSTAMP:20260422T091952
CREATED:20241217T184453Z
LAST-MODIFIED:20241217T184453Z
UID:10008769-1744207200-1744207200@www.trailslibrary.org
SUMMARY:Game On! - Warrensburg Branch
DESCRIPTION:All Ages: Bring a friend or a parent and join us for a fun-filled game day at the library! Enjoy oversized yard games\, plus a variety of board and card games for all ages.
URL:https://www.trailslibrary.org/event/game-on-warrensburg-branch-8/
LOCATION:Warrensburg Branch\, 432 N. Holden\, Warrensburg\, Missouri\, 64093\, United States
CATEGORIES:Adult,Adults,All Ages,Children,Family,Kids,preteens,senior,Seniors,Teen,Teens,Youth
END:VEVENT
BEGIN:VEVENT
DTSTART;TZID=America/New_York:20250410T140000
DTEND;TZID=America/New_York:20250410T140000
DTSTAMP:20260422T091952
CREATED:20241217T184033Z
LAST-MODIFIED:20241217T184033Z
UID:10008751-1744293600-1744293600@www.trailslibrary.org
SUMMARY:Crafternoon - Warrensburg Branch
DESCRIPTION:Ages 19+: Join us for Crafternoon—a perfect blend of crafting and conversation! Bring a project you’re working on or enjoy our adult coloring supplies while you chat\, relax\, and connect with fellow crafters. Whether you’re here to craft or just socialize\, everyone is welcome!
URL:https://www.trailslibrary.org/event/crafternoon-warrensburg-branch-4/
LOCATION:Warrensburg Branch\, 432 N. Holden\, Warrensburg\, Missouri\, 64093\, United States
CATEGORIES:Adult,Adults,Crafts,senior,Seniors
END:VEVENT
BEGIN:VEVENT
DTSTART;TZID=America/New_York:20250410T150000
DTEND;TZID=America/New_York:20250410T150000
DTSTAMP:20260422T091952
CREATED:20241217T172857Z
LAST-MODIFIED:20241217T172857Z
UID:10008570-1744297200-1744297200@www.trailslibrary.org
SUMMARY:Dungeons & Dragons Club - Holden Branch
DESCRIPTION:Ages 13+ REGISTRATION REQUIRED: Come play Dungeons and Dragons with us.
URL:https://www.trailslibrary.org/event/dungeons-dragons-club-holden-branch-7/
LOCATION:Holden Branch\, 207 S. Main\, Holden\, MO\, 64040\, United States
CATEGORIES:Adult,Adults,Pre-Teen,Pre-Teens,senior,Seniors,Teen,Teens
END:VEVENT
BEGIN:VEVENT
DTSTART;TZID=America/New_York:20250411T093000
DTEND;TZID=America/New_York:20250411T093000
DTSTAMP:20260422T091952
CREATED:20241217T171709Z
LAST-MODIFIED:20241217T171709Z
UID:10008544-1744363800-1744363800@www.trailslibrary.org
SUMMARY:Yoga Fridays - Corder Branch
DESCRIPTION:Ages 19+: Join our gentle chair yoga class designed for all levels\, from beginners to those returning to practice. This supportive environment allows you to experience the benefits of yoga at your own pace\, enhancing your flexibility\, strength\, and relaxation.
URL:https://www.trailslibrary.org/event/yoga-fridays-corder-branch-15/
LOCATION:Corder Branch\, 221 N. Lafayette\, Corder\, MO\, 64021\, United States
CATEGORIES:Adult,Adults,senior,Seniors
END:VEVENT
BEGIN:VEVENT
DTSTART;TZID=America/New_York:20250412T100000
DTEND;TZID=America/New_York:20250412T100000
DTSTAMP:20260422T091952
CREATED:20241217T164948Z
LAST-MODIFIED:20241217T164948Z
UID:10008462-1744452000-1744452000@www.trailslibrary.org
SUMMARY:Cartoons & Pancakes - Concordia Branch
DESCRIPTION:All Ages: It’s Second Saturday! Let’s enjoy pancakes and cartoons!
URL:https://www.trailslibrary.org/event/cartoons-pancakes-concordia-branch-4/
LOCATION:Concordia Branch\, 813 S Main\, Concordia\, MO\, 64020\, United States
CATEGORIES:Adult,Adults,All Ages,Children,Family,Kids,Movie,preteens,senior,Seniors,Teen,Teens,Youth
END:VEVENT
BEGIN:VEVENT
DTSTART;TZID=America/New_York:20250412T103000
DTEND;TZID=America/New_York:20250412T103000
DTSTAMP:20260422T091952
CREATED:20241217T165818Z
LAST-MODIFIED:20241217T165818Z
UID:10008489-1744453800-1744453800@www.trailslibrary.org
SUMMARY:Book Club - Corder Branch
DESCRIPTION:Ages 19+: Join us at the library for a lively discussion about this month’s book. It’s a great opportunity to share your thoughts and insights with fellow readers.
URL:https://www.trailslibrary.org/event/book-club-corder-branch-7/
LOCATION:Corder Branch\, 221 N. Lafayette\, Corder\, MO\, 64021\, United States
CATEGORIES:Adult,Adults,Book Club,senior,Seniors
END:VEVENT
BEGIN:VEVENT
DTSTART;TZID=America/New_York:20250414T103000
DTEND;TZID=America/New_York:20250414T103000
DTSTAMP:20260422T091952
CREATED:20241217T165818Z
LAST-MODIFIED:20241217T165818Z
UID:10008490-1744626600-1744626600@www.trailslibrary.org
SUMMARY:Book Club - Corder Branch
DESCRIPTION:Ages 19+: Join us at the library for a lively discussion about this month’s book. It’s a great opportunity to share your thoughts and insights with fellow readers.
URL:https://www.trailslibrary.org/event/book-club-corder-branch-8/
LOCATION:Corder Branch\, 221 N. Lafayette\, Corder\, MO\, 64021\, United States
CATEGORIES:Adult,Adults,Book Club,senior,Seniors
END:VEVENT
BEGIN:VEVENT
DTSTART;TZID=America/New_York:20250414T163000
DTEND;TZID=America/New_York:20250414T163000
DTSTAMP:20260422T091952
CREATED:20241217T164330Z
LAST-MODIFIED:20241217T164330Z
UID:10008438-1744648200-1744648200@www.trailslibrary.org
SUMMARY:Bake Club - Concordia Branch
DESCRIPTION:Ages 19+: Join us for a fun cooking demo. It’s not your usual recipe!
URL:https://www.trailslibrary.org/event/bake-club-concordia-branch-3/
LOCATION:Concordia Branch\, 813 S Main\, Concordia\, MO\, 64020\, United States
CATEGORIES:Adult,Adults,senior,Seniors
END:VEVENT
BEGIN:VEVENT
DTSTART;TZID=America/New_York:20250414T173000
DTEND;TZID=America/New_York:20250414T173000
DTSTAMP:20260422T091952
CREATED:20241217T185203Z
LAST-MODIFIED:20241217T185203Z
UID:10008793-1744651800-1744651800@www.trailslibrary.org
SUMMARY:NovelTea - Warrensburg Branch
DESCRIPTION:Ages 19+: Join us for a warm cup of tea\, an award winning book\, and great conversations This month’s pick is The Other Einstein by Marie Benedict.
URL:https://www.trailslibrary.org/event/noveltea-warrensburg-branch-3/
LOCATION:Warrensburg Branch\, 432 N. Holden\, Warrensburg\, Missouri\, 64093\, United States
CATEGORIES:Adult,Adults,Book Club,senior,Seniors
END:VEVENT
BEGIN:VEVENT
DTSTART;TZID=America/New_York:20250416T170000
DTEND;TZID=America/New_York:20250416T170000
DTSTAMP:20260422T091952
CREATED:20241217T183736Z
LAST-MODIFIED:20241217T183736Z
UID:10008736-1744822800-1744822800@www.trailslibrary.org
SUMMARY:BUNCO - Warrensburg Branch
DESCRIPTION:Ages 19+: Join the fun and excitement of Bunco at the Library—everyone’s welcome\, no experience needed!
URL:https://www.trailslibrary.org/event/bunco-warrensburg-branch/
LOCATION:Warrensburg Branch\, 432 N. Holden\, Warrensburg\, Missouri\, 64093\, United States
CATEGORIES:Adult,Adults,senior,Seniors
END:VEVENT
BEGIN:VEVENT
DTSTART;TZID=America/New_York:20250417T150000
DTEND;TZID=America/New_York:20250417T150000
DTSTAMP:20260422T091952
CREATED:20241217T172640Z
LAST-MODIFIED:20241217T172640Z
UID:10008556-1744902000-1744902000@www.trailslibrary.org
SUMMARY:Chess Club - Holden Branch
DESCRIPTION:Ages 13+ REGISTRATION REQUIRED: Come play Chess with us at the library. All skill levels welcome.
URL:https://www.trailslibrary.org/event/chess-club-holden-branch-4/
LOCATION:Holden Branch\, 207 S. Main\, Holden\, MO\, 64040\, United States
CATEGORIES:Adult,Adults,Pre-Teen,Pre-Teens,senior,Seniors,Teen,Teens
END:VEVENT
BEGIN:VEVENT
DTSTART;TZID=America/New_York:20250417T170000
DTEND;TZID=America/New_York:20250417T170000
DTSTAMP:20260422T091952
CREATED:20241217T175816Z
LAST-MODIFIED:20241217T175816Z
UID:10008668-1744909200-1744909200@www.trailslibrary.org
SUMMARY:Book Lovers' Book Club - Odessa Branch
DESCRIPTION:Ages 19+: Adult book club that meets once a month to discuss their book of choice. This month’s book of choice open for discussion is\, ” The Life List” by Lori Nelson Spielman.
URL:https://www.trailslibrary.org/event/book-lovers-book-club-odessa-branch-5/
LOCATION:Odessa Branch\, 107 W. Mason\, Odessa\, MO\, 64076\, United States
CATEGORIES:Adult,Adults,Book Club,senior,Seniors
END:VEVENT
BEGIN:VEVENT
DTSTART;TZID=America/New_York:20250418T093000
DTEND;TZID=America/New_York:20250418T093000
DTSTAMP:20260422T091952
CREATED:20241217T171709Z
LAST-MODIFIED:20241217T171709Z
UID:10008545-1744968600-1744968600@www.trailslibrary.org
SUMMARY:Yoga Fridays - Corder Branch
DESCRIPTION:Ages 19+: Join our gentle chair yoga class designed for all levels\, from beginners to those returning to practice. This supportive environment allows you to experience the benefits of yoga at your own pace\, enhancing your flexibility\, strength\, and relaxation.
URL:https://www.trailslibrary.org/event/yoga-fridays-corder-branch-16/
LOCATION:Corder Branch\, 221 N. Lafayette\, Corder\, MO\, 64021\, United States
CATEGORIES:Adult,Adults,senior,Seniors
END:VEVENT
BEGIN:VEVENT
DTSTART;TZID=America/New_York:20250418T140000
DTEND;TZID=America/New_York:20250418T140000
DTSTAMP:20260422T091952
CREATED:20241218T174039Z
LAST-MODIFIED:20241218T174039Z
UID:10008836-1744984800-1744984800@www.trailslibrary.org
SUMMARY:Family Movie Matinee - Waverly Branch
DESCRIPTION:All Ages: No reservations needed. Blanket and pillows welcome! Light snacks provided.
URL:https://www.trailslibrary.org/event/family-movie-matinee-waverly-branch-2/
LOCATION:Waverly Branch\, 203 E. Kelling\, Waverly\, MO\, 64096\, United States
CATEGORIES:Adult,Adults,All Ages,Children,Family,Kids,Movie,preteens,senior,Seniors,Teen,Teens,Youth
END:VEVENT
BEGIN:VEVENT
DTSTART;TZID=America/New_York:20250421T173000
DTEND;TZID=America/New_York:20250421T173000
DTSTAMP:20260422T091952
CREATED:20241217T183841Z
LAST-MODIFIED:20241217T183841Z
UID:10008747-1745256600-1745256600@www.trailslibrary.org
SUMMARY:Craftastic - Warrensburg Branch
DESCRIPTION:Ages 19+ REGISTRATION REQUIRED: Join guest artist Hollie B and create a unique painting on a vinyl record! All materials will be provided\, so bring your creativity and enjoy crafting with others.
URL:https://www.trailslibrary.org/event/craftastic-warrensburg-branch-4/
LOCATION:Warrensburg Branch\, 432 N. Holden\, Warrensburg\, Missouri\, 64093\, United States
CATEGORIES:Adult,Adults,Crafts,senior,Seniors
END:VEVENT
BEGIN:VEVENT
DTSTART;TZID=America/New_York:20250422T100000
DTEND;TZID=America/New_York:20250422T100000
DTSTAMP:20260422T091952
CREATED:20241217T172656Z
LAST-MODIFIED:20241217T172656Z
UID:10008563-1745316000-1745316000@www.trailslibrary.org
SUMMARY:Coffee & Conversations - Holden Branch
DESCRIPTION:Ages 19+: Come join the Trails Staff and members of the community for coffee and conversation.
URL:https://www.trailslibrary.org/event/coffee-conversations-holden-branch-7/
LOCATION:Holden Branch\, 207 S. Main\, Holden\, MO\, 64040\, United States
CATEGORIES:Adult,Adults,senior,Seniors
END:VEVENT
BEGIN:VEVENT
DTSTART;TZID=America/New_York:20250422T150000
DTEND;TZID=America/New_York:20250422T150000
DTSTAMP:20260422T091952
CREATED:20241217T174257Z
LAST-MODIFIED:20241217T174257Z
UID:10008604-1745334000-1745334000@www.trailslibrary.org
SUMMARY:Zentangle - Holden Branch
DESCRIPTION:All Ages REGISTRATION REQUIRED: Come learn the art of creating beautiful Zentangle designs.
URL:https://www.trailslibrary.org/event/zentangle-holden-branch/
LOCATION:Holden Branch\, 207 S. Main\, Holden\, MO\, 64040\, United States
CATEGORIES:Adult,Adults,All Ages,Children,Crafts,Family,Kids,preteens,senior,Seniors,Teen,Teens,Youth
END:VEVENT
BEGIN:VEVENT
DTSTART;TZID=America/New_York:20250422T170000
DTEND;TZID=America/New_York:20250422T170000
DTSTAMP:20260422T091952
CREATED:20241217T174539Z
LAST-MODIFIED:20250214T152217Z
UID:10008608-1745341200-1745341200@www.trailslibrary.org
SUMMARY:Book Club - Knob Noster Branch
DESCRIPTION:Ages 19+: Join us for the monthly book discussion.
URL:https://www.trailslibrary.org/event/book-club-knob-noster-branch-4/
LOCATION:Knob Noster Branch\, 202 N. Adams\, Knob Noster\, MO\, 65336\, United States
CATEGORIES:Adult,Adults,Book Club,senior,Seniors
END:VEVENT
END:VCALENDAR