BEGIN:VCALENDAR
VERSION:2.0
PRODID:-//Trails Regional Library - ECPv6.15.20//NONSGML v1.0//EN
CALSCALE:GREGORIAN
METHOD:PUBLISH
X-WR-CALNAME:Trails Regional Library
X-ORIGINAL-URL:https://www.trailslibrary.org
X-WR-CALDESC:Events for Trails Regional Library
REFRESH-INTERVAL;VALUE=DURATION:PT1H
X-Robots-Tag:noindex
X-PUBLISHED-TTL:PT1H
BEGIN:VTIMEZONE
TZID:America/New_York
BEGIN:DAYLIGHT
TZOFFSETFROM:-0500
TZOFFSETTO:-0400
TZNAME:EDT
DTSTART:20230312T070000
END:DAYLIGHT
BEGIN:STANDARD
TZOFFSETFROM:-0400
TZOFFSETTO:-0500
TZNAME:EST
DTSTART:20231105T060000
END:STANDARD
BEGIN:DAYLIGHT
TZOFFSETFROM:-0500
TZOFFSETTO:-0400
TZNAME:EDT
DTSTART:20240310T070000
END:DAYLIGHT
BEGIN:STANDARD
TZOFFSETFROM:-0400
TZOFFSETTO:-0500
TZNAME:EST
DTSTART:20241103T060000
END:STANDARD
BEGIN:DAYLIGHT
TZOFFSETFROM:-0500
TZOFFSETTO:-0400
TZNAME:EDT
DTSTART:20250309T070000
END:DAYLIGHT
BEGIN:STANDARD
TZOFFSETFROM:-0400
TZOFFSETTO:-0500
TZNAME:EST
DTSTART:20251102T060000
END:STANDARD
END:VTIMEZONE
BEGIN:VEVENT
DTSTART;TZID=America/New_York:20240928T100000
DTEND;TZID=America/New_York:20240928T110000
DTSTAMP:20260422T223009
CREATED:20240822T194050Z
LAST-MODIFIED:20240822T194050Z
UID:10008217-1727517600-1727521200@www.trailslibrary.org
SUMMARY:Crafty Family Fun - Warrensburg
DESCRIPTION:All Ages: Join us to make a fun craft.
URL:https://www.trailslibrary.org/event/crafty-family-fun-warrensburg-6/
LOCATION:Warrensburg Branch\, 432 N. Holden\, Warrensburg\, Missouri\, 64093\, United States
CATEGORIES:Adult,Adults,Crafts,senior,Seniors
END:VEVENT
BEGIN:VEVENT
DTSTART;TZID=America/New_York:20240928T100000
DTEND;TZID=America/New_York:20240928T230000
DTSTAMP:20260422T223009
CREATED:20240822T211048Z
LAST-MODIFIED:20240822T211048Z
UID:10008389-1727517600-1727564400@www.trailslibrary.org
SUMMARY:Genealogy 101 - Odessa
DESCRIPTION:Ages 19+: Join us as Daughters of the American Revolution share the basis information to help you find your roots.
URL:https://www.trailslibrary.org/event/genealogy-101-odessa/
LOCATION:Odessa Branch\, 107 W. Mason\, Odessa\, MO\, 64076\, United States
CATEGORIES:Adult,Adults,Guest Presenter,senior,Seniors
END:VEVENT
BEGIN:VEVENT
DTSTART;TZID=America/New_York:20240928T120000
DTEND;TZID=America/New_York:20240928T140000
DTSTAMP:20260422T223009
CREATED:20240822T193657Z
LAST-MODIFIED:20240822T193657Z
UID:10008186-1727524800-1727532000@www.trailslibrary.org
SUMMARY:Anime Otaku: Adults - Warrensburg
DESCRIPTION:Ages 19+: Join us as we meet fellow adults with similar interest in anime and manga. Make new friends as we discuss our favorite series and watch anime!
URL:https://www.trailslibrary.org/event/anime-otaku-adults-warrensburg/
LOCATION:Warrensburg Branch\, 432 N. Holden\, Warrensburg\, Missouri\, 64093\, United States
CATEGORIES:Adult,Adults,senior,Seniors
END:VEVENT
BEGIN:VEVENT
DTSTART;TZID=America/New_York:20240928T140000
DTEND;TZID=America/New_York:20240928T163000
DTSTAMP:20260422T223009
CREATED:20240822T194306Z
LAST-MODIFIED:20240822T194306Z
UID:10008230-1727532000-1727541000@www.trailslibrary.org
SUMMARY:Legends & Librarians - Warrensburg
DESCRIPTION:Ages 19+: Welcome Adventurers! Join us for Dungeons & Dragons Onshots where we explore different realms\, fight monsters\, and gain new friends.
URL:https://www.trailslibrary.org/event/legends-librarians-warrensburg-2/
LOCATION:Warrensburg Branch\, 432 N. Holden\, Warrensburg\, Missouri\, 64093\, United States
CATEGORIES:Adult,Adults,senior,Seniors
END:VEVENT
END:VCALENDAR