BEGIN:VCALENDAR
VERSION:2.0
PRODID:-//Trails Regional Library - ECPv6.15.20//NONSGML v1.0//EN
CALSCALE:GREGORIAN
METHOD:PUBLISH
X-ORIGINAL-URL:https://www.trailslibrary.org
X-WR-CALDESC:Events for Trails Regional Library
REFRESH-INTERVAL;VALUE=DURATION:PT1H
X-Robots-Tag:noindex
X-PUBLISHED-TTL:PT1H
BEGIN:VTIMEZONE
TZID:America/New_York
BEGIN:DAYLIGHT
TZOFFSETFROM:-0500
TZOFFSETTO:-0400
TZNAME:EDT
DTSTART:20230312T070000
END:DAYLIGHT
BEGIN:STANDARD
TZOFFSETFROM:-0400
TZOFFSETTO:-0500
TZNAME:EST
DTSTART:20231105T060000
END:STANDARD
BEGIN:DAYLIGHT
TZOFFSETFROM:-0500
TZOFFSETTO:-0400
TZNAME:EDT
DTSTART:20240310T070000
END:DAYLIGHT
BEGIN:STANDARD
TZOFFSETFROM:-0400
TZOFFSETTO:-0500
TZNAME:EST
DTSTART:20241103T060000
END:STANDARD
BEGIN:DAYLIGHT
TZOFFSETFROM:-0500
TZOFFSETTO:-0400
TZNAME:EDT
DTSTART:20250309T070000
END:DAYLIGHT
BEGIN:STANDARD
TZOFFSETFROM:-0400
TZOFFSETTO:-0500
TZNAME:EST
DTSTART:20251102T060000
END:STANDARD
END:VTIMEZONE
BEGIN:VEVENT
DTSTART;TZID=America/New_York:20241022T100000
DTEND;TZID=America/New_York:20241022T100000
DTSTAMP:20260422T204124
CREATED:20240822T170435Z
LAST-MODIFIED:20240822T170435Z
UID:10007982-1729591200-1729591200@www.trailslibrary.org
SUMMARY:Coffee & Conversations - Holden
DESCRIPTION:Ages 19+: Come join the Trails Staff and members of the community for coffee and conversation.
URL:https://www.trailslibrary.org/event/coffee-conversations-holden-15/
LOCATION:Holden Branch\, 207 S. Main\, Holden\, MO\, 64040\, United States
CATEGORIES:Adult,Adults,senior,Seniors
END:VEVENT
BEGIN:VEVENT
DTSTART;TZID=America/New_York:20241022T150000
DTEND;TZID=America/New_York:20241022T150000
DTSTAMP:20260422T204124
CREATED:20240822T170231Z
LAST-MODIFIED:20240822T170231Z
UID:10007972-1729609200-1729609200@www.trailslibrary.org
SUMMARY:Art Club: Learn to Draw Scary Stuff - Holden
DESCRIPTION:Ages 8+ REGISTRATION REQUIRED: Come draw bats\, cats\, skulls\, snakes\, etc. This is a learn to draw sketch class.
URL:https://www.trailslibrary.org/event/art-club-learn-to-draw-scary-stuff-holden/
LOCATION:Holden Branch\, 207 S. Main\, Holden\, MO\, 64040\, United States
CATEGORIES:Adult,Adults,Children,Crafts,Kids,preteens,senior,Seniors,Teen,Teens,Youth
END:VEVENT
BEGIN:VEVENT
DTSTART;TZID=America/New_York:20241022T170000
DTEND;TZID=America/New_York:20241022T170000
DTSTAMP:20260422T204124
CREATED:20240822T211015Z
LAST-MODIFIED:20240822T211015Z
UID:10008373-1729616400-1729616400@www.trailslibrary.org
SUMMARY:Ani-manga Collective - Odessa
DESCRIPTION:Ages 19+: Whether you love anime and manga\, or just want to see what the hype is about\, feel free to come discuss and watch some classic and popular series!
URL:https://www.trailslibrary.org/event/ani-manga-collective-odessa/
LOCATION:Odessa Branch\, 107 W. Mason\, Odessa\, MO\, 64076\, United States
CATEGORIES:Adult,Adults,senior,Seniors
END:VEVENT
BEGIN:VEVENT
DTSTART;TZID=America/New_York:20241022T170000
DTEND;TZID=America/New_York:20241022T180000
DTSTAMP:20260422T204124
CREATED:20240822T210505Z
LAST-MODIFIED:20240822T210505Z
UID:10008354-1729616400-1729620000@www.trailslibrary.org
SUMMARY:Knoshin' Knobbies Book Club - Knob Noster
DESCRIPTION:Ages 19+: Join us on the fourth Tuesday evening for a lively discussion of our monthly book and to pick next month’s book. Snacks are welcome. We devour books and food!
URL:https://www.trailslibrary.org/event/knoshin-knobbies-book-club-knob-noster-5/
LOCATION:Knob Noster Branch\, 202 N. Adams\, Knob Noster\, MO\, 65336\, United States
CATEGORIES:Adult,Adults,Book Club,senior,Seniors
END:VEVENT
END:VCALENDAR