BEGIN:VCALENDAR
VERSION:2.0
PRODID:-//Trails Regional Library - ECPv6.15.20//NONSGML v1.0//EN
CALSCALE:GREGORIAN
METHOD:PUBLISH
X-WR-CALNAME:Trails Regional Library
X-ORIGINAL-URL:https://www.trailslibrary.org
X-WR-CALDESC:Events for Trails Regional Library
REFRESH-INTERVAL;VALUE=DURATION:PT1H
X-Robots-Tag:noindex
X-PUBLISHED-TTL:PT1H
BEGIN:VTIMEZONE
TZID:America/New_York
BEGIN:DAYLIGHT
TZOFFSETFROM:-0500
TZOFFSETTO:-0400
TZNAME:EDT
DTSTART:20230312T070000
END:DAYLIGHT
BEGIN:STANDARD
TZOFFSETFROM:-0400
TZOFFSETTO:-0500
TZNAME:EST
DTSTART:20231105T060000
END:STANDARD
BEGIN:DAYLIGHT
TZOFFSETFROM:-0500
TZOFFSETTO:-0400
TZNAME:EDT
DTSTART:20240310T070000
END:DAYLIGHT
BEGIN:STANDARD
TZOFFSETFROM:-0400
TZOFFSETTO:-0500
TZNAME:EST
DTSTART:20241103T060000
END:STANDARD
BEGIN:DAYLIGHT
TZOFFSETFROM:-0500
TZOFFSETTO:-0400
TZNAME:EDT
DTSTART:20250309T070000
END:DAYLIGHT
BEGIN:STANDARD
TZOFFSETFROM:-0400
TZOFFSETTO:-0500
TZNAME:EST
DTSTART:20251102T060000
END:STANDARD
END:VTIMEZONE
BEGIN:VEVENT
DTSTART;TZID=America/New_York:20241023T090000
DTEND;TZID=America/New_York:20241023T110000
DTSTAMP:20260422T204037
CREATED:20240822T193916Z
LAST-MODIFIED:20240822T193916Z
UID:10008204-1729674000-1729681200@www.trailslibrary.org
SUMMARY:Coffee & Connections - Warrensburg
DESCRIPTION:Ages 19+: Do you need help but don’t know where to go? Stop here\, have a cup of coffee and chat with representitives from MVCAA \, Compass Health and other local agencies.
URL:https://www.trailslibrary.org/event/coffee-connections-warrensburg-94/
LOCATION:Warrensburg Branch\, 432 N. Holden\, Warrensburg\, Missouri\, 64093\, United States
CATEGORIES:Adult,Adults,senior,Seniors
END:VEVENT
BEGIN:VEVENT
DTSTART;TZID=America/New_York:20241023T150000
DTEND;TZID=America/New_York:20241023T180000
DTSTAMP:20260422T204037
CREATED:20240822T194851Z
LAST-MODIFIED:20240822T194851Z
UID:10008244-1729695600-1729706400@www.trailslibrary.org
SUMMARY:Libraries Got Game - Warrensburg
DESCRIPTION:All Ages: Get BOARD at the library with your family and friends! Fun and exciting board and XL games.
URL:https://www.trailslibrary.org/event/libraries-got-game-warrensburg-82/
LOCATION:Warrensburg Branch\, 432 N. Holden\, Warrensburg\, Missouri\, 64093\, United States
CATEGORIES:Adult,Adults,All Ages,Children,Family,Kids,preteens,senior,Seniors,Teen,Teens,Youth
END:VEVENT
BEGIN:VEVENT
DTSTART;TZID=America/New_York:20241023T170000
DTEND;TZID=America/New_York:20241023T180000
DTSTAMP:20260422T204037
CREATED:20240822T201725Z
LAST-MODIFIED:20240822T201725Z
UID:10008321-1729702800-1729706400@www.trailslibrary.org
SUMMARY:Zumba - Warrensburg
DESCRIPTION:Ages 19+: Join us for ZUMBA! Classes have upbeat music\, are designed to be fun\, with participants encouraged to move to the beat. Our Zumba classes are designed for suitable for ages 13+ and all fitness levels.  We will target areas such as the core\, legs\, and glutes.
URL:https://www.trailslibrary.org/event/zumba-warrensburg-2/
LOCATION:Warrensburg Branch\, 432 N. Holden\, Warrensburg\, Missouri\, 64093\, United States
CATEGORIES:Adult,Adults,preteens,senior,Seniors,Teen,Teens,Youth
END:VEVENT
END:VCALENDAR