BEGIN:VCALENDAR
VERSION:2.0
PRODID:-//Trails Regional Library - ECPv6.15.20//NONSGML v1.0//EN
CALSCALE:GREGORIAN
METHOD:PUBLISH
X-WR-CALNAME:Trails Regional Library
X-ORIGINAL-URL:https://www.trailslibrary.org
X-WR-CALDESC:Events for Trails Regional Library
REFRESH-INTERVAL;VALUE=DURATION:PT1H
X-Robots-Tag:noindex
X-PUBLISHED-TTL:PT1H
BEGIN:VTIMEZONE
TZID:America/New_York
BEGIN:DAYLIGHT
TZOFFSETFROM:-0500
TZOFFSETTO:-0400
TZNAME:EDT
DTSTART:20240310T070000
END:DAYLIGHT
BEGIN:STANDARD
TZOFFSETFROM:-0400
TZOFFSETTO:-0500
TZNAME:EST
DTSTART:20241103T060000
END:STANDARD
BEGIN:DAYLIGHT
TZOFFSETFROM:-0500
TZOFFSETTO:-0400
TZNAME:EDT
DTSTART:20250309T070000
END:DAYLIGHT
BEGIN:STANDARD
TZOFFSETFROM:-0400
TZOFFSETTO:-0500
TZNAME:EST
DTSTART:20251102T060000
END:STANDARD
BEGIN:DAYLIGHT
TZOFFSETFROM:-0500
TZOFFSETTO:-0400
TZNAME:EDT
DTSTART:20260308T070000
END:DAYLIGHT
BEGIN:STANDARD
TZOFFSETFROM:-0400
TZOFFSETTO:-0500
TZNAME:EST
DTSTART:20261101T060000
END:STANDARD
END:VTIMEZONE
BEGIN:VEVENT
DTSTART;TZID=America/New_York:20250422T100000
DTEND;TZID=America/New_York:20250422T100000
DTSTAMP:20260422T111514
CREATED:20241217T172656Z
LAST-MODIFIED:20241217T172656Z
UID:10008563-1745316000-1745316000@www.trailslibrary.org
SUMMARY:Coffee & Conversations - Holden Branch
DESCRIPTION:Ages 19+: Come join the Trails Staff and members of the community for coffee and conversation.
URL:https://www.trailslibrary.org/event/coffee-conversations-holden-branch-7/
LOCATION:Holden Branch\, 207 S. Main\, Holden\, MO\, 64040\, United States
CATEGORIES:Adult,Adults,senior,Seniors
END:VEVENT
BEGIN:VEVENT
DTSTART;TZID=America/New_York:20250422T150000
DTEND;TZID=America/New_York:20250422T150000
DTSTAMP:20260422T111514
CREATED:20241217T174257Z
LAST-MODIFIED:20241217T174257Z
UID:10008604-1745334000-1745334000@www.trailslibrary.org
SUMMARY:Zentangle - Holden Branch
DESCRIPTION:All Ages REGISTRATION REQUIRED: Come learn the art of creating beautiful Zentangle designs.
URL:https://www.trailslibrary.org/event/zentangle-holden-branch/
LOCATION:Holden Branch\, 207 S. Main\, Holden\, MO\, 64040\, United States
CATEGORIES:Adult,Adults,All Ages,Children,Crafts,Family,Kids,preteens,senior,Seniors,Teen,Teens,Youth
END:VEVENT
BEGIN:VEVENT
DTSTART;TZID=America/New_York:20250422T170000
DTEND;TZID=America/New_York:20250422T170000
DTSTAMP:20260422T111514
CREATED:20241217T174539Z
LAST-MODIFIED:20250214T152217Z
UID:10008608-1745341200-1745341200@www.trailslibrary.org
SUMMARY:Book Club - Knob Noster Branch
DESCRIPTION:Ages 19+: Join us for the monthly book discussion.
URL:https://www.trailslibrary.org/event/book-club-knob-noster-branch-4/
LOCATION:Knob Noster Branch\, 202 N. Adams\, Knob Noster\, MO\, 65336\, United States
CATEGORIES:Adult,Adults,Book Club,senior,Seniors
END:VEVENT
END:VCALENDAR