BEGIN:VCALENDAR
VERSION:2.0
PRODID:-//Trails Regional Library - ECPv6.15.20//NONSGML v1.0//EN
CALSCALE:GREGORIAN
METHOD:PUBLISH
X-WR-CALNAME:Trails Regional Library
X-ORIGINAL-URL:https://www.trailslibrary.org
X-WR-CALDESC:Events for Trails Regional Library
REFRESH-INTERVAL;VALUE=DURATION:PT1H
X-Robots-Tag:noindex
X-PUBLISHED-TTL:PT1H
BEGIN:VTIMEZONE
TZID:America/New_York
BEGIN:DAYLIGHT
TZOFFSETFROM:-0500
TZOFFSETTO:-0400
TZNAME:EDT
DTSTART:20240310T070000
END:DAYLIGHT
BEGIN:STANDARD
TZOFFSETFROM:-0400
TZOFFSETTO:-0500
TZNAME:EST
DTSTART:20241103T060000
END:STANDARD
BEGIN:DAYLIGHT
TZOFFSETFROM:-0500
TZOFFSETTO:-0400
TZNAME:EDT
DTSTART:20250309T070000
END:DAYLIGHT
BEGIN:STANDARD
TZOFFSETFROM:-0400
TZOFFSETTO:-0500
TZNAME:EST
DTSTART:20251102T060000
END:STANDARD
BEGIN:DAYLIGHT
TZOFFSETFROM:-0500
TZOFFSETTO:-0400
TZNAME:EDT
DTSTART:20260308T070000
END:DAYLIGHT
BEGIN:STANDARD
TZOFFSETFROM:-0400
TZOFFSETTO:-0500
TZNAME:EST
DTSTART:20261101T060000
END:STANDARD
END:VTIMEZONE
BEGIN:VEVENT
DTSTART;TZID=America/New_York:20250512T103000
DTEND;TZID=America/New_York:20250512T103000
DTSTAMP:20260422T092132
CREATED:20241217T165818Z
LAST-MODIFIED:20241217T165818Z
UID:10008492-1747045800-1747045800@www.trailslibrary.org
SUMMARY:Book Club - Corder Branch
DESCRIPTION:Ages 19+: Join us at the library for a lively discussion about this month’s book. It’s a great opportunity to share your thoughts and insights with fellow readers.
URL:https://www.trailslibrary.org/event/book-club-corder-branch-10/
LOCATION:Corder Branch\, 221 N. Lafayette\, Corder\, MO\, 64021\, United States
CATEGORIES:Adult,Adults,Book Club,senior,Seniors
END:VEVENT
BEGIN:VEVENT
DTSTART;TZID=America/New_York:20250512T173000
DTEND;TZID=America/New_York:20250512T173000
DTSTAMP:20260422T092132
CREATED:20241217T185203Z
LAST-MODIFIED:20241217T185203Z
UID:10008794-1747071000-1747071000@www.trailslibrary.org
SUMMARY:NovelTea - Warrensburg Branch
DESCRIPTION:Ages 19+: Join us for a warm cup of tea\, an award winning book\, and great conversations. This month’s pick is Here One Moment by Liane Moriarty.
URL:https://www.trailslibrary.org/event/noveltea-warrensburg-branch-4/
LOCATION:Warrensburg Branch\, 432 N. Holden\, Warrensburg\, Missouri\, 64093\, United States
CATEGORIES:Adult,Adults,Book Club,senior,Seniors
END:VEVENT
END:VCALENDAR