BEGIN:VCALENDAR
VERSION:2.0
PRODID:-//Trails Regional Library - ECPv6.15.20//NONSGML v1.0//EN
CALSCALE:GREGORIAN
METHOD:PUBLISH
X-ORIGINAL-URL:https://www.trailslibrary.org
X-WR-CALDESC:Events for Trails Regional Library
REFRESH-INTERVAL;VALUE=DURATION:PT1H
X-Robots-Tag:noindex
X-PUBLISHED-TTL:PT1H
BEGIN:VTIMEZONE
TZID:America/New_York
BEGIN:DAYLIGHT
TZOFFSETFROM:-0500
TZOFFSETTO:-0400
TZNAME:EDT
DTSTART:20240310T070000
END:DAYLIGHT
BEGIN:STANDARD
TZOFFSETFROM:-0400
TZOFFSETTO:-0500
TZNAME:EST
DTSTART:20241103T060000
END:STANDARD
BEGIN:DAYLIGHT
TZOFFSETFROM:-0500
TZOFFSETTO:-0400
TZNAME:EDT
DTSTART:20250309T070000
END:DAYLIGHT
BEGIN:STANDARD
TZOFFSETFROM:-0400
TZOFFSETTO:-0500
TZNAME:EST
DTSTART:20251102T060000
END:STANDARD
BEGIN:DAYLIGHT
TZOFFSETFROM:-0500
TZOFFSETTO:-0400
TZNAME:EDT
DTSTART:20260308T070000
END:DAYLIGHT
BEGIN:STANDARD
TZOFFSETFROM:-0400
TZOFFSETTO:-0500
TZNAME:EST
DTSTART:20261101T060000
END:STANDARD
END:VTIMEZONE
BEGIN:VEVENT
DTSTART;TZID=America/New_York:20250708T100000
DTEND;TZID=America/New_York:20250708T100000
DTSTAMP:20260422T055817
CREATED:20250509T134305Z
LAST-MODIFIED:20250509T134305Z
UID:10008962-1751968800-1751968800@www.trailslibrary.org
SUMMARY:Coffee & Conversations - Holden Branch
DESCRIPTION:Ages 19+: Come join the Trails Staff and members of the community for coffee and conversation.
URL:https://www.trailslibrary.org/event/coffee-conversations-holden-branch-10/
LOCATION:Holden Branch\, 207 S. Main\, Holden\, MO\, 64040\, United States
CATEGORIES:Adult,Adults,senior,Seniors
END:VEVENT
BEGIN:VEVENT
DTSTART;TZID=America/New_York:20250708T100000
DTEND;TZID=America/New_York:20250708T100000
DTSTAMP:20260422T055817
CREATED:20250509T142150Z
LAST-MODIFIED:20250509T142150Z
UID:10009162-1751968800-1751968800@www.trailslibrary.org
SUMMARY:One-on-One TECHtorials - Warrensburg Branch
DESCRIPTION:Ages 19+ REGISTRATION REQUIRED: Get personalized tech help with your smartphone\, tablet\, or laptop—perfect for learning the basics or building your confidence. Appointments are required and must be scheduled at least 24 hours in advance.
URL:https://www.trailslibrary.org/event/one-on-one-techtorials-warrensburg-branch-6/
LOCATION:Warrensburg Branch\, 432 N. Holden\, Warrensburg\, Missouri\, 64093\, United States
CATEGORIES:Adult,Adults,senior,Seniors,Technology
END:VEVENT
BEGIN:VEVENT
DTSTART;TZID=America/New_York:20250708T143000
DTEND;TZID=America/New_York:20250708T143000
DTSTAMP:20260422T055817
CREATED:20250509T141825Z
LAST-MODIFIED:20250509T141825Z
UID:10009132-1751985000-1751985000@www.trailslibrary.org
SUMMARY:Family Storytime - Warrensburg Branch
DESCRIPTION:All Ages: Join us for stories\, music\, crafts and fun! Ideal for the whole family.
URL:https://www.trailslibrary.org/event/family-storytime-warrensburg-branch-6/
LOCATION:Warrensburg Branch\, 432 N. Holden\, Warrensburg\, Missouri\, 64093\, United States
CATEGORIES:Adult,Adults,All Ages,Children,Family,Kids,preteens,senior,Seniors,Storytime,Teen,Teens,Youth
END:VEVENT
BEGIN:VEVENT
DTSTART;TZID=America/New_York:20250708T150000
DTEND;TZID=America/New_York:20250708T150000
DTSTAMP:20260422T055817
CREATED:20250509T134723Z
LAST-MODIFIED:20250509T134723Z
UID:10008983-1751986800-1751986800@www.trailslibrary.org
SUMMARY:Summer Canvas Painting - Holden Branch
DESCRIPTION:Ages 19+: Come learn the basics of canvas painting\, brushwork\, color mixing and layering to create beautiful compositions.
URL:https://www.trailslibrary.org/event/summer-canvas-painting-holden-branch/
LOCATION:Holden Branch\, 207 S. Main\, Holden\, MO\, 64040\, United States
CATEGORIES:Adult,Adults,Crafts,senior,Seniors
END:VEVENT
BEGIN:VEVENT
DTSTART;TZID=America/New_York:20250708T150000
DTEND;TZID=America/New_York:20250708T150000
DTSTAMP:20260422T055817
CREATED:20250509T135911Z
LAST-MODIFIED:20250509T135911Z
UID:10009041-1751986800-1751986800@www.trailslibrary.org
SUMMARY:Tech Tuesday - Lexington Branch
DESCRIPTION:Ages 19+: Beginner’s Class for adults looking to troubleshoot through everyday devices\, such as smart phones\, laptops\, iPADs\, and more! Bring your own device!
URL:https://www.trailslibrary.org/event/tech-tuesday-lexington-branch-5/
LOCATION:Lexington Branch\, 1008 Main Street\, Lexington\, MO\, 64067\, United States
CATEGORIES:Adult,Adults,senior,Seniors,Technology
END:VEVENT
END:VCALENDAR