BEGIN:VCALENDAR
VERSION:2.0
PRODID:-//Trails Regional Library - ECPv6.15.20//NONSGML v1.0//EN
CALSCALE:GREGORIAN
METHOD:PUBLISH
X-WR-CALNAME:Trails Regional Library
X-ORIGINAL-URL:https://www.trailslibrary.org
X-WR-CALDESC:Events for Trails Regional Library
REFRESH-INTERVAL;VALUE=DURATION:PT1H
X-Robots-Tag:noindex
X-PUBLISHED-TTL:PT1H
BEGIN:VTIMEZONE
TZID:America/New_York
BEGIN:DAYLIGHT
TZOFFSETFROM:-0500
TZOFFSETTO:-0400
TZNAME:EDT
DTSTART:20240310T070000
END:DAYLIGHT
BEGIN:STANDARD
TZOFFSETFROM:-0400
TZOFFSETTO:-0500
TZNAME:EST
DTSTART:20241103T060000
END:STANDARD
BEGIN:DAYLIGHT
TZOFFSETFROM:-0500
TZOFFSETTO:-0400
TZNAME:EDT
DTSTART:20250309T070000
END:DAYLIGHT
BEGIN:STANDARD
TZOFFSETFROM:-0400
TZOFFSETTO:-0500
TZNAME:EST
DTSTART:20251102T060000
END:STANDARD
BEGIN:DAYLIGHT
TZOFFSETFROM:-0500
TZOFFSETTO:-0400
TZNAME:EDT
DTSTART:20260308T070000
END:DAYLIGHT
BEGIN:STANDARD
TZOFFSETFROM:-0400
TZOFFSETTO:-0500
TZNAME:EST
DTSTART:20261101T060000
END:STANDARD
END:VTIMEZONE
BEGIN:VEVENT
DTSTART;TZID=America/New_York:20251210T113000
DTEND;TZID=America/New_York:20251210T113000
DTSTAMP:20260421T214722
CREATED:20250911T140702Z
LAST-MODIFIED:20250911T140702Z
UID:10009440-1765366200-1765366200@www.trailslibrary.org
SUMMARY:Santa Storytime - Knob Noster Branch
DESCRIPTION:All Ages: Join us for a festive story and craft\, munch on cookies\, snap a photo with Santa\, and take home a free ornament to remember the magic!
URL:https://www.trailslibrary.org/event/santa-storytime-knob-noster-branch/
LOCATION:Knob Noster Branch\, 202 N. Adams\, Knob Noster\, MO\, 65336\, United States
CATEGORIES:Adult,Adults,All Ages,Children,Family,Guest Presenter,Kids,preteens,senior,Seniors,Teen,Teens,Youth
END:VEVENT
BEGIN:VEVENT
DTSTART;TZID=America/New_York:20251210T150000
DTEND;TZID=America/New_York:20251210T150000
DTSTAMP:20260421T214722
CREATED:20250930T135650Z
LAST-MODIFIED:20250930T135650Z
UID:10009687-1765378800-1765378800@www.trailslibrary.org
SUMMARY:Vintage Vibes - Holden Branch
DESCRIPTION:Ages 55+ REGISTRATION REQUIRED: Come and enjoy a board game\, a card game\, or a craft. We will be doing a different program every month!
URL:https://www.trailslibrary.org/event/vintage-vibes-holden-branch-2/
LOCATION:Holden Branch\, 207 S. Main\, Holden\, MO\, 64040\, United States
CATEGORIES:senior,Seniors
END:VEVENT
BEGIN:VEVENT
DTSTART;TZID=America/New_York:20251210T170000
DTEND;TZID=America/New_York:20251210T170000
DTSTAMP:20260421T214722
CREATED:20250911T141621Z
LAST-MODIFIED:20250911T141621Z
UID:10009535-1765386000-1765386000@www.trailslibrary.org
SUMMARY:BUNCO - Warrensburg Branch
DESCRIPTION:Ages 19+: Join the fun and excitement of Bunco at the Library—everyone’s welcome\, no experience needed!
URL:https://www.trailslibrary.org/event/bunco-warrensburg-branch-5/
LOCATION:Warrensburg Branch\, 432 N. Holden\, Warrensburg\, Missouri\, 64093\, United States
CATEGORIES:Adult,Adults,senior,Seniors
END:VEVENT
END:VCALENDAR