BEGIN:VCALENDAR
VERSION:2.0
PRODID:-//Trails Regional Library - ECPv6.15.20//NONSGML v1.0//EN
CALSCALE:GREGORIAN
METHOD:PUBLISH
X-WR-CALNAME:Trails Regional Library
X-ORIGINAL-URL:https://www.trailslibrary.org
X-WR-CALDESC:Events for Trails Regional Library
REFRESH-INTERVAL;VALUE=DURATION:PT1H
X-Robots-Tag:noindex
X-PUBLISHED-TTL:PT1H
BEGIN:VTIMEZONE
TZID:America/New_York
BEGIN:DAYLIGHT
TZOFFSETFROM:-0500
TZOFFSETTO:-0400
TZNAME:EDT
DTSTART:20250309T070000
END:DAYLIGHT
BEGIN:STANDARD
TZOFFSETFROM:-0400
TZOFFSETTO:-0500
TZNAME:EST
DTSTART:20251102T060000
END:STANDARD
BEGIN:DAYLIGHT
TZOFFSETFROM:-0500
TZOFFSETTO:-0400
TZNAME:EDT
DTSTART:20260308T070000
END:DAYLIGHT
BEGIN:STANDARD
TZOFFSETFROM:-0400
TZOFFSETTO:-0500
TZNAME:EST
DTSTART:20261101T060000
END:STANDARD
BEGIN:DAYLIGHT
TZOFFSETFROM:-0500
TZOFFSETTO:-0400
TZNAME:EDT
DTSTART:20270314T070000
END:DAYLIGHT
BEGIN:STANDARD
TZOFFSETFROM:-0400
TZOFFSETTO:-0500
TZNAME:EST
DTSTART:20271107T060000
END:STANDARD
END:VTIMEZONE
BEGIN:VEVENT
DTSTART;TZID=America/New_York:20260128T130000
DTEND;TZID=America/New_York:20260128T130000
DTSTAMP:20260421T200122
CREATED:20251215T201223Z
LAST-MODIFIED:20251215T201223Z
UID:10009816-1769605200-1769605200@www.trailslibrary.org
SUMMARY:The Plot Thickens Book Club - Holden Branch
DESCRIPTION:Ages 19+: Join us on the last Wednesday of every month for an engaging book club\, where we will discover new books and connect through meaningful discussions.
URL:https://www.trailslibrary.org/event/the-plot-thickens-book-club-holden-branch/
LOCATION:Holden Branch\, 207 S. Main\, Holden\, MO\, 64040\, United States
CATEGORIES:Adult,Adults,Book Club,senior,Seniors
END:VEVENT
BEGIN:VEVENT
DTSTART;TZID=America/New_York:20260128T143000
DTEND;TZID=America/New_York:20260128T143000
DTSTAMP:20260421T200122
CREATED:20251215T201958Z
LAST-MODIFIED:20251215T201958Z
UID:10009857-1769610600-1769610600@www.trailslibrary.org
SUMMARY:Lego Day Party - Knob Noster Branch
DESCRIPTION:All Ages: Join us for an interactive showing of a brick-built animated adventure! Make a themed snack and shape your own creations while you watch.
URL:https://www.trailslibrary.org/event/lego-day-party-knob-noster-branch/
LOCATION:Knob Noster Branch\, 202 N. Adams\, Knob Noster\, MO\, 65336\, United States
CATEGORIES:Adult,Adults,All Ages,Children,Family,Kids,Movie,preteens,senior,Seniors,Teen,Teens,Youth
END:VEVENT
BEGIN:VEVENT
DTSTART;TZID=America/New_York:20260128T170000
DTEND;TZID=America/New_York:20260128T170000
DTSTAMP:20260421T200122
CREATED:20251215T210127Z
LAST-MODIFIED:20251215T210127Z
UID:10010126-1769619600-1769619600@www.trailslibrary.org
SUMMARY:Zumba - Warrensburg Branch
DESCRIPTION:Ages 19+: Get moving and have fun with a high-energy Zumba class at the library! This dance-fitness program combines Latin and international rhythms for a lively\, full-body workout that’s perfect for all fitness levels.
URL:https://www.trailslibrary.org/event/zumba-warrensburg-branch-14/
LOCATION:Warrensburg Branch\, 432 N. Holden\, Warrensburg\, Missouri\, 64093\, United States
CATEGORIES:Adult,Adults,senior,Seniors
END:VEVENT
END:VCALENDAR