BEGIN:VCALENDAR
VERSION:2.0
PRODID:-//Trails Regional Library - ECPv6.15.20//NONSGML v1.0//EN
CALSCALE:GREGORIAN
METHOD:PUBLISH
X-WR-CALNAME:Trails Regional Library
X-ORIGINAL-URL:https://www.trailslibrary.org
X-WR-CALDESC:Events for Trails Regional Library
REFRESH-INTERVAL;VALUE=DURATION:PT1H
X-Robots-Tag:noindex
X-PUBLISHED-TTL:PT1H
BEGIN:VTIMEZONE
TZID:America/New_York
BEGIN:DAYLIGHT
TZOFFSETFROM:-0500
TZOFFSETTO:-0400
TZNAME:EDT
DTSTART:20250309T070000
END:DAYLIGHT
BEGIN:STANDARD
TZOFFSETFROM:-0400
TZOFFSETTO:-0500
TZNAME:EST
DTSTART:20251102T060000
END:STANDARD
BEGIN:DAYLIGHT
TZOFFSETFROM:-0500
TZOFFSETTO:-0400
TZNAME:EDT
DTSTART:20260308T070000
END:DAYLIGHT
BEGIN:STANDARD
TZOFFSETFROM:-0400
TZOFFSETTO:-0500
TZNAME:EST
DTSTART:20261101T060000
END:STANDARD
BEGIN:DAYLIGHT
TZOFFSETFROM:-0500
TZOFFSETTO:-0400
TZNAME:EDT
DTSTART:20270314T070000
END:DAYLIGHT
BEGIN:STANDARD
TZOFFSETFROM:-0400
TZOFFSETTO:-0500
TZNAME:EST
DTSTART:20271107T060000
END:STANDARD
END:VTIMEZONE
BEGIN:VEVENT
DTSTART;TZID=America/New_York:20260325T130000
DTEND;TZID=America/New_York:20260325T130000
DTSTAMP:20260421T171237
CREATED:20251215T201455Z
LAST-MODIFIED:20251215T201455Z
UID:10009833-1774443600-1774443600@www.trailslibrary.org
SUMMARY:The Plot Thickens Book Club - Holden Branch
DESCRIPTION:Ages 19+: Join us on the last Wednesday of every month for an engaging book club\, where we will discover new books and connect through meaningful discussions.
URL:https://www.trailslibrary.org/event/the-plot-thickens-book-club-holden-branch-3/
LOCATION:Holden Branch\, 207 S. Main\, Holden\, MO\, 64040\, United States
CATEGORIES:Adult,Adults,Book Club,senior,Seniors
END:VEVENT
BEGIN:VEVENT
DTSTART;TZID=America/New_York:20260325T140000
DTEND;TZID=America/New_York:20260325T140000
DTSTAMP:20260421T171237
CREATED:20251215T210205Z
LAST-MODIFIED:20251215T210205Z
UID:10010132-1774447200-1774447200@www.trailslibrary.org
SUMMARY:Remember When - Waverly Branch
DESCRIPTION:Ages 19+: Come and reflect on your memories from the past. Bring pictures and such to share.
URL:https://www.trailslibrary.org/event/remember-when-waverly-branch-3/
LOCATION:Waverly Branch\, 203 E. Kelling\, Waverly\, MO\, 64096\, United States
CATEGORIES:Adult,Adults,senior,Seniors
END:VEVENT
BEGIN:VEVENT
DTSTART;TZID=America/New_York:20260325T170000
DTEND;TZID=America/New_York:20260325T170000
DTSTAMP:20260421T171237
CREATED:20251215T210036Z
LAST-MODIFIED:20251215T210036Z
UID:10010122-1774458000-1774458000@www.trailslibrary.org
SUMMARY:Zumba - Warrensburg Branch
DESCRIPTION:Ages 19+: Get moving and have fun with a high-energy Zumba class at the library! This dance-fitness program combines Latin and international rhythms for a lively\, full-body workout that’s perfect for all fitness levels.
URL:https://www.trailslibrary.org/event/zumba-warrensburg-branch-10/
LOCATION:Warrensburg Branch\, 432 N. Holden\, Warrensburg\, Missouri\, 64093\, United States
CATEGORIES:Adult,Adults,senior,Seniors
END:VEVENT
END:VCALENDAR