BEGIN:VCALENDAR
VERSION:2.0
PRODID:-//Trails Regional Library - ECPv6.15.20//NONSGML v1.0//EN
CALSCALE:GREGORIAN
METHOD:PUBLISH
X-WR-CALNAME:Trails Regional Library
X-ORIGINAL-URL:https://www.trailslibrary.org
X-WR-CALDESC:Events for Trails Regional Library
REFRESH-INTERVAL;VALUE=DURATION:PT1H
X-Robots-Tag:noindex
X-PUBLISHED-TTL:PT1H
BEGIN:VTIMEZONE
TZID:America/New_York
BEGIN:DAYLIGHT
TZOFFSETFROM:-0500
TZOFFSETTO:-0400
TZNAME:EDT
DTSTART:20250309T070000
END:DAYLIGHT
BEGIN:STANDARD
TZOFFSETFROM:-0400
TZOFFSETTO:-0500
TZNAME:EST
DTSTART:20251102T060000
END:STANDARD
BEGIN:DAYLIGHT
TZOFFSETFROM:-0500
TZOFFSETTO:-0400
TZNAME:EDT
DTSTART:20260308T070000
END:DAYLIGHT
BEGIN:STANDARD
TZOFFSETFROM:-0400
TZOFFSETTO:-0500
TZNAME:EST
DTSTART:20261101T060000
END:STANDARD
BEGIN:DAYLIGHT
TZOFFSETFROM:-0500
TZOFFSETTO:-0400
TZNAME:EDT
DTSTART:20270314T070000
END:DAYLIGHT
BEGIN:STANDARD
TZOFFSETFROM:-0400
TZOFFSETTO:-0500
TZNAME:EST
DTSTART:20271107T060000
END:STANDARD
END:VTIMEZONE
BEGIN:VEVENT
DTSTART;TZID=America/New_York:20260421T100000
DTEND;TZID=America/New_York:20260421T100000
DTSTAMP:20260421T125705
CREATED:20251215T205606Z
LAST-MODIFIED:20251215T205606Z
UID:10010074-1776765600-1776765600@www.trailslibrary.org
SUMMARY:One-on-One TECHtorials - Warrensburg Branch
DESCRIPTION:Ages 19+ REGISTRATION REQUIRED: Get personalized tech help with your smartphone\, tablet\, or laptop—perfect for learning the basics or building your confidence. Appointments are required and must be scheduled at least 24 hours in advance.
URL:https://www.trailslibrary.org/event/one-on-one-techtorials-warrensburg-branch-33/
LOCATION:Warrensburg Branch\, 432 N. Holden\, Warrensburg\, Missouri\, 64093\, United States
CATEGORIES:Adult,Adults,senior,Seniors,Technology
END:VEVENT
BEGIN:VEVENT
DTSTART;TZID=America/New_York:20260422T170000
DTEND;TZID=America/New_York:20260422T170000
DTSTAMP:20260421T125706
CREATED:20251215T210126Z
LAST-MODIFIED:20251215T210126Z
UID:10010124-1776877200-1776877200@www.trailslibrary.org
SUMMARY:Zumba - Warrensburg Branch
DESCRIPTION:Ages 19+: Get moving and have fun with a high-energy Zumba class at the library! This dance-fitness program combines Latin and international rhythms for a lively\, full-body workout that’s perfect for all fitness levels.
URL:https://www.trailslibrary.org/event/zumba-warrensburg-branch-12/
LOCATION:Warrensburg Branch\, 432 N. Holden\, Warrensburg\, Missouri\, 64093\, United States
CATEGORIES:Adult,Adults,senior,Seniors
END:VEVENT
BEGIN:VEVENT
DTSTART;TZID=America/New_York:20260423T170000
DTEND;TZID=America/New_York:20260423T170000
DTSTAMP:20260421T125706
CREATED:20251215T201942Z
LAST-MODIFIED:20251215T201942Z
UID:10009850-1776963600-1776963600@www.trailslibrary.org
SUMMARY:Book Club - Knob Noster Branch
DESCRIPTION:Ages 19+: Join us at book club to share your thoughts\, meet fellow book lovers\, and help us choose next month’s read!
URL:https://www.trailslibrary.org/event/book-club-knob-noster-branch-16/
LOCATION:Knob Noster Branch\, 202 N. Adams\, Knob Noster\, MO\, 65336\, United States
CATEGORIES:Adult,Adults,Book Club,senior,Seniors
END:VEVENT
BEGIN:VEVENT
DTSTART;TZID=America/New_York:20260424T093000
DTEND;TZID=America/New_York:20260424T093000
DTSTAMP:20260421T125706
CREATED:20251215T201127Z
LAST-MODIFIED:20251215T201127Z
UID:10009806-1777023000-1777023000@www.trailslibrary.org
SUMMARY:Yoga Fridays - Corder Branch
DESCRIPTION:Ages 19+: Join our gentle chair yoga class designed for all levels\, from beginners to those returning to practice.
URL:https://www.trailslibrary.org/event/yoga-fridays-corder-branch-65/
LOCATION:Corder Branch\, 221 N. Lafayette\, Corder\, MO\, 64021\, United States
CATEGORIES:Adult,Adults,senior,Seniors
END:VEVENT
BEGIN:VEVENT
DTSTART;TZID=America/New_York:20260425T100000
DTEND;TZID=America/New_York:20260425T100000
DTSTAMP:20260421T125706
CREATED:20251215T204831Z
LAST-MODIFIED:20251215T204831Z
UID:10010025-1777111200-1777111200@www.trailslibrary.org
SUMMARY:Crafty Family Fun - Warrensburg Branch
DESCRIPTION:All Ages: Join us for hands-on fun where kids can get creative using recycled\, repurposed\, and budget-friendly materials.
URL:https://www.trailslibrary.org/event/crafty-family-fun-warrensburg-branch-13/
LOCATION:Warrensburg Branch\, 432 N. Holden\, Warrensburg\, Missouri\, 64093\, United States
CATEGORIES:Adult,Adults,All Ages,Children,Crafts,Family,Kids,preteens,senior,Seniors,Teen,Teens,Youth
END:VEVENT
BEGIN:VEVENT
DTSTART;TZID=America/New_York:20260425T120000
DTEND;TZID=America/New_York:20260425T120000
DTSTAMP:20260421T125706
CREATED:20251215T203221Z
LAST-MODIFIED:20251215T203221Z
UID:10009951-1777118400-1777118400@www.trailslibrary.org
SUMMARY:Here to Skein\, Yarn Tomorrow - Odessa Branch
DESCRIPTION:Ages 19+: Bring an independent fiber art or small craft project to work on while you socialize\, and trade tips and tricks with others!
URL:https://www.trailslibrary.org/event/here-to-skein-yarn-tomorrow-odessa-branch-4/
LOCATION:Odessa Branch\, 107 W. Mason\, Odessa\, MO\, 64076\, United States
CATEGORIES:Adult,Adults,Crafts,senior,Seniors
END:VEVENT
BEGIN:VEVENT
DTSTART;TZID=America/New_York:20260427T130000
DTEND;TZID=America/New_York:20260427T130000
DTSTAMP:20260421T125706
CREATED:20251215T201027Z
LAST-MODIFIED:20251215T201027Z
UID:10009786-1777294800-1777294800@www.trailslibrary.org
SUMMARY:Move to the Beat - Corder Branch
DESCRIPTION:Ages 19+: Join us for cardio drumming with yoga balls!
URL:https://www.trailslibrary.org/event/move-to-the-beat-corder-branch-34/
LOCATION:Corder Branch\, 221 N. Lafayette\, Corder\, MO\, 64021\, United States
CATEGORIES:Adult,Adults,senior,Seniors
END:VEVENT
BEGIN:VEVENT
DTSTART;TZID=America/New_York:20260427T163000
DTEND;TZID=America/New_York:20260427T163000
DTSTAMP:20260421T125706
CREATED:20251215T195322Z
LAST-MODIFIED:20251215T195322Z
UID:10009700-1777307400-1777307400@www.trailslibrary.org
SUMMARY:Book Club - Concordia Branch
DESCRIPTION:Ages 19+: Make new friends and discover new books! This month we will discuss Lessons in Chemistry by Bonnie Garmus.
URL:https://www.trailslibrary.org/event/book-club-concordia-branch-16/
LOCATION:Concordia Branch\, 813 S Main\, Concordia\, MO\, 64020\, United States
CATEGORIES:Adult,Adults,Book Club,senior,Seniors
END:VEVENT
BEGIN:VEVENT
DTSTART;TZID=America/New_York:20260428T100000
DTEND;TZID=America/New_York:20260428T100000
DTSTAMP:20260421T125706
CREATED:20251215T203847Z
LAST-MODIFIED:20251222T152307Z
UID:10009975-1777370400-1777370400@www.trailslibrary.org
SUMMARY:Sit and Get Fit - Odessa Branch
DESCRIPTION:Ages 55+: Strengthen your muscles through breathing and gentle exercise techniques.
URL:https://www.trailslibrary.org/event/sit-and-get-fit-odessa-branch-4/
LOCATION:Odessa Branch\, 107 W. Mason\, Odessa\, MO\, 64076\, United States
CATEGORIES:Adult,Adults,senior,Seniors
END:VEVENT
BEGIN:VEVENT
DTSTART;TZID=America/New_York:20260428T100000
DTEND;TZID=America/New_York:20260428T100000
DTSTAMP:20260421T125706
CREATED:20251215T205606Z
LAST-MODIFIED:20251215T205606Z
UID:10010075-1777370400-1777370400@www.trailslibrary.org
SUMMARY:One-on-One TECHtorials - Warrensburg Branch
DESCRIPTION:Ages 19+ REGISTRATION REQUIRED: Get personalized tech help with your smartphone\, tablet\, or laptop—perfect for learning the basics or building your confidence. Appointments are required and must be scheduled at least 24 hours in advance.
URL:https://www.trailslibrary.org/event/one-on-one-techtorials-warrensburg-branch-34/
LOCATION:Warrensburg Branch\, 432 N. Holden\, Warrensburg\, Missouri\, 64093\, United States
CATEGORIES:Adult,Adults,senior,Seniors,Technology
END:VEVENT
BEGIN:VEVENT
DTSTART;TZID=America/New_York:20260428T150000
DTEND;TZID=America/New_York:20260428T150000
DTSTAMP:20260421T125706
CREATED:20251215T201656Z
LAST-MODIFIED:20251215T201656Z
UID:10009841-1777388400-1777388400@www.trailslibrary.org
SUMMARY:Makers Gonna Make - Holden Branch
DESCRIPTION:Ages 19+: Unleash your creativity every other week with a new craft project designed for all experience levels. All materials are provided at no cost.
URL:https://www.trailslibrary.org/event/makers-gonna-make-holden-branch-8/
LOCATION:Holden Branch\, 207 S. Main\, Holden\, MO\, 64040\, United States
CATEGORIES:Adult,Adults,Crafts,senior,Seniors
END:VEVENT
BEGIN:VEVENT
DTSTART;TZID=America/New_York:20260428T170000
DTEND;TZID=America/New_York:20260428T170000
DTSTAMP:20260421T125706
CREATED:20251215T204901Z
LAST-MODIFIED:20251215T204901Z
UID:10010034-1777395600-1777395600@www.trailslibrary.org
SUMMARY:Literary Antics - Warrensburg Branch
DESCRIPTION:Ages 19+ REGISTRATION REQUIRED: Transform retired books into one-of-a-kind crafts in this creative program!
URL:https://www.trailslibrary.org/event/literary-antics-warrensburg-branch-10/
LOCATION:Warrensburg Branch\, 432 N. Holden\, Warrensburg\, Missouri\, 64093\, United States
CATEGORIES:Adult,Adults,Crafts,senior,Seniors
END:VEVENT
BEGIN:VEVENT
DTSTART;TZID=America/New_York:20260429T130000
DTEND;TZID=America/New_York:20260429T130000
DTSTAMP:20260421T125706
CREATED:20251215T201855Z
LAST-MODIFIED:20251215T201855Z
UID:10009842-1777467600-1777467600@www.trailslibrary.org
SUMMARY:The Plot Thickens Book Club - Holden Branch
DESCRIPTION:Ages 19+: Join us on the last Wednesday of every month for an engaging book club\, where we will discover new books and connect through meaningful discussions.
URL:https://www.trailslibrary.org/event/the-plot-thickens-book-club-holden-branch-4/
LOCATION:Holden Branch\, 207 S. Main\, Holden\, MO\, 64040\, United States
CATEGORIES:Adult,Adults,Book Club,senior,Seniors
END:VEVENT
END:VCALENDAR