BEGIN:VCALENDAR
VERSION:2.0
PRODID:-//Trails Regional Library - ECPv6.15.20//NONSGML v1.0//EN
CALSCALE:GREGORIAN
METHOD:PUBLISH
X-WR-CALNAME:Trails Regional Library
X-ORIGINAL-URL:https://www.trailslibrary.org
X-WR-CALDESC:Events for Trails Regional Library
REFRESH-INTERVAL;VALUE=DURATION:PT1H
X-Robots-Tag:noindex
X-PUBLISHED-TTL:PT1H
BEGIN:VTIMEZONE
TZID:America/New_York
BEGIN:DAYLIGHT
TZOFFSETFROM:-0500
TZOFFSETTO:-0400
TZNAME:EDT
DTSTART:20220313T070000
END:DAYLIGHT
BEGIN:STANDARD
TZOFFSETFROM:-0400
TZOFFSETTO:-0500
TZNAME:EST
DTSTART:20221106T060000
END:STANDARD
BEGIN:DAYLIGHT
TZOFFSETFROM:-0500
TZOFFSETTO:-0400
TZNAME:EDT
DTSTART:20230312T070000
END:DAYLIGHT
BEGIN:STANDARD
TZOFFSETFROM:-0400
TZOFFSETTO:-0500
TZNAME:EST
DTSTART:20231105T060000
END:STANDARD
BEGIN:DAYLIGHT
TZOFFSETFROM:-0500
TZOFFSETTO:-0400
TZNAME:EDT
DTSTART:20240310T070000
END:DAYLIGHT
BEGIN:STANDARD
TZOFFSETFROM:-0400
TZOFFSETTO:-0500
TZNAME:EST
DTSTART:20241103T060000
END:STANDARD
END:VTIMEZONE
BEGIN:VEVENT
DTSTART;TZID=America/New_York:20231002T130000
DTEND;TZID=America/New_York:20231002T140000
DTSTAMP:20260424T070026
CREATED:20230818T201503Z
LAST-MODIFIED:20230917T051403Z
UID:10006804-1696251600-1696255200@www.trailslibrary.org
SUMMARY:Kids STEAM - Waverly
DESCRIPTION:All Ages: School is out for the day! Bring your kids in to learn while they play with STEAM games and activities.
URL:https://www.trailslibrary.org/event/kids-steam-waverly/
LOCATION:Waverly Branch\, 203 E. Kelling\, Waverly\, MO\, 64096\, United States
CATEGORIES:Adult,Adults,All Ages,Children,Family,Kids,preteens,senior,Seniors,STEAM,Teen,Teens,Youth
END:VEVENT
BEGIN:VEVENT
DTSTART;TZID=America/New_York:20231004T140000
DTEND;TZID=America/New_York:20231004T160000
DTSTAMP:20260424T070026
CREATED:20230820T064247Z
LAST-MODIFIED:20230820T064247Z
UID:10006978-1696428000-1696435200@www.trailslibrary.org
SUMMARY:STEAM for T(w)eens - Warrensburg
DESCRIPTION:Ages 13-18Did you ever want to build this? Did you every wonder what happens if? Come find out as we explore various STEAM activities.
URL:https://www.trailslibrary.org/event/steam-for-tweens-warrensburg-6/
LOCATION:Warrensburg Branch\, 432 N. Holden\, Warrensburg\, Missouri\, 64093\, United States
CATEGORIES:Children,Kids,Pre-Teen,Pre-Teens,STEAM
END:VEVENT
BEGIN:VEVENT
DTSTART;TZID=America/New_York:20231021T150000
DTEND;TZID=America/New_York:20231021T160000
DTSTAMP:20260424T070026
CREATED:20230818T201433Z
LAST-MODIFIED:20230820T063715Z
UID:10005687-1697900400-1697904000@www.trailslibrary.org
SUMMARY:Full Steam Ahead - Warrensburg
DESCRIPTION:Ages 0-5: Join us for science\, technology\, engineering\, art and mathmatics activities for little learners. Guaranteed to get your learner thinking.
URL:https://www.trailslibrary.org/event/full-steam-ahead-warrensburg/
LOCATION:Warrensburg Branch\, 432 N. Holden\, Warrensburg\, Missouri\, 64093\, United States
CATEGORIES:Children,Kids,Preschool,STEAM,Storytime
END:VEVENT
END:VCALENDAR