BEGIN:VCALENDAR
VERSION:2.0
PRODID:-//Trails Regional Library - ECPv6.15.20//NONSGML v1.0//EN
CALSCALE:GREGORIAN
METHOD:PUBLISH
X-WR-CALNAME:Trails Regional Library
X-ORIGINAL-URL:https://www.trailslibrary.org
X-WR-CALDESC:Events for Trails Regional Library
REFRESH-INTERVAL;VALUE=DURATION:PT1H
X-Robots-Tag:noindex
X-PUBLISHED-TTL:PT1H
BEGIN:VTIMEZONE
TZID:America/New_York
BEGIN:DAYLIGHT
TZOFFSETFROM:-0500
TZOFFSETTO:-0400
TZNAME:EDT
DTSTART:20230312T070000
END:DAYLIGHT
BEGIN:STANDARD
TZOFFSETFROM:-0400
TZOFFSETTO:-0500
TZNAME:EST
DTSTART:20231105T060000
END:STANDARD
BEGIN:DAYLIGHT
TZOFFSETFROM:-0500
TZOFFSETTO:-0400
TZNAME:EDT
DTSTART:20240310T070000
END:DAYLIGHT
BEGIN:STANDARD
TZOFFSETFROM:-0400
TZOFFSETTO:-0500
TZNAME:EST
DTSTART:20241103T060000
END:STANDARD
BEGIN:DAYLIGHT
TZOFFSETFROM:-0500
TZOFFSETTO:-0400
TZNAME:EDT
DTSTART:20250309T070000
END:DAYLIGHT
BEGIN:STANDARD
TZOFFSETFROM:-0400
TZOFFSETTO:-0500
TZNAME:EST
DTSTART:20251102T060000
END:STANDARD
END:VTIMEZONE
BEGIN:VEVENT
DTSTART;TZID=America/New_York:20240201T100000
DTEND;TZID=America/New_York:20240201T110000
DTSTAMP:20260423T204307
CREATED:20231215T190335Z
LAST-MODIFIED:20231215T204544Z
UID:10007405-1706781600-1706785200@www.trailslibrary.org
SUMMARY:Full STEAM ahead-Warrensburg
DESCRIPTION:Ages 2-6: Join us for science\, technology\, engineering\, art and mathematics activities for little learners.
URL:https://www.trailslibrary.org/event/full-steam-ahead-warrensburg-2/
LOCATION:Warrensburg Branch\, 432 N. Holden\, Warrensburg\, Missouri\, 64093\, United States
CATEGORIES:Children,Kids,STEAM
END:VEVENT
BEGIN:VEVENT
DTSTART;TZID=America/New_York:20240221T150000
DTEND;TZID=America/New_York:20240221T160000
DTSTAMP:20260423T204307
CREATED:20231215T181545Z
LAST-MODIFIED:20231215T181545Z
UID:10007209-1708527600-1708531200@www.trailslibrary.org
SUMMARY:Eureka! Steam Program-Knob Noster
DESCRIPTION:Ages 6-12: A fun afternoon of STEAM activities! Learn\, play\, and socialize all at the same time.
URL:https://www.trailslibrary.org/event/eureka-steam-program-knob-noster/
LOCATION:Knob Noster Branch\, 202 N. Adams\, Knob Noster\, MO\, 65336\, United States
CATEGORIES:Children,Kids,STEAM
END:VEVENT
BEGIN:VEVENT
DTSTART;TZID=America/New_York:20240222T153000
DTEND;TZID=America/New_York:20240222T163000
DTSTAMP:20260423T204307
CREATED:20231215T183625Z
LAST-MODIFIED:20231215T183625Z
UID:10007268-1708615800-1708619400@www.trailslibrary.org
SUMMARY:Kids Club-Lexington
DESCRIPTION:Ages 6-12:  If you like crafts\, games and fun science activites (STEAM) then this club is for you. Snack provided. Bring a friend for more FUN!
URL:https://www.trailslibrary.org/event/kids-club-lexington-6/
LOCATION:Lexington Branch\, 1008 Main Street\, Lexington\, MO\, 64067\, United States
CATEGORIES:Children,Crafts,Kids,STEAM
END:VEVENT
END:VCALENDAR