BEGIN:VCALENDAR
VERSION:2.0
PRODID:-//Trails Regional Library - ECPv6.15.20//NONSGML v1.0//EN
CALSCALE:GREGORIAN
METHOD:PUBLISH
X-WR-CALNAME:Trails Regional Library
X-ORIGINAL-URL:https://www.trailslibrary.org
X-WR-CALDESC:Events for Trails Regional Library
REFRESH-INTERVAL;VALUE=DURATION:PT1H
X-Robots-Tag:noindex
X-PUBLISHED-TTL:PT1H
BEGIN:VTIMEZONE
TZID:America/New_York
BEGIN:DAYLIGHT
TZOFFSETFROM:-0500
TZOFFSETTO:-0400
TZNAME:EDT
DTSTART:20230312T070000
END:DAYLIGHT
BEGIN:STANDARD
TZOFFSETFROM:-0400
TZOFFSETTO:-0500
TZNAME:EST
DTSTART:20231105T060000
END:STANDARD
BEGIN:DAYLIGHT
TZOFFSETFROM:-0500
TZOFFSETTO:-0400
TZNAME:EDT
DTSTART:20240310T070000
END:DAYLIGHT
BEGIN:STANDARD
TZOFFSETFROM:-0400
TZOFFSETTO:-0500
TZNAME:EST
DTSTART:20241103T060000
END:STANDARD
BEGIN:DAYLIGHT
TZOFFSETFROM:-0500
TZOFFSETTO:-0400
TZNAME:EDT
DTSTART:20250309T070000
END:DAYLIGHT
BEGIN:STANDARD
TZOFFSETFROM:-0400
TZOFFSETTO:-0500
TZNAME:EST
DTSTART:20251102T060000
END:STANDARD
END:VTIMEZONE
BEGIN:VEVENT
DTSTART;TZID=America/New_York:20240304T160000
DTEND;TZID=America/New_York:20240304T160000
DTSTAMP:20260423T190957
CREATED:20231215T184558Z
LAST-MODIFIED:20231215T184558Z
UID:10007299-1709568000-1709568000@www.trailslibrary.org
SUMMARY:Junior Coders-Odessa
DESCRIPTION:Ages 5-8:  Learn basic coding with Ozobots
URL:https://www.trailslibrary.org/event/junior-coders-odessa/
LOCATION:Odessa Branch\, 107 W. Mason\, Odessa\, MO\, 64076\, United States
CATEGORIES:Children,Kids,STEAM
END:VEVENT
BEGIN:VEVENT
DTSTART;TZID=America/New_York:20240318T160000
DTEND;TZID=America/New_York:20240318T160000
DTSTAMP:20260423T190957
CREATED:20231215T184614Z
LAST-MODIFIED:20231215T184614Z
UID:10007306-1710777600-1710777600@www.trailslibrary.org
SUMMARY:Robot Wars-Odessa
DESCRIPTION:Ages 9-12:  Make your own robot shell and compete in some friendly competition
URL:https://www.trailslibrary.org/event/robot-wars-odessa-2/
LOCATION:Odessa Branch\, 107 W. Mason\, Odessa\, MO\, 64076\, United States
CATEGORIES:Children,Kids,STEAM
END:VEVENT
BEGIN:VEVENT
DTSTART;TZID=America/New_York:20240320T150000
DTEND;TZID=America/New_York:20240320T160000
DTSTAMP:20260423T190957
CREATED:20231215T181545Z
LAST-MODIFIED:20231215T181545Z
UID:10007210-1710946800-1710950400@www.trailslibrary.org
SUMMARY:Eureka! Steam Program-Knob Noster
DESCRIPTION:Ages 6-12: Join us for a fun afternoon of STEAM activities! Learn\, play\, and socialize all at the same time.
URL:https://www.trailslibrary.org/event/eureka-steam-program-knob-noster-2/
LOCATION:Knob Noster Branch\, 202 N. Adams\, Knob Noster\, MO\, 65336\, United States
CATEGORIES:Children,Kids,STEAM
END:VEVENT
BEGIN:VEVENT
DTSTART;TZID=America/New_York:20240328T153000
DTEND;TZID=America/New_York:20240328T163000
DTSTAMP:20260423T190957
CREATED:20231215T183626Z
LAST-MODIFIED:20231215T183626Z
UID:10007269-1711639800-1711643400@www.trailslibrary.org
SUMMARY:Kids Club-Lexington
DESCRIPTION:Ages 6-12:  If you like crafts\, games and fun science activites (STEAM) then this club is for you. Snack provided. Bring a friend for more FUN!
URL:https://www.trailslibrary.org/event/kids-club-lexington-7/
LOCATION:Lexington Branch\, 1008 Main Street\, Lexington\, MO\, 64067\, United States
CATEGORIES:Children,Crafts,Kids,STEAM
END:VEVENT
END:VCALENDAR