BEGIN:VCALENDAR
VERSION:2.0
PRODID:-//Trails Regional Library - ECPv6.15.20//NONSGML v1.0//EN
CALSCALE:GREGORIAN
METHOD:PUBLISH
X-ORIGINAL-URL:https://www.trailslibrary.org
X-WR-CALDESC:Events for Trails Regional Library
REFRESH-INTERVAL;VALUE=DURATION:PT1H
X-Robots-Tag:noindex
X-PUBLISHED-TTL:PT1H
BEGIN:VTIMEZONE
TZID:America/New_York
BEGIN:DAYLIGHT
TZOFFSETFROM:-0500
TZOFFSETTO:-0400
TZNAME:EDT
DTSTART:20230312T070000
END:DAYLIGHT
BEGIN:STANDARD
TZOFFSETFROM:-0400
TZOFFSETTO:-0500
TZNAME:EST
DTSTART:20231105T060000
END:STANDARD
BEGIN:DAYLIGHT
TZOFFSETFROM:-0500
TZOFFSETTO:-0400
TZNAME:EDT
DTSTART:20240310T070000
END:DAYLIGHT
BEGIN:STANDARD
TZOFFSETFROM:-0400
TZOFFSETTO:-0500
TZNAME:EST
DTSTART:20241103T060000
END:STANDARD
BEGIN:DAYLIGHT
TZOFFSETFROM:-0500
TZOFFSETTO:-0400
TZNAME:EDT
DTSTART:20250309T070000
END:DAYLIGHT
BEGIN:STANDARD
TZOFFSETFROM:-0400
TZOFFSETTO:-0500
TZNAME:EST
DTSTART:20251102T060000
END:STANDARD
END:VTIMEZONE
BEGIN:VEVENT
DTSTART;TZID=America/New_York:20240711T100000
DTEND;TZID=America/New_York:20240711T113000
DTSTAMP:20260423T065746
CREATED:20240520T204239Z
LAST-MODIFIED:20240520T204239Z
UID:10007692-1720692000-1720697400@www.trailslibrary.org
SUMMARY:Full STEAM Ahead - Warrensburg
DESCRIPTION:Ages 2-6: Join us for science\, technology\, engineering\, art\, and mathematics activities for little learners. Guaranteed to get your learner thinking.
URL:https://www.trailslibrary.org/event/full-steam-ahead-warrensburg-4/
LOCATION:Warrensburg Branch\, 432 N. Holden\, Warrensburg\, Missouri\, 64093\, United States
CATEGORIES:Children,Kids,STEAM
END:VEVENT
BEGIN:VEVENT
DTSTART;TZID=America/New_York:20240716T173000
DTEND;TZID=America/New_York:20240716T183000
DTSTAMP:20260423T065746
CREATED:20240520T204240Z
LAST-MODIFIED:20240520T204240Z
UID:10007696-1721151000-1721154600@www.trailslibrary.org
SUMMARY:Robotics\, Eruptions & Design - Warrensburg
DESCRIPTION:Ages 6-12: Join us as we explore\, build\, and create through various technology\, hands-on activities\, and art.
URL:https://www.trailslibrary.org/event/robotics-eruptions-design-warrensburg-3/
LOCATION:Warrensburg Branch\, 432 N. Holden\, Warrensburg\, Missouri\, 64093\, United States
CATEGORIES:Children,Kids,STEAM,Technology
END:VEVENT
BEGIN:VEVENT
DTSTART;TZID=America/New_York:20240722T160000
DTEND;TZID=America/New_York:20240722T160000
DTSTAMP:20260423T065746
CREATED:20240520T193709Z
LAST-MODIFIED:20240520T193709Z
UID:10007560-1721664000-1721664000@www.trailslibrary.org
SUMMARY:Up Up and Away - Odessa
DESCRIPTION:Ages 5-8 REGISTRATION Required: Join us as we explore Sky Lanterns and make one that lights up!
URL:https://www.trailslibrary.org/event/up-up-and-away-odessa/
LOCATION:Odessa Branch\, 107 W. Mason\, Odessa\, MO\, 64076\, United States
CATEGORIES:Children,Crafts,Kids,STEAM
END:VEVENT
BEGIN:VEVENT
DTSTART;TZID=America/New_York:20240725T153000
DTEND;TZID=America/New_York:20240725T163000
DTSTAMP:20260423T065746
CREATED:20240520T192909Z
LAST-MODIFIED:20240520T192909Z
UID:10007521-1721921400-1721925000@www.trailslibrary.org
SUMMARY:Kid's Club - Lexington
DESCRIPTION:Ages 6-12: If you like crafts\, games\, and fun science activites (STEAM) then this club is for you. Snack provided. Bring a friend for more FUN!
URL:https://www.trailslibrary.org/event/kids-club-lexington-10/
LOCATION:Lexington Branch\, 1008 Main Street\, Lexington\, MO\, 64067\, United States
CATEGORIES:Children,Crafts,Kids,STEAM,Youth
END:VEVENT
BEGIN:VEVENT
DTSTART;TZID=America/New_York:20240730T173000
DTEND;TZID=America/New_York:20240730T183000
DTSTAMP:20260423T065746
CREATED:20240520T204339Z
LAST-MODIFIED:20240520T204339Z
UID:10007712-1722360600-1722364200@www.trailslibrary.org
SUMMARY:Robotics\, Eruptions & Design - Warrensburg
DESCRIPTION:Ages 6-12: Join us as we explore\, build\, and create through various technology\, hands-on activities\, and art.
URL:https://www.trailslibrary.org/event/robotics-eruptions-design-warrensburg-4/
LOCATION:Warrensburg Branch\, 432 N. Holden\, Warrensburg\, Missouri\, 64093\, United States
CATEGORIES:Children,Kids,STEAM,Technology
END:VEVENT
END:VCALENDAR