BEGIN:VCALENDAR
VERSION:2.0
PRODID:-//Trails Regional Library - ECPv6.15.20//NONSGML v1.0//EN
CALSCALE:GREGORIAN
METHOD:PUBLISH
X-ORIGINAL-URL:https://www.trailslibrary.org
X-WR-CALDESC:Events for Trails Regional Library
REFRESH-INTERVAL;VALUE=DURATION:PT1H
X-Robots-Tag:noindex
X-PUBLISHED-TTL:PT1H
BEGIN:VTIMEZONE
TZID:America/New_York
BEGIN:DAYLIGHT
TZOFFSETFROM:-0500
TZOFFSETTO:-0400
TZNAME:EDT
DTSTART:20240310T070000
END:DAYLIGHT
BEGIN:STANDARD
TZOFFSETFROM:-0400
TZOFFSETTO:-0500
TZNAME:EST
DTSTART:20241103T060000
END:STANDARD
BEGIN:DAYLIGHT
TZOFFSETFROM:-0500
TZOFFSETTO:-0400
TZNAME:EDT
DTSTART:20250309T070000
END:DAYLIGHT
BEGIN:STANDARD
TZOFFSETFROM:-0400
TZOFFSETTO:-0500
TZNAME:EST
DTSTART:20251102T060000
END:STANDARD
BEGIN:DAYLIGHT
TZOFFSETFROM:-0500
TZOFFSETTO:-0400
TZNAME:EDT
DTSTART:20260308T070000
END:DAYLIGHT
BEGIN:STANDARD
TZOFFSETFROM:-0400
TZOFFSETTO:-0500
TZNAME:EST
DTSTART:20261101T060000
END:STANDARD
END:VTIMEZONE
BEGIN:VEVENT
DTSTART;TZID=America/New_York:20250603T140000
DTEND;TZID=America/New_York:20250603T140000
DTSTAMP:20260422T073527
CREATED:20250509T133140Z
LAST-MODIFIED:20250509T133140Z
UID:10008894-1748959200-1748959200@www.trailslibrary.org
SUMMARY:STEAM Storytime - Concordia Branch
DESCRIPTION:Ages 3-6: Join us for stories and hands-on STEAM activities.
URL:https://www.trailslibrary.org/event/steam-storytime-concordia-branch/
LOCATION:Concordia Branch\, 813 S Main\, Concordia\, MO\, 64020\, United States
CATEGORIES:Children,Kids,STEAM,Storytime
END:VEVENT
BEGIN:VEVENT
DTSTART;TZID=America/New_York:20250605T140000
DTEND;TZID=America/New_York:20250605T140000
DTSTAMP:20260422T073527
CREATED:20250509T133354Z
LAST-MODIFIED:20250509T133354Z
UID:10008902-1749132000-1749132000@www.trailslibrary.org
SUMMARY:STEM + Art = STEAM - Concordia Branch
DESCRIPTION:Ages 6-12: STEAM Workshop: explore and experiment with Science\, Technology\, Engineering\, Math and ART!
URL:https://www.trailslibrary.org/event/stem-art-steam-concordia-branch/
LOCATION:Concordia Branch\, 813 S Main\, Concordia\, MO\, 64020\, United States
CATEGORIES:Children,Kids,STEAM
END:VEVENT
BEGIN:VEVENT
DTSTART;TZID=America/New_York:20250609T160000
DTEND;TZID=America/New_York:20250609T160000
DTSTAMP:20260422T073527
CREATED:20250509T140128Z
LAST-MODIFIED:20250509T140128Z
UID:10009062-1749484800-1749484800@www.trailslibrary.org
SUMMARY:Junior S.T.E.A.M. Lab - Odessa Branch
DESCRIPTION:Ages 5-8: Explore the world of science\, technology\, engineering\, art\, and math.
URL:https://www.trailslibrary.org/event/junior-s-t-e-a-m-lab-odessa-branch/
LOCATION:Odessa Branch\, 107 W. Mason\, Odessa\, MO\, 64076\, United States
CATEGORIES:Children,Kids,STEAM
END:VEVENT
BEGIN:VEVENT
DTSTART;TZID=America/New_York:20250610T140000
DTEND;TZID=America/New_York:20250610T140000
DTSTAMP:20260422T073527
CREATED:20250509T133140Z
LAST-MODIFIED:20250509T133140Z
UID:10008895-1749564000-1749564000@www.trailslibrary.org
SUMMARY:STEAM Storytime - Concordia Branch
DESCRIPTION:Ages 3-6: Join us for stories and hands-on STEAM activities.
URL:https://www.trailslibrary.org/event/steam-storytime-concordia-branch-2/
LOCATION:Concordia Branch\, 813 S Main\, Concordia\, MO\, 64020\, United States
CATEGORIES:Children,Kids,STEAM,Storytime
END:VEVENT
BEGIN:VEVENT
DTSTART;TZID=America/New_York:20250612T140000
DTEND;TZID=America/New_York:20250612T140000
DTSTAMP:20260422T073527
CREATED:20250509T133355Z
LAST-MODIFIED:20250509T133355Z
UID:10008903-1749736800-1749736800@www.trailslibrary.org
SUMMARY:STEM + Art = STEAM - Concordia Branch
DESCRIPTION:Ages 6-12: STEAM Workshop: explore and experiment with Science\, Technology\, Engineering\, Math and ART!
URL:https://www.trailslibrary.org/event/stem-art-steam-concordia-branch-2/
LOCATION:Concordia Branch\, 813 S Main\, Concordia\, MO\, 64020\, United States
CATEGORIES:Children,Kids,STEAM
END:VEVENT
BEGIN:VEVENT
DTSTART;TZID=America/New_York:20250616T160000
DTEND;TZID=America/New_York:20250616T160000
DTSTAMP:20260422T073527
CREATED:20250509T140232Z
LAST-MODIFIED:20250509T140232Z
UID:10009080-1750089600-1750089600@www.trailslibrary.org
SUMMARY:S.T.E.A.M. Lab - Odessa Branch
DESCRIPTION:Ages 9-12: Explore the world of science\, technology\, engineering\, art\, and math.
URL:https://www.trailslibrary.org/event/s-t-e-a-m-lab-odessa-branch/
LOCATION:Odessa Branch\, 107 W. Mason\, Odessa\, MO\, 64076\, United States
CATEGORIES:Children,Kids,STEAM
END:VEVENT
BEGIN:VEVENT
DTSTART;TZID=America/New_York:20250619T140000
DTEND;TZID=America/New_York:20250619T140000
DTSTAMP:20260422T073527
CREATED:20250509T133355Z
LAST-MODIFIED:20250509T133355Z
UID:10008904-1750341600-1750341600@www.trailslibrary.org
SUMMARY:STEM + Art = STEAM - Concordia Branch
DESCRIPTION:Ages 6-12: STEAM Workshop: explore and experiment with Science\, Technology\, Engineering\, Math and ART!
URL:https://www.trailslibrary.org/event/stem-art-steam-concordia-branch-3/
LOCATION:Concordia Branch\, 813 S Main\, Concordia\, MO\, 64020\, United States
CATEGORIES:Children,Kids,STEAM
END:VEVENT
BEGIN:VEVENT
DTSTART;TZID=America/New_York:20250621T100000
DTEND;TZID=America/New_York:20250621T100000
DTSTAMP:20260422T073527
CREATED:20250509T142239Z
LAST-MODIFIED:20250509T142239Z
UID:10009174-1750500000-1750500000@www.trailslibrary.org
SUMMARY:RED - Warrensburg Branch
DESCRIPTION:Ages 6-12: Dive into hands-on activities and technology to explore\, build\, and create amazing projects that blend science\, engineering\, and art.
URL:https://www.trailslibrary.org/event/red-warrensburg-branch/
LOCATION:Warrensburg Branch\, 432 N. Holden\, Warrensburg\, Missouri\, 64093\, United States
CATEGORIES:Children,Kids,STEAM
END:VEVENT
BEGIN:VEVENT
DTSTART;TZID=America/New_York:20250623T140000
DTEND;TZID=America/New_York:20250623T140000
DTSTAMP:20260422T073527
CREATED:20250509T134100Z
LAST-MODIFIED:20250509T134100Z
UID:10008939-1750687200-1750687200@www.trailslibrary.org
SUMMARY:S.T.E.A.M. Team - Corder Branch
DESCRIPTION:Ages 6-12: Activites based on science\, technology\, engineering\, art and math!
URL:https://www.trailslibrary.org/event/s-t-e-a-m-team-corder-branch-4/
LOCATION:Corder Branch\, 221 N. Lafayette\, Corder\, MO\, 64021\, United States
CATEGORIES:Children,Kids,STEAM
END:VEVENT
BEGIN:VEVENT
DTSTART;TZID=America/New_York:20250624T140000
DTEND;TZID=America/New_York:20250624T140000
DTSTAMP:20260422T073527
CREATED:20250509T133140Z
LAST-MODIFIED:20250509T133140Z
UID:10008896-1750773600-1750773600@www.trailslibrary.org
SUMMARY:STEAM Storytime - Concordia Branch
DESCRIPTION:Ages 3-6: Join us for stories and hands-on STEAM activities.
URL:https://www.trailslibrary.org/event/steam-storytime-concordia-branch-3/
LOCATION:Concordia Branch\, 813 S Main\, Concordia\, MO\, 64020\, United States
CATEGORIES:Children,Kids,STEAM,Storytime
END:VEVENT
BEGIN:VEVENT
DTSTART;TZID=America/New_York:20250624T150000
DTEND;TZID=America/New_York:20250624T150000
DTSTAMP:20260422T073527
CREATED:20250509T134522Z
LAST-MODIFIED:20250509T134522Z
UID:10008975-1750777200-1750777200@www.trailslibrary.org
SUMMARY:STEM - Holden Branch
DESCRIPTION:All Ages: Come to the library and experience a STEM program that focuses on Science\, Technology\, Engineering and Math
URL:https://www.trailslibrary.org/event/stem-holden-branch/
LOCATION:Holden Branch\, 207 S. Main\, Holden\, MO\, 64040\, United States
CATEGORIES:Adult,Adults,All Ages,Children,Family,Kids,preteens,senior,Seniors,STEAM,Teen,Teens,Youth
END:VEVENT
BEGIN:VEVENT
DTSTART;TZID=America/New_York:20250626T140000
DTEND;TZID=America/New_York:20250626T140000
DTSTAMP:20260422T073527
CREATED:20250509T133355Z
LAST-MODIFIED:20250509T133355Z
UID:10008905-1750946400-1750946400@www.trailslibrary.org
SUMMARY:STEM + Art = STEAM - Concordia Branch
DESCRIPTION:Ages 6-12: STEAM Workshop: explore and experiment with Science\, Technology\, Engineering\, Math and ART!
URL:https://www.trailslibrary.org/event/stem-art-steam-concordia-branch-4/
LOCATION:Concordia Branch\, 813 S Main\, Concordia\, MO\, 64020\, United States
CATEGORIES:Children,Kids,STEAM
END:VEVENT
END:VCALENDAR