BEGIN:VCALENDAR
VERSION:2.0
PRODID:-//Trails Regional Library - ECPv6.15.20//NONSGML v1.0//EN
CALSCALE:GREGORIAN
METHOD:PUBLISH
X-WR-CALNAME:Trails Regional Library
X-ORIGINAL-URL:https://www.trailslibrary.org
X-WR-CALDESC:Events for Trails Regional Library
REFRESH-INTERVAL;VALUE=DURATION:PT1H
X-Robots-Tag:noindex
X-PUBLISHED-TTL:PT1H
BEGIN:VTIMEZONE
TZID:America/New_York
BEGIN:DAYLIGHT
TZOFFSETFROM:-0500
TZOFFSETTO:-0400
TZNAME:EDT
DTSTART:20240310T070000
END:DAYLIGHT
BEGIN:STANDARD
TZOFFSETFROM:-0400
TZOFFSETTO:-0500
TZNAME:EST
DTSTART:20241103T060000
END:STANDARD
BEGIN:DAYLIGHT
TZOFFSETFROM:-0500
TZOFFSETTO:-0400
TZNAME:EDT
DTSTART:20250309T070000
END:DAYLIGHT
BEGIN:STANDARD
TZOFFSETFROM:-0400
TZOFFSETTO:-0500
TZNAME:EST
DTSTART:20251102T060000
END:STANDARD
BEGIN:DAYLIGHT
TZOFFSETFROM:-0500
TZOFFSETTO:-0400
TZNAME:EDT
DTSTART:20260308T070000
END:DAYLIGHT
BEGIN:STANDARD
TZOFFSETFROM:-0400
TZOFFSETTO:-0500
TZNAME:EST
DTSTART:20261101T060000
END:STANDARD
END:VTIMEZONE
BEGIN:VEVENT
DTSTART;TZID=America/New_York:20250118T100000
DTEND;TZID=America/New_York:20250118T100000
DTSTAMP:20260423T170014
CREATED:20241217T185404Z
LAST-MODIFIED:20241217T185404Z
UID:10008797-1737194400-1737194400@www.trailslibrary.org
SUMMARY:RED (Robotics\, Engineering\, & Design) - Warrensburg Branch
DESCRIPTION:Ages 6-12: Dive into hands-on activities and technology to explore\, build\, and create amazing projects that blend science\, engineering\, and art. Get ready for a fun and innovative experience!
URL:https://www.trailslibrary.org/event/red-robotics-engineering-design-warrensburg-branch-2/
LOCATION:Warrensburg Branch\, 432 N. Holden\, Warrensburg\, Missouri\, 64093\, United States
CATEGORIES:Children,Kids,STEAM
END:VEVENT
BEGIN:VEVENT
DTSTART;TZID=America/New_York:20250127T160000
DTEND;TZID=America/New_York:20250127T160000
DTSTAMP:20260423T170014
CREATED:20241217T180724Z
LAST-MODIFIED:20241217T180724Z
UID:10008700-1737993600-1737993600@www.trailslibrary.org
SUMMARY:S.T.E.M. Lab - Odessa Branch
DESCRIPTION:Ages 9-12: Calling all creators\, join us in the lab as we create Gear Bots.
URL:https://www.trailslibrary.org/event/s-t-e-m-lab-odessa-branch/
LOCATION:Odessa Branch\, 107 W. Mason\, Odessa\, MO\, 64076\, United States
CATEGORIES:Children,Kids,STEAM
END:VEVENT
BEGIN:VEVENT
DTSTART;TZID=America/New_York:20250203T160000
DTEND;TZID=America/New_York:20250203T160000
DTSTAMP:20260423T170014
CREATED:20241217T175925Z
LAST-MODIFIED:20241217T175925Z
UID:10008681-1738598400-1738598400@www.trailslibrary.org
SUMMARY:Junior Science Lab - Odessa Branch
DESCRIPTION:Ages 5-8 REGISTRATION REQUIRED: See how fun science can be as we learn about Newton’s Law.
URL:https://www.trailslibrary.org/event/junior-science-lab-odessa-branch/
LOCATION:Odessa Branch\, 107 W. Mason\, Odessa\, MO\, 64076\, United States
CATEGORIES:Children,Kids,STEAM
END:VEVENT
BEGIN:VEVENT
DTSTART;TZID=America/New_York:20250208T100000
DTEND;TZID=America/New_York:20250208T100000
DTSTAMP:20260423T170014
CREATED:20241217T185404Z
LAST-MODIFIED:20241217T185404Z
UID:10008798-1739008800-1739008800@www.trailslibrary.org
SUMMARY:RED (Robotics\, Engineering\, & Design) - Warrensburg Branch
DESCRIPTION:Ages 6-12: Dive into hands-on activities and technology to explore\, build\, and create amazing projects that blend science\, engineering\, and art. Get ready for a fun and innovative experience!
URL:https://www.trailslibrary.org/event/red-robotics-engineering-design-warrensburg-branch-3/
LOCATION:Warrensburg Branch\, 432 N. Holden\, Warrensburg\, Missouri\, 64093\, United States
CATEGORIES:Children,Kids,STEAM
END:VEVENT
BEGIN:VEVENT
DTSTART;TZID=America/New_York:20250307T160000
DTEND;TZID=America/New_York:20250307T160000
DTSTAMP:20260423T170014
CREATED:20250214T152249Z
LAST-MODIFIED:20250214T152249Z
UID:10008870-1741363200-1741363200@www.trailslibrary.org
SUMMARY:Spaghetti Engineering - Knob Noster Branch
DESCRIPTION:Ages 6-12: Put your engineering skills to the test in the Spaghetti Tower Challenge! Use dry spaghetti and marshmallows to create the tallest\, most creative structure while having fun and competing with friends.
URL:https://www.trailslibrary.org/event/spaghetti-engineering-knob-noster-branch/
LOCATION:Knob Noster Branch\, 202 N. Adams\, Knob Noster\, MO\, 65336\, United States
CATEGORIES:Children,Kids,STEAM
END:VEVENT
BEGIN:VEVENT
DTSTART;TZID=America/New_York:20250310T160000
DTEND;TZID=America/New_York:20250310T160000
DTSTAMP:20260423T170014
CREATED:20241217T180725Z
LAST-MODIFIED:20241217T180725Z
UID:10008702-1741622400-1741622400@www.trailslibrary.org
SUMMARY:Science Squad - Odessa Branch
DESCRIPTION:Ages 9-12:  What substance can be a solid and a liquid?
URL:https://www.trailslibrary.org/event/science-squad-odessa-branch/
LOCATION:Odessa Branch\, 107 W. Mason\, Odessa\, MO\, 64076\, United States
CATEGORIES:Children,Kids,STEAM
END:VEVENT
BEGIN:VEVENT
DTSTART;TZID=America/New_York:20250315T100000
DTEND;TZID=America/New_York:20250315T100000
DTSTAMP:20260423T170014
CREATED:20241217T185403Z
LAST-MODIFIED:20241217T185403Z
UID:10008796-1742032800-1742032800@www.trailslibrary.org
SUMMARY:RED (Robotics\, Engineering\, & Design) - Warrensburg Branch
DESCRIPTION:Ages 6-12: Dive into hands-on activities and technology to explore\, build\, and create amazing projects that blend science\, engineering\, and art. Get ready for a fun and innovative experience!
URL:https://www.trailslibrary.org/event/red-robotics-engineering-design-warrensburg-branch/
LOCATION:Warrensburg Branch\, 432 N. Holden\, Warrensburg\, Missouri\, 64093\, United States
CATEGORIES:Children,Kids,STEAM
END:VEVENT
BEGIN:VEVENT
DTSTART;TZID=America/New_York:20250327T100000
DTEND;TZID=America/New_York:20250327T100000
DTSTAMP:20260423T170014
CREATED:20241217T184049Z
LAST-MODIFIED:20241217T184049Z
UID:10008759-1743069600-1743069600@www.trailslibrary.org
SUMMARY:Full STEAM Ahead - Warrensburg Branch
DESCRIPTION:Ages 0-5: Join us for science\, technology\, engineering\, art\, and mathematics activities for little learners—designed to spark curiosity and creativity!
URL:https://www.trailslibrary.org/event/full-steam-ahead-warrensburg-branch/
LOCATION:Warrensburg Branch\, 432 N. Holden\, Warrensburg\, Missouri\, 64093\, United States
CATEGORIES:Children,Kids,STEAM
END:VEVENT
BEGIN:VEVENT
DTSTART;TZID=America/New_York:20250407T160000
DTEND;TZID=America/New_York:20250407T160000
DTSTAMP:20260423T170014
CREATED:20241217T175831Z
LAST-MODIFIED:20241217T175831Z
UID:10008672-1744041600-1744041600@www.trailslibrary.org
SUMMARY:Calling All Jr Coders - Odessa Branch
DESCRIPTION:Ages 5-8: Let’s play with the cubetto as we learn basic coding.
URL:https://www.trailslibrary.org/event/calling-all-jr-coders-odessa-branch/
LOCATION:Odessa Branch\, 107 W. Mason\, Odessa\, MO\, 64076\, United States
CATEGORIES:Children,Kids,STEAM
END:VEVENT
BEGIN:VEVENT
DTSTART;TZID=America/New_York:20250414T160000
DTEND;TZID=America/New_York:20250414T160000
DTSTAMP:20260423T170014
CREATED:20241217T180724Z
LAST-MODIFIED:20241217T180724Z
UID:10008701-1744646400-1744646400@www.trailslibrary.org
SUMMARY:S.T.E.M. Lab - Odessa Branch
DESCRIPTION:Ages 9-12:It’s time for engineering fun with the ozobots and spheros.
URL:https://www.trailslibrary.org/event/s-t-e-m-lab-odessa-branch-2/
LOCATION:Odessa Branch\, 107 W. Mason\, Odessa\, MO\, 64076\, United States
CATEGORIES:Children,Kids,STEAM
END:VEVENT
BEGIN:VEVENT
DTSTART;TZID=America/New_York:20250603T140000
DTEND;TZID=America/New_York:20250603T140000
DTSTAMP:20260423T170014
CREATED:20250509T133140Z
LAST-MODIFIED:20250509T133140Z
UID:10008894-1748959200-1748959200@www.trailslibrary.org
SUMMARY:STEAM Storytime - Concordia Branch
DESCRIPTION:Ages 3-6: Join us for stories and hands-on STEAM activities.
URL:https://www.trailslibrary.org/event/steam-storytime-concordia-branch/
LOCATION:Concordia Branch\, 813 S Main\, Concordia\, MO\, 64020\, United States
CATEGORIES:Children,Kids,STEAM,Storytime
END:VEVENT
BEGIN:VEVENT
DTSTART;TZID=America/New_York:20250605T140000
DTEND;TZID=America/New_York:20250605T140000
DTSTAMP:20260423T170014
CREATED:20250509T133354Z
LAST-MODIFIED:20250509T133354Z
UID:10008902-1749132000-1749132000@www.trailslibrary.org
SUMMARY:STEM + Art = STEAM - Concordia Branch
DESCRIPTION:Ages 6-12: STEAM Workshop: explore and experiment with Science\, Technology\, Engineering\, Math and ART!
URL:https://www.trailslibrary.org/event/stem-art-steam-concordia-branch/
LOCATION:Concordia Branch\, 813 S Main\, Concordia\, MO\, 64020\, United States
CATEGORIES:Children,Kids,STEAM
END:VEVENT
BEGIN:VEVENT
DTSTART;TZID=America/New_York:20250609T160000
DTEND;TZID=America/New_York:20250609T160000
DTSTAMP:20260423T170014
CREATED:20250509T140128Z
LAST-MODIFIED:20250509T140128Z
UID:10009062-1749484800-1749484800@www.trailslibrary.org
SUMMARY:Junior S.T.E.A.M. Lab - Odessa Branch
DESCRIPTION:Ages 5-8: Explore the world of science\, technology\, engineering\, art\, and math.
URL:https://www.trailslibrary.org/event/junior-s-t-e-a-m-lab-odessa-branch/
LOCATION:Odessa Branch\, 107 W. Mason\, Odessa\, MO\, 64076\, United States
CATEGORIES:Children,Kids,STEAM
END:VEVENT
BEGIN:VEVENT
DTSTART;TZID=America/New_York:20250610T140000
DTEND;TZID=America/New_York:20250610T140000
DTSTAMP:20260423T170014
CREATED:20250509T133140Z
LAST-MODIFIED:20250509T133140Z
UID:10008895-1749564000-1749564000@www.trailslibrary.org
SUMMARY:STEAM Storytime - Concordia Branch
DESCRIPTION:Ages 3-6: Join us for stories and hands-on STEAM activities.
URL:https://www.trailslibrary.org/event/steam-storytime-concordia-branch-2/
LOCATION:Concordia Branch\, 813 S Main\, Concordia\, MO\, 64020\, United States
CATEGORIES:Children,Kids,STEAM,Storytime
END:VEVENT
BEGIN:VEVENT
DTSTART;TZID=America/New_York:20250612T140000
DTEND;TZID=America/New_York:20250612T140000
DTSTAMP:20260423T170014
CREATED:20250509T133355Z
LAST-MODIFIED:20250509T133355Z
UID:10008903-1749736800-1749736800@www.trailslibrary.org
SUMMARY:STEM + Art = STEAM - Concordia Branch
DESCRIPTION:Ages 6-12: STEAM Workshop: explore and experiment with Science\, Technology\, Engineering\, Math and ART!
URL:https://www.trailslibrary.org/event/stem-art-steam-concordia-branch-2/
LOCATION:Concordia Branch\, 813 S Main\, Concordia\, MO\, 64020\, United States
CATEGORIES:Children,Kids,STEAM
END:VEVENT
BEGIN:VEVENT
DTSTART;TZID=America/New_York:20250616T160000
DTEND;TZID=America/New_York:20250616T160000
DTSTAMP:20260423T170014
CREATED:20250509T140232Z
LAST-MODIFIED:20250509T140232Z
UID:10009080-1750089600-1750089600@www.trailslibrary.org
SUMMARY:S.T.E.A.M. Lab - Odessa Branch
DESCRIPTION:Ages 9-12: Explore the world of science\, technology\, engineering\, art\, and math.
URL:https://www.trailslibrary.org/event/s-t-e-a-m-lab-odessa-branch/
LOCATION:Odessa Branch\, 107 W. Mason\, Odessa\, MO\, 64076\, United States
CATEGORIES:Children,Kids,STEAM
END:VEVENT
BEGIN:VEVENT
DTSTART;TZID=America/New_York:20250619T140000
DTEND;TZID=America/New_York:20250619T140000
DTSTAMP:20260423T170014
CREATED:20250509T133355Z
LAST-MODIFIED:20250509T133355Z
UID:10008904-1750341600-1750341600@www.trailslibrary.org
SUMMARY:STEM + Art = STEAM - Concordia Branch
DESCRIPTION:Ages 6-12: STEAM Workshop: explore and experiment with Science\, Technology\, Engineering\, Math and ART!
URL:https://www.trailslibrary.org/event/stem-art-steam-concordia-branch-3/
LOCATION:Concordia Branch\, 813 S Main\, Concordia\, MO\, 64020\, United States
CATEGORIES:Children,Kids,STEAM
END:VEVENT
BEGIN:VEVENT
DTSTART;TZID=America/New_York:20250621T100000
DTEND;TZID=America/New_York:20250621T100000
DTSTAMP:20260423T170014
CREATED:20250509T142239Z
LAST-MODIFIED:20250509T142239Z
UID:10009174-1750500000-1750500000@www.trailslibrary.org
SUMMARY:RED - Warrensburg Branch
DESCRIPTION:Ages 6-12: Dive into hands-on activities and technology to explore\, build\, and create amazing projects that blend science\, engineering\, and art.
URL:https://www.trailslibrary.org/event/red-warrensburg-branch/
LOCATION:Warrensburg Branch\, 432 N. Holden\, Warrensburg\, Missouri\, 64093\, United States
CATEGORIES:Children,Kids,STEAM
END:VEVENT
BEGIN:VEVENT
DTSTART;TZID=America/New_York:20250623T140000
DTEND;TZID=America/New_York:20250623T140000
DTSTAMP:20260423T170014
CREATED:20250509T134100Z
LAST-MODIFIED:20250509T134100Z
UID:10008939-1750687200-1750687200@www.trailslibrary.org
SUMMARY:S.T.E.A.M. Team - Corder Branch
DESCRIPTION:Ages 6-12: Activites based on science\, technology\, engineering\, art and math!
URL:https://www.trailslibrary.org/event/s-t-e-a-m-team-corder-branch-4/
LOCATION:Corder Branch\, 221 N. Lafayette\, Corder\, MO\, 64021\, United States
CATEGORIES:Children,Kids,STEAM
END:VEVENT
BEGIN:VEVENT
DTSTART;TZID=America/New_York:20250624T140000
DTEND;TZID=America/New_York:20250624T140000
DTSTAMP:20260423T170014
CREATED:20250509T133140Z
LAST-MODIFIED:20250509T133140Z
UID:10008896-1750773600-1750773600@www.trailslibrary.org
SUMMARY:STEAM Storytime - Concordia Branch
DESCRIPTION:Ages 3-6: Join us for stories and hands-on STEAM activities.
URL:https://www.trailslibrary.org/event/steam-storytime-concordia-branch-3/
LOCATION:Concordia Branch\, 813 S Main\, Concordia\, MO\, 64020\, United States
CATEGORIES:Children,Kids,STEAM,Storytime
END:VEVENT
BEGIN:VEVENT
DTSTART;TZID=America/New_York:20250624T150000
DTEND;TZID=America/New_York:20250624T150000
DTSTAMP:20260423T170014
CREATED:20250509T134522Z
LAST-MODIFIED:20250509T134522Z
UID:10008975-1750777200-1750777200@www.trailslibrary.org
SUMMARY:STEM - Holden Branch
DESCRIPTION:All Ages: Come to the library and experience a STEM program that focuses on Science\, Technology\, Engineering and Math
URL:https://www.trailslibrary.org/event/stem-holden-branch/
LOCATION:Holden Branch\, 207 S. Main\, Holden\, MO\, 64040\, United States
CATEGORIES:Adult,Adults,All Ages,Children,Family,Kids,preteens,senior,Seniors,STEAM,Teen,Teens,Youth
END:VEVENT
BEGIN:VEVENT
DTSTART;TZID=America/New_York:20250626T140000
DTEND;TZID=America/New_York:20250626T140000
DTSTAMP:20260423T170014
CREATED:20250509T133355Z
LAST-MODIFIED:20250509T133355Z
UID:10008905-1750946400-1750946400@www.trailslibrary.org
SUMMARY:STEM + Art = STEAM - Concordia Branch
DESCRIPTION:Ages 6-12: STEAM Workshop: explore and experiment with Science\, Technology\, Engineering\, Math and ART!
URL:https://www.trailslibrary.org/event/stem-art-steam-concordia-branch-4/
LOCATION:Concordia Branch\, 813 S Main\, Concordia\, MO\, 64020\, United States
CATEGORIES:Children,Kids,STEAM
END:VEVENT
BEGIN:VEVENT
DTSTART;TZID=America/New_York:20250701T140000
DTEND;TZID=America/New_York:20250701T140000
DTSTAMP:20260423T170014
CREATED:20250509T133154Z
LAST-MODIFIED:20250509T133154Z
UID:10008897-1751378400-1751378400@www.trailslibrary.org
SUMMARY:STEAM Storytime - Concordia Branch
DESCRIPTION:Ages 3-6: Join us for stories and hands-on STEAM activities.
URL:https://www.trailslibrary.org/event/steam-storytime-concordia-branch-4/
LOCATION:Concordia Branch\, 813 S Main\, Concordia\, MO\, 64020\, United States
CATEGORIES:Children,Kids,STEAM,Storytime
END:VEVENT
BEGIN:VEVENT
DTSTART;TZID=America/New_York:20250703T140000
DTEND;TZID=America/New_York:20250703T140000
DTSTAMP:20260423T170014
CREATED:20250509T133355Z
LAST-MODIFIED:20250509T133355Z
UID:10008906-1751551200-1751551200@www.trailslibrary.org
SUMMARY:STEM + Art = STEAM - Concordia Branch
DESCRIPTION:Ages 6-12: STEAM Workshop: explore and experiment with Science\, Technology\, Engineering\, Math and ART!
URL:https://www.trailslibrary.org/event/stem-art-steam-concordia-branch-5/
LOCATION:Concordia Branch\, 813 S Main\, Concordia\, MO\, 64020\, United States
CATEGORIES:Children,Kids,STEAM
END:VEVENT
BEGIN:VEVENT
DTSTART;TZID=America/New_York:20250707T160000
DTEND;TZID=America/New_York:20250707T160000
DTSTAMP:20260423T170014
CREATED:20250509T140128Z
LAST-MODIFIED:20250509T140128Z
UID:10009063-1751904000-1751904000@www.trailslibrary.org
SUMMARY:Junior S.T.E.A.M. Lab - Odessa Branch
DESCRIPTION:Ages 5-8: Explore the world of science\, technology\, engineering\, art\, and math.
URL:https://www.trailslibrary.org/event/junior-s-t-e-a-m-lab-odessa-branch-2/
LOCATION:Odessa Branch\, 107 W. Mason\, Odessa\, MO\, 64076\, United States
CATEGORIES:Children,Kids,STEAM
END:VEVENT
BEGIN:VEVENT
DTSTART;TZID=America/New_York:20250708T140000
DTEND;TZID=America/New_York:20250708T140000
DTSTAMP:20260423T170014
CREATED:20250509T133155Z
LAST-MODIFIED:20250509T133155Z
UID:10008898-1751983200-1751983200@www.trailslibrary.org
SUMMARY:STEAM Storytime - Concordia Branch
DESCRIPTION:Ages 3-6: Join us for stories and hands-on STEAM activities.
URL:https://www.trailslibrary.org/event/steam-storytime-concordia-branch-5/
LOCATION:Concordia Branch\, 813 S Main\, Concordia\, MO\, 64020\, United States
CATEGORIES:Children,Kids,STEAM,Storytime
END:VEVENT
BEGIN:VEVENT
DTSTART;TZID=America/New_York:20250710T140000
DTEND;TZID=America/New_York:20250710T140000
DTSTAMP:20260423T170014
CREATED:20250509T133508Z
LAST-MODIFIED:20250509T133508Z
UID:10008907-1752156000-1752156000@www.trailslibrary.org
SUMMARY:STEM + Art = STEAM - Concordia Branch
DESCRIPTION:Ages 6-12: STEAM Workshop: explore and experiment with Science\, Technology\, Engineering\, Math and ART!
URL:https://www.trailslibrary.org/event/stem-art-steam-concordia-branch-6/
LOCATION:Concordia Branch\, 813 S Main\, Concordia\, MO\, 64020\, United States
CATEGORIES:Children,Kids,STEAM
END:VEVENT
BEGIN:VEVENT
DTSTART;TZID=America/New_York:20250714T160000
DTEND;TZID=America/New_York:20250714T160000
DTSTAMP:20260423T170014
CREATED:20250509T140218Z
LAST-MODIFIED:20250509T140218Z
UID:10009078-1752508800-1752508800@www.trailslibrary.org
SUMMARY:Professor Snike's Spooky Lab - Odessa Branch
DESCRIPTION:Ages 9-12: Explore the kooky world of Professor Snike’s lab through new and exciting experiments.
URL:https://www.trailslibrary.org/event/professor-snikes-spooky-lab-odessa-branch/
LOCATION:Odessa Branch\, 107 W. Mason\, Odessa\, MO\, 64076\, United States
CATEGORIES:Children,Kids,STEAM
END:VEVENT
BEGIN:VEVENT
DTSTART;TZID=America/New_York:20250715T140000
DTEND;TZID=America/New_York:20250715T140000
DTSTAMP:20260423T170014
CREATED:20250509T133155Z
LAST-MODIFIED:20250509T133155Z
UID:10008899-1752588000-1752588000@www.trailslibrary.org
SUMMARY:STEAM Storytime - Concordia Branch
DESCRIPTION:Ages 3-6: Join us for stories and hands-on STEAM activities.
URL:https://www.trailslibrary.org/event/steam-storytime-concordia-branch-6/
LOCATION:Concordia Branch\, 813 S Main\, Concordia\, MO\, 64020\, United States
CATEGORIES:Children,Kids,STEAM,Storytime
END:VEVENT
BEGIN:VEVENT
DTSTART;TZID=America/New_York:20250717T140000
DTEND;TZID=America/New_York:20250717T140000
DTSTAMP:20260423T170014
CREATED:20250509T133508Z
LAST-MODIFIED:20250509T133508Z
UID:10008908-1752760800-1752760800@www.trailslibrary.org
SUMMARY:STEM + Art = STEAM - Concordia Branch
DESCRIPTION:Ages 6-12: STEAM Workshop: explore and experiment with Science\, Technology\, Engineering\, Math and ART!
URL:https://www.trailslibrary.org/event/stem-art-steam-concordia-branch-7/
LOCATION:Concordia Branch\, 813 S Main\, Concordia\, MO\, 64020\, United States
CATEGORIES:Children,Kids,STEAM
END:VEVENT
END:VCALENDAR