BEGIN:VCALENDAR
VERSION:2.0
PRODID:-//Trails Regional Library - ECPv6.15.20//NONSGML v1.0//EN
CALSCALE:GREGORIAN
METHOD:PUBLISH
X-WR-CALNAME:Trails Regional Library
X-ORIGINAL-URL:https://www.trailslibrary.org
X-WR-CALDESC:Events for Trails Regional Library
REFRESH-INTERVAL;VALUE=DURATION:PT1H
X-Robots-Tag:noindex
X-PUBLISHED-TTL:PT1H
BEGIN:VTIMEZONE
TZID:America/New_York
BEGIN:DAYLIGHT
TZOFFSETFROM:-0500
TZOFFSETTO:-0400
TZNAME:EDT
DTSTART:20240310T070000
END:DAYLIGHT
BEGIN:STANDARD
TZOFFSETFROM:-0400
TZOFFSETTO:-0500
TZNAME:EST
DTSTART:20241103T060000
END:STANDARD
BEGIN:DAYLIGHT
TZOFFSETFROM:-0500
TZOFFSETTO:-0400
TZNAME:EDT
DTSTART:20250309T070000
END:DAYLIGHT
BEGIN:STANDARD
TZOFFSETFROM:-0400
TZOFFSETTO:-0500
TZNAME:EST
DTSTART:20251102T060000
END:STANDARD
BEGIN:DAYLIGHT
TZOFFSETFROM:-0500
TZOFFSETTO:-0400
TZNAME:EDT
DTSTART:20260308T070000
END:DAYLIGHT
BEGIN:STANDARD
TZOFFSETFROM:-0400
TZOFFSETTO:-0500
TZNAME:EST
DTSTART:20261101T060000
END:STANDARD
BEGIN:DAYLIGHT
TZOFFSETFROM:-0500
TZOFFSETTO:-0400
TZNAME:EDT
DTSTART:20270314T070000
END:DAYLIGHT
BEGIN:STANDARD
TZOFFSETFROM:-0400
TZOFFSETTO:-0500
TZNAME:EST
DTSTART:20271107T060000
END:STANDARD
END:VTIMEZONE
BEGIN:VEVENT
DTSTART;TZID=America/New_York:20251006T153000
DTEND;TZID=America/New_York:20251006T153000
DTSTAMP:20260422T171731
CREATED:20250911T141102Z
LAST-MODIFIED:20250911T141102Z
UID:10009499-1759764600-1759764600@www.trailslibrary.org
SUMMARY:Monster Masterpiece - Odessa Branch
DESCRIPTION:Ages  5-8: Let your creativity run wild and craft your own monster using the magic of string art!
URL:https://www.trailslibrary.org/event/monster-masterpiece-odessa-branch/
LOCATION:Odessa Branch\, 107 W. Mason\, Odessa\, MO\, 64076\, United States
CATEGORIES:Children,Kids,STEAM
END:VEVENT
BEGIN:VEVENT
DTSTART;TZID=America/New_York:20251009T113000
DTEND;TZID=America/New_York:20251009T113000
DTSTAMP:20260422T171731
CREATED:20250911T140611Z
LAST-MODIFIED:20250911T140611Z
UID:10009431-1760009400-1760009400@www.trailslibrary.org
SUMMARY:Indi Explorers - Knob Noster Branch
DESCRIPTION:Ages 6-12: Race into fun with Sphero Indi robots as we learn to code\, solve challenges\, and cruise through obstacle courses!
URL:https://www.trailslibrary.org/event/indi-explorers-knob-noster-branch/
LOCATION:Knob Noster Branch\, 202 N. Adams\, Knob Noster\, MO\, 65336\, United States
CATEGORIES:Children,Kids,STEAM
END:VEVENT
BEGIN:VEVENT
DTSTART;TZID=America/New_York:20251009T153000
DTEND;TZID=America/New_York:20251009T153000
DTSTAMP:20260422T171731
CREATED:20250911T140837Z
LAST-MODIFIED:20250911T140837Z
UID:10009459-1760023800-1760023800@www.trailslibrary.org
SUMMARY:Kids Club - Lexington Branch
DESCRIPTION:Ages 6-12: If you like crafts\, games and fun science activites (STEAM) then this club is for you. Bring a friend for more FUN!
URL:https://www.trailslibrary.org/event/kids-club-lexington-branch-8/
LOCATION:Lexington Branch\, 1008 Main Street\, Lexington\, MO\, 64067\, United States
CATEGORIES:Children,Kids,STEAM
END:VEVENT
BEGIN:VEVENT
DTSTART;TZID=America/New_York:20251009T160000
DTEND;TZID=America/New_York:20251009T160000
DTSTAMP:20260422T171731
CREATED:20250911T140353Z
LAST-MODIFIED:20250911T140353Z
UID:10009404-1760025600-1760025600@www.trailslibrary.org
SUMMARY:STEAM Day - Concordia Branch
DESCRIPTION:Ages 6-12: STEM + Art = STEAM It’s an equation for fun!
URL:https://www.trailslibrary.org/event/steam-day-concordia-branch/
LOCATION:Concordia Branch\, 813 S Main\, Concordia\, MO\, 64020\, United States
CATEGORIES:Children,Kids,STEAM
END:VEVENT
BEGIN:VEVENT
DTSTART;TZID=America/New_York:20251016T153000
DTEND;TZID=America/New_York:20251016T153000
DTSTAMP:20260422T171731
CREATED:20250911T140924Z
LAST-MODIFIED:20250911T140924Z
UID:10009477-1760628600-1760628600@www.trailslibrary.org
SUMMARY:Tween Time - Lexington Branch
DESCRIPTION:Ages 13-18: Come hang out with friends for an afternoon of fun! Whether you like crafting\, playing games\, or science experiments\, there’s something for everyone!
URL:https://www.trailslibrary.org/event/tween-time-lexington-branch-8/
LOCATION:Lexington Branch\, 1008 Main Street\, Lexington\, MO\, 64067\, United States
CATEGORIES:Crafts,Pre-Teen,Pre-Teens,STEAM,Teen,Teens
END:VEVENT
BEGIN:VEVENT
DTSTART;TZID=America/New_York:20251018T100000
DTEND;TZID=America/New_York:20251018T100000
DTSTAMP:20260422T171731
CREATED:20250911T141751Z
LAST-MODIFIED:20250911T141751Z
UID:10009563-1760781600-1760781600@www.trailslibrary.org
SUMMARY:RED - Warrensburg Branch
DESCRIPTION:Ages 6-12: Dive into hands-on activities and technology to explore\, build\, and create amazing projects that blend science\, engineering\, and art. Get ready for a fun and innovative experience!
URL:https://www.trailslibrary.org/event/red-warrensburg-branch-4/
LOCATION:Warrensburg Branch\, 432 N. Holden\, Warrensburg\, Missouri\, 64093\, United States
CATEGORIES:Children,Kids,STEAM
END:VEVENT
BEGIN:VEVENT
DTSTART;TZID=America/New_York:20251020T100000
DTEND;TZID=America/New_York:20251020T100000
DTSTAMP:20260422T171731
CREATED:20250911T141117Z
LAST-MODIFIED:20250911T141117Z
UID:10009505-1760954400-1760954400@www.trailslibrary.org
SUMMARY:Rocks\, Fossils\, & Geodes\, OH MY! - Odessa Branch
DESCRIPTION:Ages 6-12: Discover a hidden world inside rocks! Let’s break into these hidden treasures.
URL:https://www.trailslibrary.org/event/rocks-fossils-geodes-oh-my-odessa-branch/
LOCATION:Odessa Branch\, 107 W. Mason\, Odessa\, MO\, 64076\, United States
CATEGORIES:Children,Kids,STEAM
END:VEVENT
BEGIN:VEVENT
DTSTART;TZID=America/New_York:20251023T100000
DTEND;TZID=America/New_York:20251023T100000
DTSTAMP:20260422T171731
CREATED:20250911T141651Z
LAST-MODIFIED:20250911T141651Z
UID:10009544-1761213600-1761213600@www.trailslibrary.org
SUMMARY:Full Steam Ahead - Warrensburg Branch
DESCRIPTION:Ages 0-5: Join us as we explore STEAM (Science\, Technology\, Engineering\, Art & Math) activities for little learners.
URL:https://www.trailslibrary.org/event/full-steam-ahead-warrensburg-branch-2/
LOCATION:Warrensburg Branch\, 432 N. Holden\, Warrensburg\, Missouri\, 64093\, United States
CATEGORIES:Children,Kids,STEAM
END:VEVENT
BEGIN:VEVENT
DTSTART;TZID=America/New_York:20251027T140000
DTEND;TZID=America/New_York:20251027T140000
DTSTAMP:20260422T171731
CREATED:20250911T194034Z
LAST-MODIFIED:20250911T194034Z
UID:10009653-1761573600-1761573600@www.trailslibrary.org
SUMMARY:S.T.E.A.M. Team - Corder Branch
DESCRIPTION:Ages 6-12: Activities based on science\, technology\, engineering\, art and math!
URL:https://www.trailslibrary.org/event/s-t-e-a-m-team-corder-branch-7/
LOCATION:Corder Branch\, 221 N. Lafayette\, Corder\, MO\, 64021\, United States
CATEGORIES:Children,Kids,STEAM
END:VEVENT
BEGIN:VEVENT
DTSTART;TZID=America/New_York:20251110T153000
DTEND;TZID=America/New_York:20251110T153000
DTSTAMP:20260422T171731
CREATED:20250911T141131Z
LAST-MODIFIED:20250911T141131Z
UID:10009506-1762788600-1762788600@www.trailslibrary.org
SUMMARY:S.T.E.A.M. Lab - Odessa Branch
DESCRIPTION:Ages 9-12: Join us for a hands-on\, creative building experience! Unleash your imagination and strengthen problem-solving skills through unstructured block building. See what you can dream up.
URL:https://www.trailslibrary.org/event/s-t-e-a-m-lab-odessa-branch-3/
LOCATION:Odessa Branch\, 107 W. Mason\, Odessa\, MO\, 64076\, United States
CATEGORIES:Children,Kids,STEAM
END:VEVENT
BEGIN:VEVENT
DTSTART;TZID=America/New_York:20251113T153000
DTEND;TZID=America/New_York:20251113T153000
DTSTAMP:20260422T171731
CREATED:20250911T140837Z
LAST-MODIFIED:20250911T140837Z
UID:10009460-1763047800-1763047800@www.trailslibrary.org
SUMMARY:Kids Club - Lexington Branch
DESCRIPTION:Ages 6-12: If you like crafts\, games and fun science activites (STEAM)\, then this club is for you. Bring a friend for more FUN!
URL:https://www.trailslibrary.org/event/kids-club-lexington-branch-9/
LOCATION:Lexington Branch\, 1008 Main Street\, Lexington\, MO\, 64067\, United States
CATEGORIES:Children,Kids,STEAM
END:VEVENT
BEGIN:VEVENT
DTSTART;TZID=America/New_York:20251113T160000
DTEND;TZID=America/New_York:20251113T160000
DTSTAMP:20260422T171731
CREATED:20250911T140353Z
LAST-MODIFIED:20250911T140353Z
UID:10009405-1763049600-1763049600@www.trailslibrary.org
SUMMARY:STEAM Day - Concordia Branch
DESCRIPTION:Ages 6-12: STEM + Art = STEAM It’s an equation for fun!
URL:https://www.trailslibrary.org/event/steam-day-concordia-branch-2/
LOCATION:Concordia Branch\, 813 S Main\, Concordia\, MO\, 64020\, United States
CATEGORIES:Children,Kids,STEAM
END:VEVENT
BEGIN:VEVENT
DTSTART;TZID=America/New_York:20251115T100000
DTEND;TZID=America/New_York:20251115T100000
DTSTAMP:20260422T171731
CREATED:20250911T141751Z
LAST-MODIFIED:20250911T141751Z
UID:10009565-1763200800-1763200800@www.trailslibrary.org
SUMMARY:RED - Warrensburg Branch
DESCRIPTION:Ages 6-12: Dive into hands-on activities and technology to explore\, build\, and create amazing projects that blend science\, engineering\, and art. Get ready for a fun and innovative experience!
URL:https://www.trailslibrary.org/event/red-warrensburg-branch-6/
LOCATION:Warrensburg Branch\, 432 N. Holden\, Warrensburg\, Missouri\, 64093\, United States
CATEGORIES:Children,Kids,STEAM
END:VEVENT
BEGIN:VEVENT
DTSTART;TZID=America/New_York:20251117T100000
DTEND;TZID=America/New_York:20251117T100000
DTSTAMP:20260422T171731
CREATED:20250911T141047Z
LAST-MODIFIED:20250911T141047Z
UID:10009492-1763373600-1763373600@www.trailslibrary.org
SUMMARY:Have No Fear\, Atmosphere - Odessa Branch
DESCRIPTION:Ages 6-12: Hop on the bus and take off on a sky-high adventure as we explore Earth’s atmosphere!
URL:https://www.trailslibrary.org/event/have-no-fear-atmosphere-odessa-branch/
LOCATION:Odessa Branch\, 107 W. Mason\, Odessa\, MO\, 64076\, United States
CATEGORIES:Children,Kids,STEAM
END:VEVENT
BEGIN:VEVENT
DTSTART;TZID=America/New_York:20251120T153000
DTEND;TZID=America/New_York:20251120T153000
DTSTAMP:20260422T171731
CREATED:20250911T140924Z
LAST-MODIFIED:20250911T140924Z
UID:10009478-1763652600-1763652600@www.trailslibrary.org
SUMMARY:Tween Time - Lexington Branch
DESCRIPTION:Ages 13-18: Come hang out with friends for an afternoon of fun! Whether you like crafting\, playing games\, or science experiments\, there’s something for everyone!
URL:https://www.trailslibrary.org/event/tween-time-lexington-branch-9/
LOCATION:Lexington Branch\, 1008 Main Street\, Lexington\, MO\, 64067\, United States
CATEGORIES:Crafts,Pre-Teen,Pre-Teens,STEAM,Teen,Teens
END:VEVENT
BEGIN:VEVENT
DTSTART;TZID=America/New_York:20251124T140000
DTEND;TZID=America/New_York:20251124T140000
DTSTAMP:20260422T171731
CREATED:20250911T194058Z
LAST-MODIFIED:20250911T194058Z
UID:10009654-1763992800-1763992800@www.trailslibrary.org
SUMMARY:S.T.E.A.M. Team - Corder Branch
DESCRIPTION:Ages 6-12: Activities based on science\, technology\, engineering\, art and math!
URL:https://www.trailslibrary.org/event/s-t-e-a-m-team-corder-branch-8/
LOCATION:Corder Branch\, 221 N. Lafayette\, Corder\, MO\, 64021\, United States
CATEGORIES:Children,Kids,STEAM
END:VEVENT
BEGIN:VEVENT
DTSTART;TZID=America/New_York:20251203T143000
DTEND;TZID=America/New_York:20251203T143000
DTSTAMP:20260422T171731
CREATED:20250911T140611Z
LAST-MODIFIED:20250911T140611Z
UID:10009429-1764772200-1764772200@www.trailslibrary.org
SUMMARY:Frozen Float-Off - Knob Noster Branch
DESCRIPTION:Ages 6-12: Put your engineering skills to the test by building a boat that can carry the most marbles in icy cold water! Will your creation float or sink under the pressure?
URL:https://www.trailslibrary.org/event/frozen-float-off-knob-noster-branch/
LOCATION:Knob Noster Branch\, 202 N. Adams\, Knob Noster\, MO\, 65336\, United States
CATEGORIES:Children,Kids,STEAM
END:VEVENT
BEGIN:VEVENT
DTSTART;TZID=America/New_York:20251210T143000
DTEND;TZID=America/New_York:20251210T143000
DTSTAMP:20260422T171731
CREATED:20250911T140702Z
LAST-MODIFIED:20250911T140702Z
UID:10009439-1765377000-1765377000@www.trailslibrary.org
SUMMARY:Rodent Robots - Knob Noster Branch
DESCRIPTION:Ages 6-12: Help your Code & Go Robot Mouse find its way through fun mazes using simple coding in this hands-on STEM adventure!
URL:https://www.trailslibrary.org/event/rodent-robots-knob-noster-branch/
LOCATION:Knob Noster Branch\, 202 N. Adams\, Knob Noster\, MO\, 65336\, United States
CATEGORIES:Children,Kids,STEAM
END:VEVENT
BEGIN:VEVENT
DTSTART;TZID=America/New_York:20251211T153000
DTEND;TZID=America/New_York:20251211T153000
DTSTAMP:20260422T171731
CREATED:20250911T140838Z
LAST-MODIFIED:20250911T140838Z
UID:10009461-1765467000-1765467000@www.trailslibrary.org
SUMMARY:Kids Club - Lexington Branch
DESCRIPTION:Ages 6-12: If you like crafts\, games and fun science activites (STEAM)\, then this club is for you. Bring a friend for more FUN!
URL:https://www.trailslibrary.org/event/kids-club-lexington-branch-10/
LOCATION:Lexington Branch\, 1008 Main Street\, Lexington\, MO\, 64067\, United States
CATEGORIES:Children,Kids,STEAM
END:VEVENT
BEGIN:VEVENT
DTSTART;TZID=America/New_York:20251211T160000
DTEND;TZID=America/New_York:20251211T160000
DTSTAMP:20260422T171731
CREATED:20250911T140353Z
LAST-MODIFIED:20250911T140353Z
UID:10009406-1765468800-1765468800@www.trailslibrary.org
SUMMARY:STEAM Day - Concordia Branch
DESCRIPTION:Ages 6-12: STEM + Art = STEAM It’s an equation for fun!
URL:https://www.trailslibrary.org/event/steam-day-concordia-branch-3/
LOCATION:Concordia Branch\, 813 S Main\, Concordia\, MO\, 64020\, United States
CATEGORIES:Children,Kids,STEAM
END:VEVENT
BEGIN:VEVENT
DTSTART;TZID=America/New_York:20251218T153000
DTEND;TZID=America/New_York:20251218T153000
DTSTAMP:20260422T171731
CREATED:20250911T140924Z
LAST-MODIFIED:20250911T140924Z
UID:10009479-1766071800-1766071800@www.trailslibrary.org
SUMMARY:Tween Time - Lexington Branch
DESCRIPTION:Ages 13-18: Come hang out with friends for an afternoon of fun! Whether you like crafting\, playing games\, or science experiments\, there’s something for everyone!
URL:https://www.trailslibrary.org/event/tween-time-lexington-branch-10/
LOCATION:Lexington Branch\, 1008 Main Street\, Lexington\, MO\, 64067\, United States
CATEGORIES:Crafts,Pre-Teen,Pre-Teens,STEAM,Teen,Teens
END:VEVENT
BEGIN:VEVENT
DTSTART;TZID=America/New_York:20251220T100000
DTEND;TZID=America/New_York:20251220T100000
DTSTAMP:20260422T171731
CREATED:20250911T141751Z
LAST-MODIFIED:20250911T141751Z
UID:10009564-1766224800-1766224800@www.trailslibrary.org
SUMMARY:RED - Warrensburg Branch
DESCRIPTION:Ages 6-12: Dive into hands-on activities and technology to explore\, build\, and create amazing projects that blend science\, engineering\, and art. Get ready for a fun and innovative experience!
URL:https://www.trailslibrary.org/event/red-warrensburg-branch-5/
LOCATION:Warrensburg Branch\, 432 N. Holden\, Warrensburg\, Missouri\, 64093\, United States
CATEGORIES:Children,Kids,STEAM
END:VEVENT
BEGIN:VEVENT
DTSTART;TZID=America/New_York:20260108T153000
DTEND;TZID=America/New_York:20260108T153000
DTSTAMP:20260422T171731
CREATED:20251215T202354Z
LAST-MODIFIED:20251215T202354Z
UID:10009902-1767886200-1767886200@www.trailslibrary.org
SUMMARY:Kids Club - Lexington Branch
DESCRIPTION:Ages 6-12: If you like crafts\, games and fun science activites (STEAM)\, then this club is for you. Bring a friend for more FUN!
URL:https://www.trailslibrary.org/event/kids-club-lexington-branch-11/
LOCATION:Lexington Branch\, 1008 Main Street\, Lexington\, MO\, 64067\, United States
CATEGORIES:Children,Crafts,Kids,STEAM
END:VEVENT
BEGIN:VEVENT
DTSTART;TZID=America/New_York:20260112T100000
DTEND;TZID=America/New_York:20260112T100000
DTSTAMP:20260422T171731
CREATED:20251215T204723Z
LAST-MODIFIED:20251215T204723Z
UID:10010008-1768212000-1768212000@www.trailslibrary.org
SUMMARY:Young Explorers - Odessa Branch
DESCRIPTION:Ages 6-12: Kids dive into a world of discovery through hands-on activities\, exploration\, and experiments that spark curiosity and imagination.
URL:https://www.trailslibrary.org/event/young-explorers-odessa-branch-4/
LOCATION:Odessa Branch\, 107 W. Mason\, Odessa\, MO\, 64076\, United States
CATEGORIES:Children,Kids,STEAM
END:VEVENT
BEGIN:VEVENT
DTSTART;TZID=America/New_York:20260115T160000
DTEND;TZID=America/New_York:20260115T160000
DTSTAMP:20260422T171731
CREATED:20251215T200138Z
LAST-MODIFIED:20251215T200138Z
UID:10009727-1768492800-1768492800@www.trailslibrary.org
SUMMARY:STEAM Day - Concordia Branch
DESCRIPTION:Ages 6-12: STEM + Art = STEAM It’s an equation for fun!
URL:https://www.trailslibrary.org/event/steam-day-concordia-branch-4/
LOCATION:Concordia Branch\, 813 S Main\, Concordia\, MO\, 64020\, United States
CATEGORIES:Children,Kids,STEAM
END:VEVENT
BEGIN:VEVENT
DTSTART;TZID=America/New_York:20260117T100000
DTEND;TZID=America/New_York:20260117T100000
DTSTAMP:20260422T171731
CREATED:20251215T205646Z
LAST-MODIFIED:20251215T205646Z
UID:10010084-1768644000-1768644000@www.trailslibrary.org
SUMMARY:RED - Warrensburg Branch
DESCRIPTION:Ages 6-12: Dive into hands-on activities and technology to explore\, build\, and create amazing projects that blend science\, engineering\, and art.
URL:https://www.trailslibrary.org/event/red-warrensburg-branch-9/
LOCATION:Warrensburg Branch\, 432 N. Holden\, Warrensburg\, Missouri\, 64093\, United States
CATEGORIES:Children,Kids,STEAM
END:VEVENT
BEGIN:VEVENT
DTSTART;TZID=America/New_York:20260126T140000
DTEND;TZID=America/New_York:20260126T140000
DTSTAMP:20260422T171731
CREATED:20251215T201027Z
LAST-MODIFIED:20251216T225500Z
UID:10009787-1769436000-1769436000@www.trailslibrary.org
SUMMARY:S.T.E.A.M. Team - Corder Branch
DESCRIPTION:Ages 6-12: Activities based on science\, technology\, engineering\, art and math!
URL:https://www.trailslibrary.org/event/s-t-e-a-m-team-corder-branch-9/
LOCATION:Corder Branch\, 221 N. Lafayette\, Corder\, MO\, 64021\, United States
CATEGORIES:Children,Kids,STEAM
END:VEVENT
BEGIN:VEVENT
DTSTART;TZID=America/New_York:20260126T160000
DTEND;TZID=America/New_York:20260126T160000
DTSTAMP:20260422T171731
CREATED:20251215T203623Z
LAST-MODIFIED:20251215T203623Z
UID:10009964-1769443200-1769443200@www.trailslibrary.org
SUMMARY:Mighty Movers: Force & Motion - Odessa Branch
DESCRIPTION:Ages 9-12: Explore force and motion through a fun\, hands-on experiment that gets things flying!
URL:https://www.trailslibrary.org/event/mighty-movers-force-motion-odessa-branch/
LOCATION:Odessa Branch\, 107 W. Mason\, Odessa\, MO\, 64076\, United States
CATEGORIES:Children,Kids,STEAM
END:VEVENT
BEGIN:VEVENT
DTSTART;TZID=America/New_York:20260202T160000
DTEND;TZID=America/New_York:20260202T160000
DTSTAMP:20260422T171731
CREATED:20251215T203005Z
LAST-MODIFIED:20251215T203005Z
UID:10009942-1770048000-1770048000@www.trailslibrary.org
SUMMARY:Celebrate Women of Science! - Odessa Branch
DESCRIPTION:Ages 5-8: Learn about the marvelous Marie Curie\, scientist and famous inventor.
URL:https://www.trailslibrary.org/event/celebrate-women-of-science-odessa-branch/
LOCATION:Odessa Branch\, 107 W. Mason\, Odessa\, MO\, 64076\, United States
CATEGORIES:Children,Kids,STEAM
END:VEVENT
BEGIN:VEVENT
DTSTART;TZID=America/New_York:20260209T100000
DTEND;TZID=America/New_York:20260209T100000
DTSTAMP:20260422T171731
CREATED:20251215T204722Z
LAST-MODIFIED:20251215T204722Z
UID:10010005-1770631200-1770631200@www.trailslibrary.org
SUMMARY:Young Explorers - Odessa Branch
DESCRIPTION:Ages 6-12: Kids dive into a world of discovery through hands-on activities\, exploration\, and experiments that spark curiosity and imagination.
URL:https://www.trailslibrary.org/event/young-explorers-odessa-branch/
LOCATION:Odessa Branch\, 107 W. Mason\, Odessa\, MO\, 64076\, United States
CATEGORIES:Children,Kids,STEAM
END:VEVENT
END:VCALENDAR