BEGIN:VCALENDAR
VERSION:2.0
PRODID:-//Trails Regional Library - ECPv6.15.20//NONSGML v1.0//EN
CALSCALE:GREGORIAN
METHOD:PUBLISH
X-ORIGINAL-URL:https://www.trailslibrary.org
X-WR-CALDESC:Events for Trails Regional Library
REFRESH-INTERVAL;VALUE=DURATION:PT1H
X-Robots-Tag:noindex
X-PUBLISHED-TTL:PT1H
BEGIN:VTIMEZONE
TZID:America/New_York
BEGIN:DAYLIGHT
TZOFFSETFROM:-0500
TZOFFSETTO:-0400
TZNAME:EDT
DTSTART:20250309T070000
END:DAYLIGHT
BEGIN:STANDARD
TZOFFSETFROM:-0400
TZOFFSETTO:-0500
TZNAME:EST
DTSTART:20251102T060000
END:STANDARD
BEGIN:DAYLIGHT
TZOFFSETFROM:-0500
TZOFFSETTO:-0400
TZNAME:EDT
DTSTART:20260308T070000
END:DAYLIGHT
BEGIN:STANDARD
TZOFFSETFROM:-0400
TZOFFSETTO:-0500
TZNAME:EST
DTSTART:20261101T060000
END:STANDARD
BEGIN:DAYLIGHT
TZOFFSETFROM:-0500
TZOFFSETTO:-0400
TZNAME:EDT
DTSTART:20270314T070000
END:DAYLIGHT
BEGIN:STANDARD
TZOFFSETFROM:-0400
TZOFFSETTO:-0500
TZNAME:EST
DTSTART:20271107T060000
END:STANDARD
END:VTIMEZONE
BEGIN:VEVENT
DTSTART;TZID=America/New_York:20260423T153000
DTEND;TZID=America/New_York:20260423T153000
DTSTAMP:20260421T125729
CREATED:20251215T203020Z
LAST-MODIFIED:20251215T203020Z
UID:10009946-1776958200-1776958200@www.trailslibrary.org
SUMMARY:Decompression Den - Odessa Branch
DESCRIPTION:Ages 13-18: Take some time to unwind and enjoy some snacks at the library!
URL:https://www.trailslibrary.org/event/decompression-den-odessa-branch-4/
LOCATION:Odessa Branch\, 107 W. Mason\, Odessa\, MO\, 64076\, United States
CATEGORIES:Pre-Teen,Pre-Teens,Teen,Teens
END:VEVENT
BEGIN:VEVENT
DTSTART;TZID=America/New_York:20260423T160000
DTEND;TZID=America/New_York:20260423T160000
DTSTAMP:20260421T125729
CREATED:20251215T195306Z
LAST-MODIFIED:20251215T195306Z
UID:10009692-1776960000-1776960000@www.trailslibrary.org
SUMMARY:Afterschool Book Talk - Concordia Branch
DESCRIPTION:Ages 12-15: Come in after school to talk about books and have a snack.
URL:https://www.trailslibrary.org/event/afterschool-book-talk-concordia-branch-4/
LOCATION:Concordia Branch\, 813 S Main\, Concordia\, MO\, 64020\, United States
CATEGORIES:Book Club,Teen,Teens
END:VEVENT
BEGIN:VEVENT
DTSTART;TZID=America/New_York:20260425T100000
DTEND;TZID=America/New_York:20260425T100000
DTSTAMP:20260421T125729
CREATED:20251215T204831Z
LAST-MODIFIED:20251215T204831Z
UID:10010025-1777111200-1777111200@www.trailslibrary.org
SUMMARY:Crafty Family Fun - Warrensburg Branch
DESCRIPTION:All Ages: Join us for hands-on fun where kids can get creative using recycled\, repurposed\, and budget-friendly materials.
URL:https://www.trailslibrary.org/event/crafty-family-fun-warrensburg-branch-13/
LOCATION:Warrensburg Branch\, 432 N. Holden\, Warrensburg\, Missouri\, 64093\, United States
CATEGORIES:Adult,Adults,All Ages,Children,Crafts,Family,Kids,preteens,senior,Seniors,Teen,Teens,Youth
END:VEVENT
BEGIN:VEVENT
DTSTART;TZID=America/New_York:20260425T113000
DTEND;TZID=America/New_York:20260425T113000
DTSTAMP:20260421T125729
CREATED:20251216T225500Z
LAST-MODIFIED:20251216T225500Z
UID:10010156-1777116600-1777116600@www.trailslibrary.org
SUMMARY:Mini Paper Mache Volcanoes - Corder Branch
DESCRIPTION:Ages 6-18: Get ready for some explosive fun! Join us to build your own mini paper mache volcano and let your creativity errupt as you design and paint your unique creation!
URL:https://www.trailslibrary.org/event/mini-paper-mache-volcanoes-corder-branch-2/
LOCATION:Corder Branch\, 221 N. Lafayette\, Corder\, MO\, 64021\, United States
CATEGORIES:Children,Crafts,Kids,Pre-Teen,Pre-Teens,Teen,Teens
END:VEVENT
END:VCALENDAR