BEGIN:VCALENDAR
VERSION:2.0
PRODID:-//Trails Regional Library - ECPv6.15.20//NONSGML v1.0//EN
CALSCALE:GREGORIAN
METHOD:PUBLISH
X-WR-CALNAME:Trails Regional Library
X-ORIGINAL-URL:https://www.trailslibrary.org
X-WR-CALDESC:Events for Trails Regional Library
REFRESH-INTERVAL;VALUE=DURATION:PT1H
X-Robots-Tag:noindex
X-PUBLISHED-TTL:PT1H
BEGIN:VTIMEZONE
TZID:America/New_York
BEGIN:DAYLIGHT
TZOFFSETFROM:-0500
TZOFFSETTO:-0400
TZNAME:EDT
DTSTART:20240310T070000
END:DAYLIGHT
BEGIN:STANDARD
TZOFFSETFROM:-0400
TZOFFSETTO:-0500
TZNAME:EST
DTSTART:20241103T060000
END:STANDARD
BEGIN:DAYLIGHT
TZOFFSETFROM:-0500
TZOFFSETTO:-0400
TZNAME:EDT
DTSTART:20250309T070000
END:DAYLIGHT
BEGIN:STANDARD
TZOFFSETFROM:-0400
TZOFFSETTO:-0500
TZNAME:EST
DTSTART:20251102T060000
END:STANDARD
BEGIN:DAYLIGHT
TZOFFSETFROM:-0500
TZOFFSETTO:-0400
TZNAME:EDT
DTSTART:20260308T070000
END:DAYLIGHT
BEGIN:STANDARD
TZOFFSETFROM:-0400
TZOFFSETTO:-0500
TZNAME:EST
DTSTART:20261101T060000
END:STANDARD
END:VTIMEZONE
BEGIN:VEVENT
DTSTART;TZID=America/New_York:20250630T153000
DTEND;TZID=America/New_York:20250630T153000
DTSTAMP:20260425T115729
CREATED:20250509T142115Z
LAST-MODIFIED:20250509T142115Z
UID:10009143-1751297400-1751297400@www.trailslibrary.org
SUMMARY:Muddy Day Adventures - Warrensburg Branch
DESCRIPTION:All Ages: Celebrate National Mud Day early with your friends at Trails Regional Library. Come in swimwear or old clothes as you are bound to get dirty. Enjoy a mud pool\, mud painting\, a mud kitchen\, clean off in our sprinkler station and more!
URL:https://www.trailslibrary.org/event/muddy-day-adventures-warrensburg-branch/
LOCATION:Warrensburg Branch\, 432 N. Holden\, Warrensburg\, Missouri\, 64093\, United States
CATEGORIES:Adult,Adults,All Ages,Children,Family,Kids,preteens,senior,Seniors,Teen,Teens,Youth
END:VEVENT
BEGIN:VEVENT
DTSTART;TZID=America/New_York:20250701T143000
DTEND;TZID=America/New_York:20250701T143000
DTSTAMP:20260425T115729
CREATED:20250509T141825Z
LAST-MODIFIED:20250509T141825Z
UID:10009131-1751380200-1751380200@www.trailslibrary.org
SUMMARY:Family Storytime - Warrensburg Branch
DESCRIPTION:All Ages: Join us for stories\, music\, crafts and fun! Ideal for the whole family.
URL:https://www.trailslibrary.org/event/family-storytime-warrensburg-branch-5/
LOCATION:Warrensburg Branch\, 432 N. Holden\, Warrensburg\, Missouri\, 64093\, United States
CATEGORIES:Adult,Adults,All Ages,Children,Family,Kids,preteens,senior,Seniors,Storytime,Teen,Teens,Youth
END:VEVENT
BEGIN:VEVENT
DTSTART;TZID=America/New_York:20250702T100000
DTEND;TZID=America/New_York:20250702T100000
DTSTAMP:20260425T115729
CREATED:20250509T133140Z
LAST-MODIFIED:20250513T155443Z
UID:10008893-1751450400-1751450400@www.trailslibrary.org
SUMMARY:Wildflowers of Missouri - Concordia Branch
DESCRIPTION:All Ages: Missouri State Park Naturalist presentation on wildflowers.
URL:https://www.trailslibrary.org/event/knob-noster-state-park-presentation-concordia-branch-2/
LOCATION:Concordia Branch\, 813 S Main\, Concordia\, MO\, 64020\, United States
CATEGORIES:Adult,Adults,All Ages,Children,Family,Guest Presenter,Kids,preteens,senior,Seniors,Teen,Teens,Youth
END:VEVENT
BEGIN:VEVENT
DTSTART;TZID=America/New_York:20250702T100000
DTEND;TZID=America/New_York:20250702T100000
DTSTAMP:20260425T115729
CREATED:20250509T133628Z
LAST-MODIFIED:20250509T133628Z
UID:10008914-1751450400-1751450400@www.trailslibrary.org
SUMMARY:Storytime - Corder Branch
DESCRIPTION:All Ages: Storytimes are for building reading skills\, making friends\, and having fun!
URL:https://www.trailslibrary.org/event/storytime-corder-branch-14/
LOCATION:Corder Branch\, 221 N. Lafayette\, Corder\, MO\, 64021\, United States
CATEGORIES:Adult,Adults,All Ages,Children,Family,Kids,preteens,senior,Seniors,Storytime,Teen,Teens,Youth
END:VEVENT
BEGIN:VEVENT
DTSTART;TZID=America/New_York:20250702T123000
DTEND;TZID=America/New_York:20250702T123000
DTSTAMP:20260425T115729
CREATED:20250509T133645Z
LAST-MODIFIED:20250509T133645Z
UID:10008925-1751459400-1751459400@www.trailslibrary.org
SUMMARY:Chess Club - Corder Branch
DESCRIPTION:All Ages: Come test your skills with friendly opponents.
URL:https://www.trailslibrary.org/event/chess-club-corder-branch-2/
LOCATION:Corder Branch\, 221 N. Lafayette\, Corder\, MO\, 64021\, United States
CATEGORIES:Adult,Adults,All Ages,Children,Family,Kids,preteens,senior,Seniors,Teen,Teens,Youth
END:VEVENT
BEGIN:VEVENT
DTSTART;TZID=America/New_York:20250703T153000
DTEND;TZID=America/New_York:20250703T153000
DTSTAMP:20260425T115729
CREATED:20250509T140218Z
LAST-MODIFIED:20250509T140218Z
UID:10009077-1751556600-1751556600@www.trailslibrary.org
SUMMARY:Otaku Club - Odessa Branch
DESCRIPTION:Ages 13-18: Enjoy an evening of watching anime and discussing all things nerdy with like minded people!
URL:https://www.trailslibrary.org/event/otaku-club-odessa-branch-7/
LOCATION:Odessa Branch\, 107 W. Mason\, Odessa\, MO\, 64076\, United States
CATEGORIES:Teen,Teens
END:VEVENT
BEGIN:VEVENT
DTSTART;TZID=America/New_York:20250705T110000
DTEND;TZID=America/New_York:20250705T110000
DTSTAMP:20260425T115729
CREATED:20250509T134320Z
LAST-MODIFIED:20250509T134320Z
UID:10008969-1751713200-1751713200@www.trailslibrary.org
SUMMARY:Family Movie Matinee - Holden Branch
DESCRIPTION:All Ages: Come to the library and enjoy a family friendly movie.
URL:https://www.trailslibrary.org/event/family-movie-matinee-holden-branch-6/
LOCATION:Holden Branch\, 207 S. Main\, Holden\, MO\, 64040\, United States
CATEGORIES:Adult,Adults,All Ages,Children,Family,Kids,Movie,preteens,senior,Seniors,Teen,Teens,Youth
END:VEVENT
BEGIN:VEVENT
DTSTART;TZID=America/New_York:20250708T143000
DTEND;TZID=America/New_York:20250708T143000
DTSTAMP:20260425T115729
CREATED:20250509T141825Z
LAST-MODIFIED:20250509T141825Z
UID:10009132-1751985000-1751985000@www.trailslibrary.org
SUMMARY:Family Storytime - Warrensburg Branch
DESCRIPTION:All Ages: Join us for stories\, music\, crafts and fun! Ideal for the whole family.
URL:https://www.trailslibrary.org/event/family-storytime-warrensburg-branch-6/
LOCATION:Warrensburg Branch\, 432 N. Holden\, Warrensburg\, Missouri\, 64093\, United States
CATEGORIES:Adult,Adults,All Ages,Children,Family,Kids,preteens,senior,Seniors,Storytime,Teen,Teens,Youth
END:VEVENT
BEGIN:VEVENT
DTSTART;TZID=America/New_York:20250709T100000
DTEND;TZID=America/New_York:20250709T100000
DTSTAMP:20260425T115729
CREATED:20250509T133628Z
LAST-MODIFIED:20250509T133628Z
UID:10008915-1752055200-1752055200@www.trailslibrary.org
SUMMARY:Storytime - Corder Branch
DESCRIPTION:All Ages: Storytimes are for building reading skills\, making friends\, and having fun!
URL:https://www.trailslibrary.org/event/storytime-corder-branch-15/
LOCATION:Corder Branch\, 221 N. Lafayette\, Corder\, MO\, 64021\, United States
CATEGORIES:Adult,Adults,All Ages,Children,Family,Kids,preteens,senior,Seniors,Storytime,Teen,Teens,Youth
END:VEVENT
BEGIN:VEVENT
DTSTART;TZID=America/New_York:20250709T100000
DTEND;TZID=America/New_York:20250709T100000
DTSTAMP:20260425T115729
CREATED:20250509T134738Z
LAST-MODIFIED:20250626T163458Z
UID:10008987-1752055200-1752055200@www.trailslibrary.org
SUMMARY:Terrific Turtles - Holden Branch
DESCRIPTION:All Ages: Knob Noster State Park will do a program showcasing Missouri turtles. Naturalists will describe their behaviors and habitat.
URL:https://www.trailslibrary.org/event/terrific-turtles-holden-branch/
LOCATION:Holden Branch\, 207 S. Main\, Holden\, MO\, 64040\, United States
CATEGORIES:Adult,Adults,All Ages,Children,Family,Guest Presenter,Kids,preteens,senior,Seniors,Teen,Teens,Youth
END:VEVENT
BEGIN:VEVENT
DTSTART;TZID=America/New_York:20250709T150000
DTEND;TZID=America/New_York:20250709T150000
DTSTAMP:20260425T115729
CREATED:20250509T134942Z
LAST-MODIFIED:20250509T134942Z
UID:10008988-1752073200-1752073200@www.trailslibrary.org
SUMMARY:Bad Art Afternoon - Knob Noster Branch
DESCRIPTION:Ages 13-18: The goal? Make the worst art possible and compete for funny awards.
URL:https://www.trailslibrary.org/event/bad-art-afternoon-knob-noster-branch/
LOCATION:Knob Noster Branch\, 202 N. Adams\, Knob Noster\, MO\, 65336\, United States
CATEGORIES:Crafts,Teen,Teens
END:VEVENT
BEGIN:VEVENT
DTSTART;TZID=America/New_York:20250710T150000
DTEND;TZID=America/New_York:20250710T150000
DTSTAMP:20260425T115729
CREATED:20250509T134306Z
LAST-MODIFIED:20250509T134306Z
UID:10008966-1752159600-1752159600@www.trailslibrary.org
SUMMARY:Dungeons & Dragons Club - Holden Branch
DESCRIPTION:Ages 13-18 REGISTRATION REQUIRED: Come play Dungeons and Dragons with us.
URL:https://www.trailslibrary.org/event/dungeons-dragons-club-holden-branch-11/
LOCATION:Holden Branch\, 207 S. Main\, Holden\, MO\, 64040\, United States
CATEGORIES:Teen,Teens
END:VEVENT
BEGIN:VEVENT
DTSTART;TZID=America/New_York:20250710T153000
DTEND;TZID=America/New_York:20250710T153000
DTSTAMP:20260425T115729
CREATED:20250509T141034Z
LAST-MODIFIED:20250509T141034Z
UID:10009103-1752161400-1752161400@www.trailslibrary.org
SUMMARY:The Chips Are Down - Odessa Branch
DESCRIPTION:Ages 13-18: Take some plain paint chips and give them a personalized touch!
URL:https://www.trailslibrary.org/event/the-chips-are-down-odessa-branch/
LOCATION:Odessa Branch\, 107 W. Mason\, Odessa\, MO\, 64076\, United States
CATEGORIES:Crafts,Teen,Teens
END:VEVENT
BEGIN:VEVENT
DTSTART;TZID=America/New_York:20250711T100000
DTEND;TZID=America/New_York:20250711T100000
DTSTAMP:20260425T115729
CREATED:20250509T140233Z
LAST-MODIFIED:20250509T140233Z
UID:10009083-1752228000-1752228000@www.trailslibrary.org
SUMMARY:Sit and Read with an Officer - Odessa Branch
DESCRIPTION:All Ages: Bring the whole family to engage in fascinating stories read by Odessa’s School Resource Officers.
URL:https://www.trailslibrary.org/event/sit-and-read-with-an-officer-odessa-branch-3/
LOCATION:Odessa Branch\, 107 W. Mason\, Odessa\, MO\, 64076\, United States
CATEGORIES:Adult,Adults,All Ages,Children,Family,Kids,preteens,senior,Seniors,Storytime,Teen,Teens,Youth
END:VEVENT
BEGIN:VEVENT
DTSTART;TZID=America/New_York:20250712T100000
DTEND;TZID=America/New_York:20250712T100000
DTSTAMP:20260425T115729
CREATED:20250509T133049Z
LAST-MODIFIED:20250509T133049Z
UID:10008890-1752314400-1752314400@www.trailslibrary.org
SUMMARY:Cartoons & Pancakes - Concordia Branch
DESCRIPTION:All Ages: It’s Second Saturday! Let’s enjoy pancakes and cartoons!
URL:https://www.trailslibrary.org/event/cartoons-pancakes-concordia-branch-7/
LOCATION:Concordia Branch\, 813 S Main\, Concordia\, MO\, 64020\, United States
CATEGORIES:Adult,Adults,All Ages,Children,Family,Kids,Movie,preteens,senior,Seniors,Teen,Teens,Youth
END:VEVENT
BEGIN:VEVENT
DTSTART;TZID=America/New_York:20250712T110000
DTEND;TZID=America/New_York:20250712T110000
DTSTAMP:20260425T115729
CREATED:20250509T142406Z
LAST-MODIFIED:20250509T142406Z
UID:10009200-1752318000-1752318000@www.trailslibrary.org
SUMMARY:Turtles!!! - Warrensburg Branch
DESCRIPTION:All Ages: Get up close with real turtles as Knob Noster State Park staff visit the library! Discover fun turtle facts\, ask questions\, and learn what makes these shelled reptiles so amazing.
URL:https://www.trailslibrary.org/event/turtles-warrensburg-branch/
LOCATION:Warrensburg Branch\, 432 N. Holden\, Warrensburg\, Missouri\, 64093\, United States
CATEGORIES:Adult,Adults,All Ages,Children,Family,Guest Presenter,Kids,preteens,senior,Seniors,Teen,Teens,Youth
END:VEVENT
BEGIN:VEVENT
DTSTART;TZID=America/New_York:20250714T150000
DTEND;TZID=America/New_York:20250714T150000
DTSTAMP:20260425T115729
CREATED:20250509T134959Z
LAST-MODIFIED:20250509T134959Z
UID:10008999-1752505200-1752505200@www.trailslibrary.org
SUMMARY:Paint Your Partner - Knob Noster Branch
DESCRIPTION:Ages 13-18: Bring your favorite person and paint each other’s portraits in this fun\, no experience needed hour of creativity and laughs.
URL:https://www.trailslibrary.org/event/paint-your-partner-knob-noster-branch/
LOCATION:Knob Noster Branch\, 202 N. Adams\, Knob Noster\, MO\, 65336\, United States
CATEGORIES:Crafts,Teen,Teens
END:VEVENT
BEGIN:VEVENT
DTSTART;TZID=America/New_York:20250715T143000
DTEND;TZID=America/New_York:20250715T143000
DTSTAMP:20260425T115729
CREATED:20250509T141825Z
LAST-MODIFIED:20250509T141825Z
UID:10009133-1752589800-1752589800@www.trailslibrary.org
SUMMARY:Family Storytime - Warrensburg Branch
DESCRIPTION:All Ages: Join us for stories\, music\, crafts and fun! Ideal for the whole family.
URL:https://www.trailslibrary.org/event/family-storytime-warrensburg-branch-7/
LOCATION:Warrensburg Branch\, 432 N. Holden\, Warrensburg\, Missouri\, 64093\, United States
CATEGORIES:Adult,Adults,All Ages,Children,Family,Kids,preteens,senior,Seniors,Storytime,Teen,Teens,Youth
END:VEVENT
BEGIN:VEVENT
DTSTART;TZID=America/New_York:20250716T100000
DTEND;TZID=America/New_York:20250716T100000
DTSTAMP:20260425T115729
CREATED:20250509T133629Z
LAST-MODIFIED:20250509T133629Z
UID:10008916-1752660000-1752660000@www.trailslibrary.org
SUMMARY:Storytime - Corder Branch
DESCRIPTION:All Ages: Storytimes are for building reading skills\, making friends\, and having fun!
URL:https://www.trailslibrary.org/event/storytime-corder-branch-16/
LOCATION:Corder Branch\, 221 N. Lafayette\, Corder\, MO\, 64021\, United States
CATEGORIES:Adult,Adults,All Ages,Children,Family,Kids,preteens,senior,Seniors,Storytime,Teen,Teens,Youth
END:VEVENT
BEGIN:VEVENT
DTSTART;TZID=America/New_York:20250716T160000
DTEND;TZID=America/New_York:20250716T160000
DTSTAMP:20260425T115729
CREATED:20250509T142350Z
LAST-MODIFIED:20250509T142350Z
UID:10009197-1752681600-1752681600@www.trailslibrary.org
SUMMARY:Teen Maker Lab - Warrensburg Branch
DESCRIPTION:Ages 13-18: Create and innovate with hands-on crafts and projects using repurposed materials in this fun\, eco-friendly maker experience.
URL:https://www.trailslibrary.org/event/teen-maker-lab-warrensburg-branch-2/
LOCATION:Warrensburg Branch\, 432 N. Holden\, Warrensburg\, Missouri\, 64093\, United States
CATEGORIES:Crafts,Teen,Teens
END:VEVENT
BEGIN:VEVENT
DTSTART;TZID=America/New_York:20250717T143000
DTEND;TZID=America/New_York:20250717T143000
DTSTAMP:20260425T115729
CREATED:20250509T142406Z
LAST-MODIFIED:20250509T142406Z
UID:10009201-1752762600-1752762600@www.trailslibrary.org
SUMMARY:World Emoji Day - Warrensburg Branch
DESCRIPTION:All Ages: Get ready for a day full of smiles\, sparkles\, and silly faces! Join us as we celebrate National Emoji Day with a fun-filled afternoon of emoji-inspired crafts and creative mask-making. Whether you’re all about the 😍 or feeling a little 😜\, we’ve got the perfect project for you!
URL:https://www.trailslibrary.org/event/world-emoji-day-warrensburg-branch/
LOCATION:Warrensburg Branch\, 432 N. Holden\, Warrensburg\, Missouri\, 64093\, United States
CATEGORIES:Adult,Adults,All Ages,Children,Crafts,Family,Kids,preteens,senior,Seniors,Teen,Teens,Youth
END:VEVENT
BEGIN:VEVENT
DTSTART;TZID=America/New_York:20250717T153000
DTEND;TZID=America/New_York:20250717T153000
DTSTAMP:20260425T115729
CREATED:20250509T135926Z
LAST-MODIFIED:20250509T135926Z
UID:10009043-1752766200-1752766200@www.trailslibrary.org
SUMMARY:Tween Time - Lexington Branch
DESCRIPTION:Ages 13-18: Come hang out with friends for an afternoon of fun! Play games and enjoy snacks!
URL:https://www.trailslibrary.org/event/tween-time-lexington-branch-6/
LOCATION:Lexington Branch\, 1008 Main Street\, Lexington\, MO\, 64067\, United States
CATEGORIES:Teen,Teens
END:VEVENT
BEGIN:VEVENT
DTSTART;TZID=America/New_York:20250718T140000
DTEND;TZID=America/New_York:20250718T140000
DTSTAMP:20260425T115729
CREATED:20250509T134118Z
LAST-MODIFIED:20250509T134118Z
UID:10008943-1752847200-1752847200@www.trailslibrary.org
SUMMARY:Teen Crafternoon - Corder Branch
DESCRIPTION:Ages 13-18: Get crafty and make something new!
URL:https://www.trailslibrary.org/event/teen-crafternoon-corder-branch-3/
LOCATION:Corder Branch\, 221 N. Lafayette\, Corder\, MO\, 64021\, United States
CATEGORIES:Crafts,Teen,Teens
END:VEVENT
BEGIN:VEVENT
DTSTART;TZID=America/New_York:20250719T120000
DTEND;TZID=America/New_York:20250719T120000
DTSTAMP:20260425T115730
CREATED:20250509T140217Z
LAST-MODIFIED:20250509T140217Z
UID:10009075-1752926400-1752926400@www.trailslibrary.org
SUMMARY:Old Librarian's Tales - Odessa Branch
DESCRIPTION:All Ages: Before there were books\, there were stories. Help carry on the ancient tradition of oral storytelling!
URL:https://www.trailslibrary.org/event/old-librarians-tales-odessa-branch-2/
LOCATION:Odessa Branch\, 107 W. Mason\, Odessa\, MO\, 64076\, United States
CATEGORIES:Adult,Adults,All Ages,Children,Family,Kids,preteens,senior,Seniors,Teen,Teens,Youth
END:VEVENT
BEGIN:VEVENT
DTSTART;TZID=America/New_York:20250721T143000
DTEND;TZID=America/New_York:20250721T143000
DTSTAMP:20260425T115730
CREATED:20250509T142239Z
LAST-MODIFIED:20250509T142239Z
UID:10009176-1753108200-1753108200@www.trailslibrary.org
SUMMARY:Scoop into Summer - Warrensburg Branch
DESCRIPTION:All Ages: Join us for a sweet celebration of National Ice Cream Day at the library! Don’t miss out on this chance to chill with family and friends and celebrate the joy of ice cream in every scoop!
URL:https://www.trailslibrary.org/event/scoop-into-summer-warrensburg-branch/
LOCATION:Warrensburg Branch\, 432 N. Holden\, Warrensburg\, Missouri\, 64093\, United States
CATEGORIES:Adult,Adults,All Ages,Children,Family,Kids,preteens,senior,Seniors,Teen,Teens,Youth
END:VEVENT
BEGIN:VEVENT
DTSTART;TZID=America/New_York:20250722T143000
DTEND;TZID=America/New_York:20250722T143000
DTSTAMP:20260425T115730
CREATED:20250509T142025Z
LAST-MODIFIED:20250509T142025Z
UID:10009137-1753194600-1753194600@www.trailslibrary.org
SUMMARY:Family Storytime - Warrensburg Branch
DESCRIPTION:All Ages: Join us for stories\, music\, crafts and fun! Ideal for the whole family.
URL:https://www.trailslibrary.org/event/family-storytime-warrensburg-branch-11/
LOCATION:Warrensburg Branch\, 432 N. Holden\, Warrensburg\, Missouri\, 64093\, United States
CATEGORIES:Adult,Adults,All Ages,Children,Family,Kids,preteens,senior,Seniors,Storytime,Teen,Teens,Youth
END:VEVENT
BEGIN:VEVENT
DTSTART;TZID=America/New_York:20250722T150000
DTEND;TZID=America/New_York:20250722T150000
DTSTAMP:20260425T115730
CREATED:20250509T134723Z
LAST-MODIFIED:20250509T134723Z
UID:10008984-1753196400-1753196400@www.trailslibrary.org
SUMMARY:Summer Wooden Doorhanger - Holden Branch
DESCRIPTION:Ages 13-18: Come paint a Summer Wooden Doorhanger to decorate your home for the season.
URL:https://www.trailslibrary.org/event/summer-wooden-doorhanger-holden-branch/
LOCATION:Holden Branch\, 207 S. Main\, Holden\, MO\, 64040\, United States
CATEGORIES:Crafts,Teen,Teens
END:VEVENT
BEGIN:VEVENT
DTSTART;TZID=America/New_York:20250723T100000
DTEND;TZID=America/New_York:20250723T100000
DTSTAMP:20260425T115730
CREATED:20250509T133630Z
LAST-MODIFIED:20250509T133630Z
UID:10008917-1753264800-1753264800@www.trailslibrary.org
SUMMARY:Storytime - Corder Branch
DESCRIPTION:All Ages: Storytimes are for building reading skills\, making friends\, and having fun!
URL:https://www.trailslibrary.org/event/storytime-corder-branch-17/
LOCATION:Corder Branch\, 221 N. Lafayette\, Corder\, MO\, 64021\, United States
CATEGORIES:Adult,Adults,All Ages,Children,Family,Kids,preteens,senior,Seniors,Storytime,Teen,Teens,Youth
END:VEVENT
BEGIN:VEVENT
DTSTART;TZID=America/New_York:20250723T170000
DTEND;TZID=America/New_York:20250723T170000
DTSTAMP:20260425T115730
CREATED:20250509T142224Z
LAST-MODIFIED:20250509T142224Z
UID:10009171-1753290000-1753290000@www.trailslibrary.org
SUMMARY:Pickle Lab - Warrensburg Branch
DESCRIPTION:All Ages REGISTRATION REQUIRED: Learn to make your own refrigerator pickles in this fun\, hands-on program—no canning required! Experiment with flavors\, explore the science of pickling\, and take home a jar of your creation.
URL:https://www.trailslibrary.org/event/pickle-lab-warrensburg-branch/
LOCATION:Warrensburg Branch\, 432 N. Holden\, Warrensburg\, Missouri\, 64093\, United States
CATEGORIES:Adult,Adults,All Ages,Children,Crafts,Family,Kids,preteens,senior,Seniors,Teen,Teens,Youth
END:VEVENT
BEGIN:VEVENT
DTSTART;TZID=America/New_York:20250724T170000
DTEND;TZID=America/New_York:20250724T170000
DTSTAMP:20260425T115730
CREATED:20250509T134944Z
LAST-MODIFIED:20250509T134944Z
UID:10008994-1753376400-1753376400@www.trailslibrary.org
SUMMARY:Family Game Frenzy - Knob Noster Branch
DESCRIPTION:All Ages: Join us for an evening of games\, laughter\, and friendly competition! Bring your favorite or play an oversized game from our collection.
URL:https://www.trailslibrary.org/event/family-game-frenzy-knob-noster-branch-2/
LOCATION:Knob Noster Branch\, 202 N. Adams\, Knob Noster\, MO\, 65336\, United States
CATEGORIES:Adult,Adults,All Ages,Children,Family,Kids,preteens,senior,Seniors,Teen,Teens,Youth
END:VEVENT
END:VCALENDAR