BEGIN:VCALENDAR
VERSION:2.0
PRODID:-//Trails Regional Library - ECPv6.15.20//NONSGML v1.0//EN
CALSCALE:GREGORIAN
METHOD:PUBLISH
X-WR-CALNAME:Trails Regional Library
X-ORIGINAL-URL:https://www.trailslibrary.org
X-WR-CALDESC:Events for Trails Regional Library
REFRESH-INTERVAL;VALUE=DURATION:PT1H
X-Robots-Tag:noindex
X-PUBLISHED-TTL:PT1H
BEGIN:VTIMEZONE
TZID:America/New_York
BEGIN:DAYLIGHT
TZOFFSETFROM:-0500
TZOFFSETTO:-0400
TZNAME:EDT
DTSTART:20240310T070000
END:DAYLIGHT
BEGIN:STANDARD
TZOFFSETFROM:-0400
TZOFFSETTO:-0500
TZNAME:EST
DTSTART:20241103T060000
END:STANDARD
BEGIN:DAYLIGHT
TZOFFSETFROM:-0500
TZOFFSETTO:-0400
TZNAME:EDT
DTSTART:20250309T070000
END:DAYLIGHT
BEGIN:STANDARD
TZOFFSETFROM:-0400
TZOFFSETTO:-0500
TZNAME:EST
DTSTART:20251102T060000
END:STANDARD
BEGIN:DAYLIGHT
TZOFFSETFROM:-0500
TZOFFSETTO:-0400
TZNAME:EDT
DTSTART:20260308T070000
END:DAYLIGHT
BEGIN:STANDARD
TZOFFSETFROM:-0400
TZOFFSETTO:-0500
TZNAME:EST
DTSTART:20261101T060000
END:STANDARD
END:VTIMEZONE
BEGIN:VEVENT
DTSTART;TZID=America/New_York:20250726T100000
DTEND;TZID=America/New_York:20250726T100000
DTSTAMP:20260425T102056
CREATED:20250509T141624Z
LAST-MODIFIED:20250509T141624Z
UID:10009124-1753524000-1753524000@www.trailslibrary.org
SUMMARY:Crafty Family Fun - Warrensburg Branch
DESCRIPTION:All Ages: Bring the whole family to create a fun craft together!
URL:https://www.trailslibrary.org/event/crafty-family-fun-warrensburg-branch-6/
LOCATION:Warrensburg Branch\, 432 N. Holden\, Warrensburg\, Missouri\, 64093\, United States
CATEGORIES:Adult,Adults,All Ages,Children,Crafts,Family,Kids,preteens,senior,Seniors,Teen,Teens,Youth
END:VEVENT
BEGIN:VEVENT
DTSTART;TZID=America/New_York:20250728T100000
DTEND;TZID=America/New_York:20250728T100000
DTSTAMP:20260425T102056
CREATED:20250509T142750Z
LAST-MODIFIED:20250509T142750Z
UID:10009245-1753696800-1753696800@www.trailslibrary.org
SUMMARY:Shiver Me Paintbrush: A Pirate's Adventure in Arrrt - Lexington Branch
DESCRIPTION:All Ages: Join First Mate Mâché as he learns not only to believe in himself\, but also encourages his new friends to believe in themselves too!
URL:https://www.trailslibrary.org/event/shiver-me-paintbrush-a-pirates-adventure-in-arrrt-lexington-branch/
LOCATION:Lexington Branch\, 1008 Main Street\, Lexington\, MO\, 64067\, United States
CATEGORIES:Adult,Adults,All Ages,Children,Family,Guest Presenter,Kids,preteens,senior,Seniors,Teen,Teens,Youth
END:VEVENT
BEGIN:VEVENT
DTSTART;TZID=America/New_York:20250728T140000
DTEND;TZID=America/New_York:20250728T140000
DTSTAMP:20260425T102056
CREATED:20250509T134945Z
LAST-MODIFIED:20250509T134945Z
UID:10008997-1753711200-1753711200@www.trailslibrary.org
SUMMARY:Monday Matinee - Knob Noster Branch
DESCRIPTION:All Ages: Reel fun awaits—join us at the library for a film\, popcorn\, and good vibes.
URL:https://www.trailslibrary.org/event/monday-matinee-knob-noster-branch-2/
LOCATION:Knob Noster Branch\, 202 N. Adams\, Knob Noster\, MO\, 65336\, United States
CATEGORIES:Adult,Adults,All Ages,Children,Family,Kids,Movie,preteens,senior,Seniors,Teen,Teens,Youth
END:VEVENT
BEGIN:VEVENT
DTSTART;TZID=America/New_York:20250728T140000
DTEND;TZID=America/New_York:20250728T140000
DTSTAMP:20260425T102056
CREATED:20250509T142804Z
LAST-MODIFIED:20250509T142804Z
UID:10009248-1753711200-1753711200@www.trailslibrary.org
SUMMARY:Shiver Me Paintbrush: A Pirate's Adventure in Arrrt - Waverly Branch
DESCRIPTION:All Ages: Join First Mate Mâché as he learns not only to believe in himself\, but also encourages his new friends to believe in themselves too!
URL:https://www.trailslibrary.org/event/shiver-me-paintbrush-a-pirates-adventure-in-arrrt-waverly-branch/
LOCATION:Waverly Branch\, 203 E. Kelling\, Waverly\, MO\, 64096\, United States
CATEGORIES:Adult,Adults,All Ages,Children,Family,Guest Presenter,Kids,preteens,senior,Seniors,Teen,Teens,Youth
END:VEVENT
BEGIN:VEVENT
DTSTART;TZID=America/New_York:20250729T100000
DTEND;TZID=America/New_York:20250729T100000
DTSTAMP:20260425T102056
CREATED:20250509T142749Z
LAST-MODIFIED:20250509T142749Z
UID:10009243-1753783200-1753783200@www.trailslibrary.org
SUMMARY:Shiver Me Paintbrush: A Pirate's Adventure in Arrrt - Holden Branch
DESCRIPTION:All Ages: Join First Mate Mâché as he learns not only to believe in himself\, but also encourages his new friends to believe in themselves too!
URL:https://www.trailslibrary.org/event/shiver-me-paintbrush-a-pirates-adventure-in-arrrt-holden-branch/
LOCATION:Holden Branch\, 207 S. Main\, Holden\, MO\, 64040\, United States
CATEGORIES:Adult,Adults,All Ages,Children,Family,Guest Presenter,Kids,preteens,senior,Seniors,Teen,Teens,Youth
END:VEVENT
BEGIN:VEVENT
DTSTART;TZID=America/New_York:20250729T140000
DTEND;TZID=America/New_York:20250729T140000
DTSTAMP:20260425T102056
CREATED:20250509T142750Z
LAST-MODIFIED:20250509T142750Z
UID:10009246-1753797600-1753797600@www.trailslibrary.org
SUMMARY:Shiver Me Paintbrush: A Pirate's Adventure in Arrrt - Odessa Branch
DESCRIPTION:All Ages: Join First Mate Mâché as he learns not only to believe in himself\, but also encourages his new friends to believe in themselves too!
URL:https://www.trailslibrary.org/event/shiver-me-paintbrush-a-pirates-adventure-in-arrrt-odessa-branch/
LOCATION:Odessa Branch\, 107 W. Mason\, Odessa\, MO\, 64076\, United States
CATEGORIES:Adult,Adults,All Ages,Children,Family,Guest Presenter,Kids,preteens,senior,Seniors,Teen,Teens,Youth
END:VEVENT
BEGIN:VEVENT
DTSTART;TZID=America/New_York:20250729T143000
DTEND;TZID=America/New_York:20250729T143000
DTSTAMP:20260425T102056
CREATED:20250509T142024Z
LAST-MODIFIED:20250509T142024Z
UID:10009134-1753799400-1753799400@www.trailslibrary.org
SUMMARY:Family Storytime - Warrensburg Branch
DESCRIPTION:All Ages: Join us for stories\, music\, crafts and fun! Ideal for the whole family.
URL:https://www.trailslibrary.org/event/family-storytime-warrensburg-branch-8/
LOCATION:Warrensburg Branch\, 432 N. Holden\, Warrensburg\, Missouri\, 64093\, United States
CATEGORIES:Adult,Adults,All Ages,Children,Family,Kids,preteens,senior,Seniors,Storytime,Teen,Teens,Youth
END:VEVENT
BEGIN:VEVENT
DTSTART;TZID=America/New_York:20250730T100000
DTEND;TZID=America/New_York:20250730T100000
DTSTAMP:20260425T102056
CREATED:20250509T142735Z
LAST-MODIFIED:20250509T142735Z
UID:10009242-1753869600-1753869600@www.trailslibrary.org
SUMMARY:Shiver Me Paintbrush: A Pirate's Adventure in Arrrt - Corder Branch
DESCRIPTION:All Ages: Join First Mate Mâché as he learns not only to believe in himself\, but also encourages his new friends to believe in themselves too!
URL:https://www.trailslibrary.org/event/shiver-me-paintbrush-a-pirates-adventure-in-arrrt-corder-branch/
LOCATION:Corder Branch\, 221 N. Lafayette\, Corder\, MO\, 64021\, United States
CATEGORIES:Adult,Adults,All Ages,Children,Family,Guest Presenter,Kids,preteens,senior,Seniors,Teen,Teens,Youth
END:VEVENT
BEGIN:VEVENT
DTSTART;TZID=America/New_York:20250730T140000
DTEND;TZID=America/New_York:20250730T140000
DTSTAMP:20260425T102056
CREATED:20250509T142735Z
LAST-MODIFIED:20250509T142735Z
UID:10009241-1753884000-1753884000@www.trailslibrary.org
SUMMARY:Shiver Me Paintbrush: A Pirate's Adventure in Arrrt - Concordia Branch
DESCRIPTION:All Ages: Join First Mate Mâché as he learns not only to believe in himself\, but also encourages his new friends to believe in themselves too!
URL:https://www.trailslibrary.org/event/shiver-me-paintbrush-a-pirates-adventure-in-arrrt-concordia-branch/
LOCATION:Concordia Branch\, 813 S Main\, Concordia\, MO\, 64020\, United States
CATEGORIES:Adult,Adults,All Ages,Children,Family,Guest Presenter,Kids,preteens,senior,Seniors,Teen,Teens,Youth
END:VEVENT
BEGIN:VEVENT
DTSTART;TZID=America/New_York:20250730T150000
DTEND;TZID=America/New_York:20250730T150000
DTSTAMP:20260425T102056
CREATED:20250509T142642Z
LAST-MODIFIED:20250509T142642Z
UID:10009232-1753887600-1753887600@www.trailslibrary.org
SUMMARY:Wind Chimes - Waverly Branch
DESCRIPTION:Ages 13-18: Come and make a wind chime out of buttons and plastic lids.
URL:https://www.trailslibrary.org/event/wind-chimes-waverly-branch/
LOCATION:Waverly Branch\, 203 E. Kelling\, Waverly\, MO\, 64096\, United States
CATEGORIES:Crafts,Teen,Teens
END:VEVENT
BEGIN:VEVENT
DTSTART;TZID=America/New_York:20250731T100000
DTEND;TZID=America/New_York:20250731T100000
DTSTAMP:20260425T102056
CREATED:20250509T142749Z
LAST-MODIFIED:20250509T142749Z
UID:10009244-1753956000-1753956000@www.trailslibrary.org
SUMMARY:Shiver Me Paintbrush: A Pirate's Adventure in Arrrt - Knob Noster Branch
DESCRIPTION:All Ages: Join First Mate Mâché as he learns not only to believe in himself\, but also encourages his new friends to believe in themselves too!
URL:https://www.trailslibrary.org/event/shiver-me-paintbrush-a-pirates-adventure-in-arrrt-knob-noster-branch/
LOCATION:Knob Noster Branch\, 202 N. Adams\, Knob Noster\, MO\, 65336\, United States
CATEGORIES:Adult,Adults,All Ages,Children,Family,Guest Presenter,Kids,preteens,senior,Seniors,Teen,Teens,Youth
END:VEVENT
BEGIN:VEVENT
DTSTART;TZID=America/New_York:20250731T140000
DTEND;TZID=America/New_York:20250731T140000
DTSTAMP:20260425T102056
CREATED:20250509T142750Z
LAST-MODIFIED:20250509T142750Z
UID:10009247-1753970400-1753970400@www.trailslibrary.org
SUMMARY:Shiver Me Paintbrush: A Pirate's Adventure in Arrrt - Warrensburg Branch
DESCRIPTION:All Ages: Join First Mate Mâché as he learns not only to believe in himself\, but also encourages his new friends to believe in themselves too!
URL:https://www.trailslibrary.org/event/shiver-me-paintbrush-a-pirates-adventure-in-arrrt-warrensburg-branch/
LOCATION:Warrensburg Branch\, 432 N. Holden\, Warrensburg\, Missouri\, 64093\, United States
CATEGORIES:Adult,Adults,All Ages,Children,Family,Guest Presenter,Kids,preteens,senior,Seniors,Teen,Teens,Youth
END:VEVENT
BEGIN:VEVENT
DTSTART;TZID=America/New_York:20250801T130000
DTEND;TZID=America/New_York:20250801T130000
DTSTAMP:20260425T102056
CREATED:20250509T140232Z
LAST-MODIFIED:20250509T140232Z
UID:10009079-1754053200-1754053200@www.trailslibrary.org
SUMMARY:Puddle Jumper Spelling Bee - Odessa Branch
DESCRIPTION:All Ages: Calling all S-P-E-L-L-E-R-S join the Odessa branch for our traditional Puddle Jumper Spelling Bee. Prizes are given to our top spellers. If you are between the ages of 6 to 115 come see if you meet the challenge while cooling off in the library or cheer on the spellers.
URL:https://www.trailslibrary.org/event/puddle-jumper-spelling-bee-odessa-branch/
LOCATION:Odessa Branch\, 107 W. Mason\, Odessa\, MO\, 64076\, United States
CATEGORIES:Adult,Adults,All Ages,Children,Family,Kids,preteens,senior,Seniors,Teen,Teens,Youth
END:VEVENT
BEGIN:VEVENT
DTSTART;TZID=America/New_York:20250804T180000
DTEND;TZID=America/New_York:20250804T180000
DTSTAMP:20260425T102056
CREATED:20250509T140128Z
LAST-MODIFIED:20250509T140128Z
UID:10009061-1754330400-1754330400@www.trailslibrary.org
SUMMARY:It's a Wrap! - Odessa Branch
DESCRIPTION:All Ages REGISTRATION REQUIRED: Celebrate your summer reading victory! Join us for a fun-filled cokout with games and good vibes as we finish an amazing season of reading.
URL:https://www.trailslibrary.org/event/its-a-wrap-odessa-branch/
LOCATION:Odessa Branch\, 107 W. Mason\, Odessa\, MO\, 64076\, United States
CATEGORIES:Adult,Adults,All Ages,Children,Family,Kids,preteens,senior,Seniors,Teen,Teens,Youth
END:VEVENT
BEGIN:VEVENT
DTSTART;TZID=America/New_York:20250805T143000
DTEND;TZID=America/New_York:20250805T143000
DTSTAMP:20260425T102056
CREATED:20250509T142024Z
LAST-MODIFIED:20250509T142024Z
UID:10009135-1754404200-1754404200@www.trailslibrary.org
SUMMARY:Family Storytime - Warrensburg Branch
DESCRIPTION:All Ages: Join us for stories\, music\, crafts and fun! Ideal for the whole family.
URL:https://www.trailslibrary.org/event/family-storytime-warrensburg-branch-9/
LOCATION:Warrensburg Branch\, 432 N. Holden\, Warrensburg\, Missouri\, 64093\, United States
CATEGORIES:Adult,Adults,All Ages,Children,Family,Kids,preteens,senior,Seniors,Storytime,Teen,Teens,Youth
END:VEVENT
BEGIN:VEVENT
DTSTART;TZID=America/New_York:20250807T150000
DTEND;TZID=America/New_York:20250807T150000
DTSTAMP:20260425T102056
CREATED:20250509T134320Z
LAST-MODIFIED:20250509T134320Z
UID:10008967-1754578800-1754578800@www.trailslibrary.org
SUMMARY:Dungeons & Dragons Club - Holden Branch
DESCRIPTION:Ages 13-18 REGISTRATION REQUIRED: Come play Dungeons and Dragons with us.
URL:https://www.trailslibrary.org/event/dungeons-dragons-club-holden-branch-12/
LOCATION:Holden Branch\, 207 S. Main\, Holden\, MO\, 64040\, United States
CATEGORIES:Teen,Teens
END:VEVENT
BEGIN:VEVENT
DTSTART;TZID=America/New_York:20250809T100000
DTEND;TZID=America/New_York:20250809T100000
DTSTAMP:20260425T102056
CREATED:20250509T133050Z
LAST-MODIFIED:20250509T133050Z
UID:10008891-1754733600-1754733600@www.trailslibrary.org
SUMMARY:Cartoons & Pancakes - Concordia Branch
DESCRIPTION:All Ages: It’s Second Saturday! Let’s enjoy pancakes and cartoons!
URL:https://www.trailslibrary.org/event/cartoons-pancakes-concordia-branch-8/
LOCATION:Concordia Branch\, 813 S Main\, Concordia\, MO\, 64020\, United States
CATEGORIES:Adult,Adults,All Ages,Children,Family,Kids,Movie,preteens,senior,Seniors,Teen,Teens,Youth
END:VEVENT
BEGIN:VEVENT
DTSTART;TZID=America/New_York:20250812T143000
DTEND;TZID=America/New_York:20250812T143000
DTSTAMP:20260425T102056
CREATED:20250509T142025Z
LAST-MODIFIED:20250509T142025Z
UID:10009136-1755009000-1755009000@www.trailslibrary.org
SUMMARY:Family Storytime - Warrensburg Branch
DESCRIPTION:All Ages: Join us for stories\, music\, crafts and fun! Ideal for the whole family.
URL:https://www.trailslibrary.org/event/family-storytime-warrensburg-branch-10/
LOCATION:Warrensburg Branch\, 432 N. Holden\, Warrensburg\, Missouri\, 64093\, United States
CATEGORIES:Adult,Adults,All Ages,Children,Family,Kids,preteens,senior,Seniors,Storytime,Teen,Teens,Youth
END:VEVENT
BEGIN:VEVENT
DTSTART;TZID=America/New_York:20250823T100000
DTEND;TZID=America/New_York:20250823T100000
DTSTAMP:20260425T102056
CREATED:20250509T141624Z
LAST-MODIFIED:20250509T141624Z
UID:10009125-1755943200-1755943200@www.trailslibrary.org
SUMMARY:Crafty Family Fun - Warrensburg Branch
DESCRIPTION:All Ages: Bring the whole family to create a fun craft together!
URL:https://www.trailslibrary.org/event/crafty-family-fun-warrensburg-branch-7/
LOCATION:Warrensburg Branch\, 432 N. Holden\, Warrensburg\, Missouri\, 64093\, United States
CATEGORIES:Adult,Adults,All Ages,Children,Crafts,Family,Kids,preteens,senior,Seniors,Teen,Teens,Youth
END:VEVENT
BEGIN:VEVENT
DTSTART;TZID=America/New_York:20250825T140000
DTEND;TZID=America/New_York:20250825T140000
DTSTAMP:20260425T102056
CREATED:20250509T134959Z
LAST-MODIFIED:20250509T134959Z
UID:10008998-1756130400-1756130400@www.trailslibrary.org
SUMMARY:Monday Matinee - Knob Noster Branch
DESCRIPTION:All Ages: Reel fun awaits—join us at the library for a film\, popcorn\, and good vibes.
URL:https://www.trailslibrary.org/event/monday-matinee-knob-noster-branch-3/
LOCATION:Knob Noster Branch\, 202 N. Adams\, Knob Noster\, MO\, 65336\, United States
CATEGORIES:Adult,Adults,All Ages,Children,Family,Kids,Movie,preteens,senior,Seniors,Teen,Teens,Youth
END:VEVENT
BEGIN:VEVENT
DTSTART;TZID=America/New_York:20250904T153000
DTEND;TZID=America/New_York:20250904T153000
DTSTAMP:20260425T102056
CREATED:20250811T145950Z
LAST-MODIFIED:20250811T145950Z
UID:10009335-1756999800-1756999800@www.trailslibrary.org
SUMMARY:Otaku Club - Odessa Branch
DESCRIPTION:Ages 13-18: Enjoy an evening of watching anime and discussing all things nerdy with like minded people!
URL:https://www.trailslibrary.org/event/otaku-club-odessa-branch-8/
LOCATION:Odessa Branch\, 107 W. Mason\, Odessa\, MO\, 64076\, United States
CATEGORIES:Teen,Teens
END:VEVENT
BEGIN:VEVENT
DTSTART;TZID=America/New_York:20250910T170000
DTEND;TZID=America/New_York:20250910T170000
DTSTAMP:20260425T102056
CREATED:20250811T150057Z
LAST-MODIFIED:20250811T150057Z
UID:10009350-1757523600-1757523600@www.trailslibrary.org
SUMMARY:BINGO - Warrensburg Branch
DESCRIPTION:All Ages: Get ready for a thrilling Bingo Night at the library! Join us for games\, fabulous library prizes\, and fun as we bring the excitement of bingo to our community.
URL:https://www.trailslibrary.org/event/bingo-warrensburg-branch-4/
LOCATION:Warrensburg Branch\, 432 N. Holden\, Warrensburg\, Missouri\, 64093\, United States
CATEGORIES:Adult,Adults,All Ages,Children,Family,Kids,preteens,senior,Seniors,Teen,Teens,Youth
END:VEVENT
BEGIN:VEVENT
DTSTART;TZID=America/New_York:20250913T100000
DTEND;TZID=America/New_York:20250913T100000
DTSTAMP:20260425T102056
CREATED:20250811T145318Z
LAST-MODIFIED:20250811T145318Z
UID:10009270-1757757600-1757757600@www.trailslibrary.org
SUMMARY:Cartoons & Pancakes - Concordia Branch
DESCRIPTION:All Ages: It’s Second Saturday! Let’s enjoy pancakes and cartoons!
URL:https://www.trailslibrary.org/event/cartoons-pancakes-concordia-branch-9/
LOCATION:Concordia Branch\, 813 S Main\, Concordia\, MO\, 64020\, United States
CATEGORIES:Adult,Adults,All Ages,Children,Family,Kids,Movie,preteens,senior,Seniors,Teen,Teens,Youth
END:VEVENT
BEGIN:VEVENT
DTSTART;TZID=America/New_York:20250917T140000
DTEND;TZID=America/New_York:20250917T140000
DTSTAMP:20260425T102056
CREATED:20250811T145802Z
LAST-MODIFIED:20250811T145802Z
UID:10009305-1758117600-1758117600@www.trailslibrary.org
SUMMARY:Brick Builders - Knob Noster Branch
DESCRIPTION:All Ages: Drop by and build using our large collection of classic LEGO bricks or our DUPLO blocks\, plus a variety of baseplates to create on. Use your imagination and bring your ideas to life!
URL:https://www.trailslibrary.org/event/brick-builders-knob-noster-branch/
LOCATION:Knob Noster Branch\, 202 N. Adams\, Knob Noster\, MO\, 65336\, United States
CATEGORIES:Adult,Adults,All Ages,Children,Family,Kids,preteens,senior,Seniors,Teen,Teens,Youth
END:VEVENT
BEGIN:VEVENT
DTSTART;TZID=America/New_York:20250918T153000
DTEND;TZID=America/New_York:20250918T153000
DTSTAMP:20260425T102056
CREATED:20250811T145911Z
LAST-MODIFIED:20250811T145911Z
UID:10009323-1758209400-1758209400@www.trailslibrary.org
SUMMARY:Tween Time - Lexington Branch
DESCRIPTION:Ages 13-18: Come hang out with friends for an afternoon of fun! Whether you like crafting\, playing games\, or science experiments\, there’s something for everyone!
URL:https://www.trailslibrary.org/event/tween-time-lexington-branch-7/
LOCATION:Lexington Branch\, 1008 Main Street\, Lexington\, MO\, 64067\, United States
CATEGORIES:Crafts,Pre-Teen,Pre-Teens,Teen,Teens
END:VEVENT
BEGIN:VEVENT
DTSTART;TZID=America/New_York:20250918T160000
DTEND;TZID=America/New_York:20250918T160000
DTSTAMP:20260425T102056
CREATED:20250811T145817Z
LAST-MODIFIED:20250811T145817Z
UID:10009314-1758211200-1758211200@www.trailslibrary.org
SUMMARY:Bubble Blowing Competition - Knob Noster Branch
DESCRIPTION:All Ages: Bring your best bubble blowing skills and compete for goofy awards and bragging rights.
URL:https://www.trailslibrary.org/event/bubble-blowing-competition-knob-noster-branch/
LOCATION:Knob Noster Branch\, 202 N. Adams\, Knob Noster\, MO\, 65336\, United States
CATEGORIES:Adult,Adults,All Ages,Children,Family,Kids,preteens,senior,Seniors,Teen,Teens,Youth
END:VEVENT
BEGIN:VEVENT
DTSTART;TZID=America/New_York:20250919T153000
DTEND;TZID=America/New_York:20250919T153000
DTSTAMP:20260425T102056
CREATED:20250811T150020Z
LAST-MODIFIED:20250811T150020Z
UID:10009342-1758295800-1758295800@www.trailslibrary.org
SUMMARY:Crafting Begins - Odessa Branch
DESCRIPTION:Ages 13-18: Celebrate Batman Day with some crafts and a movie!
URL:https://www.trailslibrary.org/event/crafting-begins-odessa-branch/
LOCATION:Odessa Branch\, 107 W. Mason\, Odessa\, MO\, 64076\, United States
CATEGORIES:Crafts,Movie,Teen,Teens
END:VEVENT
BEGIN:VEVENT
DTSTART;TZID=America/New_York:20250924T143000
DTEND;TZID=America/New_York:20250924T143000
DTSTAMP:20260425T102056
CREATED:20250811T145832Z
LAST-MODIFIED:20250811T145832Z
UID:10009317-1758724200-1758724200@www.trailslibrary.org
SUMMARY:Clay Critters - Knob Noster Branch
DESCRIPTION:Ages 13-18: Create adorable animals using polymer clay and marbles.
URL:https://www.trailslibrary.org/event/clay-critters-knob-noster-branch/
LOCATION:Knob Noster Branch\, 202 N. Adams\, Knob Noster\, MO\, 65336\, United States
CATEGORIES:Crafts,Pre-Teen,Pre-Teens,Teen,Teens
END:VEVENT
BEGIN:VEVENT
DTSTART;TZID=America/New_York:20250925T153000
DTEND;TZID=America/New_York:20250925T153000
DTSTAMP:20260425T102056
CREATED:20250811T150020Z
LAST-MODIFIED:20250811T150020Z
UID:10009344-1758814200-1758814200@www.trailslibrary.org
SUMMARY:Teen Advisory Group - Odessa Branch
DESCRIPTION:Ages 13-18: Come share ideas for teen events and activities you’d like to see at the library!
URL:https://www.trailslibrary.org/event/teen-advisory-group-odessa-branch/
LOCATION:Odessa Branch\, 107 W. Mason\, Odessa\, MO\, 64076\, United States
CATEGORIES:Teen,Teens
END:VEVENT
BEGIN:VEVENT
DTSTART;TZID=America/New_York:20250926T153000
DTEND;TZID=America/New_York:20250926T153000
DTSTAMP:20260425T102056
CREATED:20250811T150005Z
LAST-MODIFIED:20250811T150005Z
UID:10009338-1758900600-1758900600@www.trailslibrary.org
SUMMARY:Feature Friday - Odessa Branch
DESCRIPTION:All Ages: Join us for our family movie. We provide the popcorn\, you supply your favorite drink.
URL:https://www.trailslibrary.org/event/feature-friday-odessa-branch-8/
LOCATION:Odessa Branch\, 107 W. Mason\, Odessa\, MO\, 64076\, United States
CATEGORIES:Adult,Adults,All Ages,Children,Family,Kids,Movie,preteens,senior,Seniors,Teen,Teens,Youth
END:VEVENT
END:VCALENDAR