BEGIN:VCALENDAR
VERSION:2.0
PRODID:-//Trails Regional Library - ECPv6.15.20//NONSGML v1.0//EN
CALSCALE:GREGORIAN
METHOD:PUBLISH
X-WR-CALNAME:Trails Regional Library
X-ORIGINAL-URL:https://www.trailslibrary.org
X-WR-CALDESC:Events for Trails Regional Library
REFRESH-INTERVAL;VALUE=DURATION:PT1H
X-Robots-Tag:noindex
X-PUBLISHED-TTL:PT1H
BEGIN:VTIMEZONE
TZID:America/New_York
BEGIN:DAYLIGHT
TZOFFSETFROM:-0500
TZOFFSETTO:-0400
TZNAME:EDT
DTSTART:20240310T070000
END:DAYLIGHT
BEGIN:STANDARD
TZOFFSETFROM:-0400
TZOFFSETTO:-0500
TZNAME:EST
DTSTART:20241103T060000
END:STANDARD
BEGIN:DAYLIGHT
TZOFFSETFROM:-0500
TZOFFSETTO:-0400
TZNAME:EDT
DTSTART:20250309T070000
END:DAYLIGHT
BEGIN:STANDARD
TZOFFSETFROM:-0400
TZOFFSETTO:-0500
TZNAME:EST
DTSTART:20251102T060000
END:STANDARD
BEGIN:DAYLIGHT
TZOFFSETFROM:-0500
TZOFFSETTO:-0400
TZNAME:EDT
DTSTART:20260308T070000
END:DAYLIGHT
BEGIN:STANDARD
TZOFFSETFROM:-0400
TZOFFSETTO:-0500
TZNAME:EST
DTSTART:20261101T060000
END:STANDARD
END:VTIMEZONE
BEGIN:VEVENT
DTSTART;TZID=America/New_York:20250306T100000
DTEND;TZID=America/New_York:20250306T100000
DTSTAMP:20260422T172303
CREATED:20241217T183431Z
LAST-MODIFIED:20241217T183431Z
UID:10008712-1741255200-1741255200@www.trailslibrary.org
SUMMARY:Storytime - Odessa Branch
DESCRIPTION:Ages 0-5: Storytimes are for building pre-reading skills\, making friends\, and having fun!
URL:https://www.trailslibrary.org/event/storytime-odessa-branch-9/
LOCATION:Odessa Branch\, 107 W. Mason\, Odessa\, MO\, 64076\, United States
CATEGORIES:Children,Kids,Pre-School,Preschool,Storytime,Toddlers
END:VEVENT
BEGIN:VEVENT
DTSTART;TZID=America/New_York:20250306T100000
DTEND;TZID=America/New_York:20250306T100000
DTSTAMP:20260422T172303
CREATED:20241217T184928Z
LAST-MODIFIED:20241217T184928Z
UID:10008784-1741255200-1741255200@www.trailslibrary.org
SUMMARY:Music & More - Warrensburg Branch
DESCRIPTION:Ages 0-5: Get ready to sing\, dance\, and shake those wiggles out! Join us for Music and More\, where children will explore a variety of musical instruments to boost sensory development\, coordination\, and early literacy and numeracy skills.
URL:https://www.trailslibrary.org/event/music-more-warrensburg-branch-8/
LOCATION:Warrensburg Branch\, 432 N. Holden\, Warrensburg\, Missouri\, 64093\, United States
CATEGORIES:Children,Kids,Pre-School,Preschool,Toddlers
END:VEVENT
BEGIN:VEVENT
DTSTART;TZID=America/New_York:20250310T093000
DTEND;TZID=America/New_York:20250310T093000
DTSTAMP:20260422T172303
CREATED:20241217T170219Z
LAST-MODIFIED:20241217T170219Z
UID:10008503-1741599000-1741599000@www.trailslibrary.org
SUMMARY:Monday Melodies - Corder Branch
DESCRIPTION:Ages 0-5: Join us for fun-filled music and movement sessions tailored for toddlers! These engaging programs encourage physical activity\, coordination\, and early literacy through songs\, dance\, and interactive play.
URL:https://www.trailslibrary.org/event/monday-melodies-corder-branch-5/
LOCATION:Corder Branch\, 221 N. Lafayette\, Corder\, MO\, 64021\, United States
CATEGORIES:Children,Kids,Pre-School,Preschool,Toddlers
END:VEVENT
BEGIN:VEVENT
DTSTART;TZID=America/New_York:20250310T100000
DTEND;TZID=America/New_York:20250310T100000
DTSTAMP:20260422T172303
CREATED:20241218T174134Z
LAST-MODIFIED:20241218T174134Z
UID:10008850-1741600800-1741600800@www.trailslibrary.org
SUMMARY:Storytime - Waverly Branch
DESCRIPTION:Ages 0-5: Join us for simple stories\, songs and more.
URL:https://www.trailslibrary.org/event/storytime-waverly-branch-11/
LOCATION:Waverly Branch\, 203 E. Kelling\, Waverly\, MO\, 64096\, United States
CATEGORIES:Children,Kids,Pre-School,Preschool,Storytime,Toddlers
END:VEVENT
BEGIN:VEVENT
DTSTART;TZID=America/New_York:20250311T100000
DTEND;TZID=America/New_York:20250311T100000
DTSTAMP:20260422T172303
CREATED:20241217T164548Z
LAST-MODIFIED:20241217T164548Z
UID:10008451-1741687200-1741687200@www.trailslibrary.org
SUMMARY:Bubbly Storytime - Concordia Branch
DESCRIPTION:Ages 0-5: Storytimes are for building pre-reading skills\, making friends and having fun! And there will be bubbles!
URL:https://www.trailslibrary.org/event/bubbly-storytime-concordia-branch-8/
LOCATION:Concordia Branch\, 813 S Main\, Concordia\, MO\, 64020\, United States
CATEGORIES:Children,Kids,Pre-School,Preschool,Storytime,Toddlers
END:VEVENT
BEGIN:VEVENT
DTSTART;TZID=America/New_York:20250311T100000
DTEND;TZID=America/New_York:20250311T100000
DTSTAMP:20260422T172303
CREATED:20241217T192401Z
LAST-MODIFIED:20241217T192401Z
UID:10008817-1741687200-1741687200@www.trailslibrary.org
SUMMARY:Storytime - Warrensburg Branch
DESCRIPTION:Ages 0-5: Join us for a lively storytime filled with engaging stories\, music\, dancing\, crafts\, and plenty of bubbles! It’s a fun-filled adventure perfect for little ones and their grown-ups.
URL:https://www.trailslibrary.org/event/storytime-warrensburg-branch-17/
LOCATION:Warrensburg Branch\, 432 N. Holden\, Warrensburg\, Missouri\, 64093\, United States
CATEGORIES:Children,Kids,Pre-School,Preschool,Storytime,Toddlers
END:VEVENT
BEGIN:VEVENT
DTSTART;TZID=America/New_York:20250311T143000
DTEND;TZID=America/New_York:20250311T143000
DTSTAMP:20260422T172303
CREATED:20241217T192401Z
LAST-MODIFIED:20241217T192401Z
UID:10008818-1741703400-1741703400@www.trailslibrary.org
SUMMARY:Storytime - Warrensburg Branch
DESCRIPTION:Ages 0-5: Join us for a lively storytime filled with engaging stories\, music\, dancing\, crafts\, and plenty of bubbles! It’s a fun-filled adventure perfect for little ones and their grown-ups.
URL:https://www.trailslibrary.org/event/storytime-warrensburg-branch-18/
LOCATION:Warrensburg Branch\, 432 N. Holden\, Warrensburg\, Missouri\, 64093\, United States
CATEGORIES:Children,Kids,Pre-School,Preschool,Storytime,Toddlers
END:VEVENT
BEGIN:VEVENT
DTSTART;TZID=America/New_York:20250312T100000
DTEND;TZID=America/New_York:20250312T100000
DTSTAMP:20260422T172303
CREATED:20241217T171019Z
LAST-MODIFIED:20241217T171019Z
UID:10008521-1741773600-1741773600@www.trailslibrary.org
SUMMARY:Storytime - Corder Branch
DESCRIPTION:Ages 0-5: Storytimes are for building pre-reading skills\, making friends\, and having fun!
URL:https://www.trailslibrary.org/event/storytime-corder-branch-8/
LOCATION:Corder Branch\, 221 N. Lafayette\, Corder\, MO\, 64021\, United States
CATEGORIES:Children,Kids,Pre-School,Preschool,Storytime,Toddlers
END:VEVENT
BEGIN:VEVENT
DTSTART;TZID=America/New_York:20250312T100000
DTEND;TZID=America/New_York:20250312T100000
DTSTAMP:20260422T172303
CREATED:20241217T173856Z
LAST-MODIFIED:20241217T173856Z
UID:10008592-1741773600-1741773600@www.trailslibrary.org
SUMMARY:Storytime - Holden Branch
DESCRIPTION:Ages 0-5: Come listen to a story at the library and do a craft.
URL:https://www.trailslibrary.org/event/storytime-holden-branch-9/
LOCATION:Holden Branch\, 207 S. Main\, Holden\, MO\, 64040\, United States
CATEGORIES:Children,Kids,Pre-School,Preschool,Storytime,Toddlers
END:VEVENT
BEGIN:VEVENT
DTSTART;TZID=America/New_York:20250312T100000
DTEND;TZID=America/New_York:20250312T100000
DTSTAMP:20260422T172303
CREATED:20241217T174558Z
LAST-MODIFIED:20250214T152217Z
UID:10008616-1741773600-1741773600@www.trailslibrary.org
SUMMARY:Storytime - Knob Noster Branch
DESCRIPTION:Ages 0-5: Help your child develop a love of literacy with stories\, music\, and bubbles.
URL:https://www.trailslibrary.org/event/storytime-knob-noster-branch-8/
LOCATION:Knob Noster Branch\, 202 N. Adams\, Knob Noster\, MO\, 65336\, United States
CATEGORIES:Children,Kids,Pre-School,Preschool,Storytime,Toddlers
END:VEVENT
BEGIN:VEVENT
DTSTART;TZID=America/New_York:20250312T100000
DTEND;TZID=America/New_York:20250312T100000
DTSTAMP:20260422T172303
CREATED:20241217T174747Z
LAST-MODIFIED:20241217T174747Z
UID:10008636-1741773600-1741773600@www.trailslibrary.org
SUMMARY:Storytime - Lexington Branch
DESCRIPTION:Ages 0-5: Bring your little ones for storytime! Each week we read\, sing\, play and learn\, all while developing early literacy skills.
URL:https://www.trailslibrary.org/event/storytime-lexington-branch-2/
LOCATION:Lexington Branch\, 1008 Main Street\, Lexington\, MO\, 64067\, United States
CATEGORIES:Children,Kids,Pre-School,Preschool,Storytime,Toddlers
END:VEVENT
BEGIN:VEVENT
DTSTART;TZID=America/New_York:20250313T100000
DTEND;TZID=America/New_York:20250313T100000
DTSTAMP:20260422T172303
CREATED:20241217T184928Z
LAST-MODIFIED:20241217T184928Z
UID:10008785-1741860000-1741860000@www.trailslibrary.org
SUMMARY:Music & More - Warrensburg Branch
DESCRIPTION:Ages 0-5: Get ready to sing\, dance\, and shake those wiggles out! Join us for Music and More\, where children will explore a variety of musical instruments to boost sensory development\, coordination\, and early literacy and numeracy skills.
URL:https://www.trailslibrary.org/event/music-more-warrensburg-branch-9/
LOCATION:Warrensburg Branch\, 432 N. Holden\, Warrensburg\, Missouri\, 64093\, United States
CATEGORIES:Children,Kids,Pre-School,Preschool,Toddlers
END:VEVENT
BEGIN:VEVENT
DTSTART;TZID=America/New_York:20250313T173000
DTEND;TZID=America/New_York:20250313T173000
DTSTAMP:20260422T172303
CREATED:20241217T180524Z
LAST-MODIFIED:20241217T180524Z
UID:10008697-1741887000-1741887000@www.trailslibrary.org
SUMMARY:Play and Learn - Odessa Branch
DESCRIPTION:Ages 0-5: Bring your toddlers to Play and Learn to give them an opportunity to develop their motor skills and play with other children.
URL:https://www.trailslibrary.org/event/play-and-learn-odessa-branch-2/
LOCATION:Odessa Branch\, 107 W. Mason\, Odessa\, MO\, 64076\, United States
CATEGORIES:Children,Kids,Pre-School,Preschool,Toddlers
END:VEVENT
BEGIN:VEVENT
DTSTART;TZID=America/New_York:20250317T093000
DTEND;TZID=America/New_York:20250317T093000
DTSTAMP:20260422T172303
CREATED:20241217T170418Z
LAST-MODIFIED:20241217T170418Z
UID:10008504-1742203800-1742203800@www.trailslibrary.org
SUMMARY:Monday Melodies - Corder Branch
DESCRIPTION:Ages 0-5: Join us for fun-filled music and movement sessions tailored for toddlers! These engaging programs encourage physical activity\, coordination\, and early literacy through songs\, dance\, and interactive play.
URL:https://www.trailslibrary.org/event/monday-melodies-corder-branch-6/
LOCATION:Corder Branch\, 221 N. Lafayette\, Corder\, MO\, 64021\, United States
CATEGORIES:Children,Kids,Pre-School,Preschool,Toddlers
END:VEVENT
BEGIN:VEVENT
DTSTART;TZID=America/New_York:20250317T100000
DTEND;TZID=America/New_York:20250317T100000
DTSTAMP:20260422T172303
CREATED:20241218T174135Z
LAST-MODIFIED:20241218T174135Z
UID:10008851-1742205600-1742205600@www.trailslibrary.org
SUMMARY:Storytime - Waverly Branch
DESCRIPTION:Ages 0-5: Join us for simple stories\, songs and more.
URL:https://www.trailslibrary.org/event/storytime-waverly-branch-12/
LOCATION:Waverly Branch\, 203 E. Kelling\, Waverly\, MO\, 64096\, United States
CATEGORIES:Children,Kids,Pre-School,Preschool,Storytime,Toddlers
END:VEVENT
BEGIN:VEVENT
DTSTART;TZID=America/New_York:20250318T100000
DTEND;TZID=America/New_York:20250318T100000
DTSTAMP:20260422T172303
CREATED:20241217T164548Z
LAST-MODIFIED:20241217T164548Z
UID:10008452-1742292000-1742292000@www.trailslibrary.org
SUMMARY:Bubbly Storytime - Concordia Branch
DESCRIPTION:Ages 0-5: Storytimes are for building pre-reading skills\, making friends and having fun! And there will be bubbles!
URL:https://www.trailslibrary.org/event/bubbly-storytime-concordia-branch-9/
LOCATION:Concordia Branch\, 813 S Main\, Concordia\, MO\, 64020\, United States
CATEGORIES:Children,Kids,Pre-School,Preschool,Storytime,Toddlers
END:VEVENT
BEGIN:VEVENT
DTSTART;TZID=America/New_York:20250318T100000
DTEND;TZID=America/New_York:20250318T100000
DTSTAMP:20260422T172303
CREATED:20241217T192401Z
LAST-MODIFIED:20241217T192401Z
UID:10008819-1742292000-1742292000@www.trailslibrary.org
SUMMARY:Storytime - Warrensburg Branch
DESCRIPTION:Ages 0-5: Join us for a lively storytime filled with engaging stories\, music\, dancing\, crafts\, and plenty of bubbles! It’s a fun-filled adventure perfect for little ones and their grown-ups.
URL:https://www.trailslibrary.org/event/storytime-warrensburg-branch-19/
LOCATION:Warrensburg Branch\, 432 N. Holden\, Warrensburg\, Missouri\, 64093\, United States
CATEGORIES:Children,Kids,Pre-School,Preschool,Storytime,Toddlers
END:VEVENT
BEGIN:VEVENT
DTSTART;TZID=America/New_York:20250318T143000
DTEND;TZID=America/New_York:20250318T143000
DTSTAMP:20260422T172303
CREATED:20241217T192401Z
LAST-MODIFIED:20241217T192401Z
UID:10008820-1742308200-1742308200@www.trailslibrary.org
SUMMARY:Storytime - Warrensburg Branch
DESCRIPTION:Ages 0-5: Join us for a lively storytime filled with engaging stories\, music\, dancing\, crafts\, and plenty of bubbles! It’s a fun-filled adventure perfect for little ones and their grown-ups.
URL:https://www.trailslibrary.org/event/storytime-warrensburg-branch-20/
LOCATION:Warrensburg Branch\, 432 N. Holden\, Warrensburg\, Missouri\, 64093\, United States
CATEGORIES:Children,Kids,Pre-School,Preschool,Storytime,Toddlers
END:VEVENT
BEGIN:VEVENT
DTSTART;TZID=America/New_York:20250319T100000
DTEND;TZID=America/New_York:20250319T100000
DTSTAMP:20260422T172303
CREATED:20241217T171219Z
LAST-MODIFIED:20241217T171219Z
UID:10008528-1742378400-1742378400@www.trailslibrary.org
SUMMARY:Storytime/Read to a Service Dog - Corder Branch
DESCRIPTION:Ages 0-5: Storytimes are for building pre-reading skills\, making friends\, and having fun!
URL:https://www.trailslibrary.org/event/storytime-read-to-a-service-dog-corder-branch/
LOCATION:Corder Branch\, 221 N. Lafayette\, Corder\, MO\, 64021\, United States
CATEGORIES:Children,Kids,Pre-School,Preschool,Storytime,Toddlers
END:VEVENT
BEGIN:VEVENT
DTSTART;TZID=America/New_York:20250319T100000
DTEND;TZID=America/New_York:20250319T100000
DTSTAMP:20260422T172303
CREATED:20241217T173856Z
LAST-MODIFIED:20241217T173856Z
UID:10008593-1742378400-1742378400@www.trailslibrary.org
SUMMARY:Storytime - Holden Branch
DESCRIPTION:Ages 0-5: Come listen to a story at the library and do a craft.
URL:https://www.trailslibrary.org/event/storytime-holden-branch-10/
LOCATION:Holden Branch\, 207 S. Main\, Holden\, MO\, 64040\, United States
CATEGORIES:Children,Kids,Pre-School,Preschool,Storytime,Toddlers
END:VEVENT
BEGIN:VEVENT
DTSTART;TZID=America/New_York:20250319T100000
DTEND;TZID=America/New_York:20250319T100000
DTSTAMP:20260422T172303
CREATED:20241217T174558Z
LAST-MODIFIED:20250214T152217Z
UID:10008617-1742378400-1742378400@www.trailslibrary.org
SUMMARY:Storytime - Knob Noster Branch
DESCRIPTION:Ages 0-5: Help your child develop a love of literacy with stories\, music\, and bubbles.
URL:https://www.trailslibrary.org/event/storytime-knob-noster-branch-9/
LOCATION:Knob Noster Branch\, 202 N. Adams\, Knob Noster\, MO\, 65336\, United States
CATEGORIES:Children,Kids,Pre-School,Preschool,Storytime,Toddlers
END:VEVENT
BEGIN:VEVENT
DTSTART;TZID=America/New_York:20250319T100000
DTEND;TZID=America/New_York:20250319T100000
DTSTAMP:20260422T172303
CREATED:20241217T174748Z
LAST-MODIFIED:20241217T174748Z
UID:10008637-1742378400-1742378400@www.trailslibrary.org
SUMMARY:Storytime - Lexington Branch
DESCRIPTION:Ages 0-5: Bring your little ones for storytime! Each week we read\, sing\, play and learn\, all while developing early literacy skills.
URL:https://www.trailslibrary.org/event/storytime-lexington-branch-3/
LOCATION:Lexington Branch\, 1008 Main Street\, Lexington\, MO\, 64067\, United States
CATEGORIES:Children,Kids,Pre-School,Preschool,Storytime,Toddlers
END:VEVENT
BEGIN:VEVENT
DTSTART;TZID=America/New_York:20250320T100000
DTEND;TZID=America/New_York:20250320T100000
DTSTAMP:20260422T172303
CREATED:20241217T183431Z
LAST-MODIFIED:20241217T183431Z
UID:10008713-1742464800-1742464800@www.trailslibrary.org
SUMMARY:Storytime - Odessa Branch
DESCRIPTION:Ages 0-5: Storytimes are for building pre-reading skills\, making friends\, and having fun!
URL:https://www.trailslibrary.org/event/storytime-odessa-branch-10/
LOCATION:Odessa Branch\, 107 W. Mason\, Odessa\, MO\, 64076\, United States
CATEGORIES:Children,Kids,Pre-School,Preschool,Storytime,Toddlers
END:VEVENT
BEGIN:VEVENT
DTSTART;TZID=America/New_York:20250320T100000
DTEND;TZID=America/New_York:20250320T100000
DTSTAMP:20260422T172303
CREATED:20241217T185002Z
LAST-MODIFIED:20241217T185002Z
UID:10008786-1742464800-1742464800@www.trailslibrary.org
SUMMARY:Music & More - Warrensburg Branch
DESCRIPTION:Ages 0-5: Get ready to sing\, dance\, and shake those wiggles out! Join us for Music and More\, where children will explore a variety of musical instruments to boost sensory development\, coordination\, and early literacy and numeracy skills.
URL:https://www.trailslibrary.org/event/music-more-warrensburg-branch-10/
LOCATION:Warrensburg Branch\, 432 N. Holden\, Warrensburg\, Missouri\, 64093\, United States
CATEGORIES:Children,Kids,Pre-School,Preschool,Toddlers
END:VEVENT
BEGIN:VEVENT
DTSTART;TZID=America/New_York:20250324T093000
DTEND;TZID=America/New_York:20250324T093000
DTSTAMP:20260422T172303
CREATED:20241217T170419Z
LAST-MODIFIED:20241217T170419Z
UID:10008505-1742808600-1742808600@www.trailslibrary.org
SUMMARY:Monday Melodies - Corder Branch
DESCRIPTION:Ages 0-5: Join us for fun-filled music and movement sessions tailored for toddlers! These engaging programs encourage physical activity\, coordination\, and early literacy through songs\, dance\, and interactive play.
URL:https://www.trailslibrary.org/event/monday-melodies-corder-branch-7/
LOCATION:Corder Branch\, 221 N. Lafayette\, Corder\, MO\, 64021\, United States
CATEGORIES:Children,Kids,Pre-School,Preschool,Toddlers
END:VEVENT
BEGIN:VEVENT
DTSTART;TZID=America/New_York:20250324T100000
DTEND;TZID=America/New_York:20250324T100000
DTSTAMP:20260422T172303
CREATED:20241218T174135Z
LAST-MODIFIED:20241218T174135Z
UID:10008852-1742810400-1742810400@www.trailslibrary.org
SUMMARY:Storytime - Waverly Branch
DESCRIPTION:Ages 0-5: Join us for simple stories\, songs and more.
URL:https://www.trailslibrary.org/event/storytime-waverly-branch-13/
LOCATION:Waverly Branch\, 203 E. Kelling\, Waverly\, MO\, 64096\, United States
CATEGORIES:Children,Kids,Pre-School,Preschool,Storytime,Toddlers
END:VEVENT
BEGIN:VEVENT
DTSTART;TZID=America/New_York:20250325T100000
DTEND;TZID=America/New_York:20250325T100000
DTSTAMP:20260422T172303
CREATED:20241217T164548Z
LAST-MODIFIED:20241217T164548Z
UID:10008453-1742896800-1742896800@www.trailslibrary.org
SUMMARY:Bubbly Storytime - Concordia Branch
DESCRIPTION:Ages 0-5: Storytimes are for building pre-reading skills\, making friends and having fun! And there will be bubbles!
URL:https://www.trailslibrary.org/event/bubbly-storytime-concordia-branch-10/
LOCATION:Concordia Branch\, 813 S Main\, Concordia\, MO\, 64020\, United States
CATEGORIES:Children,Kids,Pre-School,Preschool,Storytime,Toddlers
END:VEVENT
BEGIN:VEVENT
DTSTART;TZID=America/New_York:20250325T100000
DTEND;TZID=America/New_York:20250325T100000
DTSTAMP:20260422T172303
CREATED:20241217T192601Z
LAST-MODIFIED:20241217T192601Z
UID:10008821-1742896800-1742896800@www.trailslibrary.org
SUMMARY:Storytime - Warrensburg Branch
DESCRIPTION:Ages 0-5: Join us for a lively storytime filled with engaging stories\, music\, dancing\, crafts\, and plenty of bubbles! It’s a fun-filled adventure perfect for little ones and their grown-ups.
URL:https://www.trailslibrary.org/event/storytime-warrensburg-branch-21/
LOCATION:Warrensburg Branch\, 432 N. Holden\, Warrensburg\, Missouri\, 64093\, United States
CATEGORIES:Children,Kids,Pre-School,Preschool,Storytime,Toddlers
END:VEVENT
BEGIN:VEVENT
DTSTART;TZID=America/New_York:20250325T143000
DTEND;TZID=America/New_York:20250325T143000
DTSTAMP:20260422T172303
CREATED:20241217T192602Z
LAST-MODIFIED:20241217T192602Z
UID:10008822-1742913000-1742913000@www.trailslibrary.org
SUMMARY:Storytime - Warrensburg Branch
DESCRIPTION:Ages 0-5: Join us for a lively storytime filled with engaging stories\, music\, dancing\, crafts\, and plenty of bubbles! It’s a fun-filled adventure perfect for little ones and their grown-ups.
URL:https://www.trailslibrary.org/event/storytime-warrensburg-branch-22/
LOCATION:Warrensburg Branch\, 432 N. Holden\, Warrensburg\, Missouri\, 64093\, United States
CATEGORIES:Children,Kids,Pre-School,Preschool,Storytime,Toddlers
END:VEVENT
BEGIN:VEVENT
DTSTART;TZID=America/New_York:20250326T100000
DTEND;TZID=America/New_York:20250326T100000
DTSTAMP:20260422T172303
CREATED:20241217T171019Z
LAST-MODIFIED:20241217T171019Z
UID:10008522-1742983200-1742983200@www.trailslibrary.org
SUMMARY:Storytime - Corder Branch
DESCRIPTION:Ages 0-5: Storytimes are for building pre-reading skills\, making friends\, and having fun!
URL:https://www.trailslibrary.org/event/storytime-corder-branch-9/
LOCATION:Corder Branch\, 221 N. Lafayette\, Corder\, MO\, 64021\, United States
CATEGORIES:Children,Kids,Pre-School,Preschool,Storytime,Toddlers
END:VEVENT
END:VCALENDAR