BEGIN:VCALENDAR
VERSION:2.0
PRODID:-//Trails Regional Library - ECPv6.15.20//NONSGML v1.0//EN
CALSCALE:GREGORIAN
METHOD:PUBLISH
X-WR-CALNAME:Trails Regional Library
X-ORIGINAL-URL:https://www.trailslibrary.org
X-WR-CALDESC:Events for Trails Regional Library
REFRESH-INTERVAL;VALUE=DURATION:PT1H
X-Robots-Tag:noindex
X-PUBLISHED-TTL:PT1H
BEGIN:VTIMEZONE
TZID:America/New_York
BEGIN:DAYLIGHT
TZOFFSETFROM:-0500
TZOFFSETTO:-0400
TZNAME:EDT
DTSTART:20240310T070000
END:DAYLIGHT
BEGIN:STANDARD
TZOFFSETFROM:-0400
TZOFFSETTO:-0500
TZNAME:EST
DTSTART:20241103T060000
END:STANDARD
BEGIN:DAYLIGHT
TZOFFSETFROM:-0500
TZOFFSETTO:-0400
TZNAME:EDT
DTSTART:20250309T070000
END:DAYLIGHT
BEGIN:STANDARD
TZOFFSETFROM:-0400
TZOFFSETTO:-0500
TZNAME:EST
DTSTART:20251102T060000
END:STANDARD
BEGIN:DAYLIGHT
TZOFFSETFROM:-0500
TZOFFSETTO:-0400
TZNAME:EDT
DTSTART:20260308T070000
END:DAYLIGHT
BEGIN:STANDARD
TZOFFSETFROM:-0400
TZOFFSETTO:-0500
TZNAME:EST
DTSTART:20261101T060000
END:STANDARD
END:VTIMEZONE
BEGIN:VEVENT
DTSTART;TZID=America/New_York:20250429T100000
DTEND;TZID=America/New_York:20250429T100000
DTSTAMP:20260422T172303
CREATED:20241217T193003Z
LAST-MODIFIED:20241217T193003Z
UID:10008831-1745920800-1745920800@www.trailslibrary.org
SUMMARY:Storytime - Warrensburg Branch
DESCRIPTION:Ages 0-5: Join us for a lively storytime filled with engaging stories\, music\, dancing\, crafts\, and plenty of bubbles! It’s a fun-filled adventure perfect for little ones and their grown-ups.
URL:https://www.trailslibrary.org/event/storytime-warrensburg-branch-31/
LOCATION:Warrensburg Branch\, 432 N. Holden\, Warrensburg\, Missouri\, 64093\, United States
CATEGORIES:Children,Kids,Pre-School,Preschool,Storytime,Toddlers
END:VEVENT
BEGIN:VEVENT
DTSTART;TZID=America/New_York:20250429T143000
DTEND;TZID=America/New_York:20250429T143000
DTSTAMP:20260422T172303
CREATED:20241217T193003Z
LAST-MODIFIED:20241217T193003Z
UID:10008832-1745937000-1745937000@www.trailslibrary.org
SUMMARY:Storytime - Warrensburg Branch
DESCRIPTION:Ages 0-5: Join us for a lively storytime filled with engaging stories\, music\, dancing\, crafts\, and plenty of bubbles! It’s a fun-filled adventure perfect for little ones and their grown-ups.
URL:https://www.trailslibrary.org/event/storytime-warrensburg-branch-32/
LOCATION:Warrensburg Branch\, 432 N. Holden\, Warrensburg\, Missouri\, 64093\, United States
CATEGORIES:Children,Kids,Pre-School,Preschool,Storytime,Toddlers
END:VEVENT
BEGIN:VEVENT
DTSTART;TZID=America/New_York:20250430T100000
DTEND;TZID=America/New_York:20250430T100000
DTSTAMP:20260422T172303
CREATED:20241217T171019Z
LAST-MODIFIED:20241217T171019Z
UID:10008523-1746007200-1746007200@www.trailslibrary.org
SUMMARY:Storytime - Corder Branch
DESCRIPTION:Ages 0-5: Storytimes are for building pre-reading skills\, making friends\, and having fun!
URL:https://www.trailslibrary.org/event/storytime-corder-branch-10/
LOCATION:Corder Branch\, 221 N. Lafayette\, Corder\, MO\, 64021\, United States
CATEGORIES:Children,Kids,Pre-School,Preschool,Storytime,Toddlers
END:VEVENT
BEGIN:VEVENT
DTSTART;TZID=America/New_York:20250430T100000
DTEND;TZID=America/New_York:20250430T100000
DTSTAMP:20260422T172303
CREATED:20241217T174614Z
LAST-MODIFIED:20250214T152233Z
UID:10008623-1746007200-1746007200@www.trailslibrary.org
SUMMARY:Storytime - Knob Noster Branch
DESCRIPTION:Ages 0-5: Help your child develop a love of literacy with stories\, music\, and bubbles.
URL:https://www.trailslibrary.org/event/storytime-knob-noster-branch-15/
LOCATION:Knob Noster Branch\, 202 N. Adams\, Knob Noster\, MO\, 65336\, United States
CATEGORIES:Children,Kids,Pre-School,Preschool,Storytime,Toddlers
END:VEVENT
BEGIN:VEVENT
DTSTART;TZID=America/New_York:20250430T100000
DTEND;TZID=America/New_York:20250430T100000
DTSTAMP:20260422T172303
CREATED:20241217T174949Z
LAST-MODIFIED:20241217T174949Z
UID:10008643-1746007200-1746007200@www.trailslibrary.org
SUMMARY:Storytime - Lexington Branch
DESCRIPTION:Ages 0-5: Bring your little ones for storytime! Each week we read\, sing\, play and learn\, all while developing early literacy skills.
URL:https://www.trailslibrary.org/event/storytime-lexington-branch-9/
LOCATION:Lexington Branch\, 1008 Main Street\, Lexington\, MO\, 64067\, United States
CATEGORIES:Children,Kids,Pre-School,Preschool,Storytime,Toddlers
END:VEVENT
BEGIN:VEVENT
DTSTART;TZID=America/New_York:20250430T100000
DTEND;TZID=America/New_York:20250430T100000
DTSTAMP:20260422T172303
CREATED:20241217T183501Z
LAST-MODIFIED:20241217T183501Z
UID:10008721-1746007200-1746007200@www.trailslibrary.org
SUMMARY:Storytime - Odessa Branch
DESCRIPTION:Ages 0-5: Storytimes are for building pre-reading skills\, making friends\, and having fun!
URL:https://www.trailslibrary.org/event/storytime-odessa-branch-18/
LOCATION:Odessa Branch\, 107 W. Mason\, Odessa\, MO\, 64076\, United States
CATEGORIES:Children,Kids,Pre-School,Preschool,Storytime,Toddlers
END:VEVENT
BEGIN:VEVENT
DTSTART;TZID=America/New_York:20250505T100000
DTEND;TZID=America/New_York:20250505T100000
DTSTAMP:20260422T172303
CREATED:20241218T174336Z
LAST-MODIFIED:20241218T174336Z
UID:10008858-1746439200-1746439200@www.trailslibrary.org
SUMMARY:Storytime - Waverly Branch
DESCRIPTION:Ages 0-5: Join us for simple stories\, songs and more.
URL:https://www.trailslibrary.org/event/storytime-waverly-branch-19/
LOCATION:Waverly Branch\, 203 E. Kelling\, Waverly\, MO\, 64096\, United States
CATEGORIES:Children,Kids,Pre-School,Preschool,Storytime,Toddlers
END:VEVENT
BEGIN:VEVENT
DTSTART;TZID=America/New_York:20250507T100000
DTEND;TZID=America/New_York:20250507T100000
DTSTAMP:20260422T172303
CREATED:20250214T152233Z
LAST-MODIFIED:20250214T152233Z
UID:10008866-1746612000-1746612000@www.trailslibrary.org
SUMMARY:Storytime - Knob Noster Branch
DESCRIPTION:Ages 0-5: Help your child develop a love of literacy with stories\, music\, and bubbles.
URL:https://www.trailslibrary.org/event/storytime-knob-noster-branch-16/
LOCATION:Knob Noster Branch\, 202 N. Adams\, Knob Noster\, MO\, 65336\, United States
CATEGORIES:Children,Kids,Pre-School,Preschool,Storytime,Toddlers
END:VEVENT
BEGIN:VEVENT
DTSTART;TZID=America/New_York:20250512T100000
DTEND;TZID=America/New_York:20250512T100000
DTSTAMP:20260422T172303
CREATED:20241218T174537Z
LAST-MODIFIED:20241218T174537Z
UID:10008859-1747044000-1747044000@www.trailslibrary.org
SUMMARY:Storytime - Waverly Branch
DESCRIPTION:Ages 0-5: Join us for simple stories\, songs and more.
URL:https://www.trailslibrary.org/event/storytime-waverly-branch-20/
LOCATION:Waverly Branch\, 203 E. Kelling\, Waverly\, MO\, 64096\, United States
CATEGORIES:Children,Kids,Pre-School,Preschool,Storytime,Toddlers
END:VEVENT
BEGIN:VEVENT
DTSTART;TZID=America/New_York:20250519T100000
DTEND;TZID=America/New_York:20250519T100000
DTSTAMP:20260422T172303
CREATED:20241218T174537Z
LAST-MODIFIED:20241218T174537Z
UID:10008860-1747648800-1747648800@www.trailslibrary.org
SUMMARY:Storytime - Waverly Branch
DESCRIPTION:Ages 0-5: Join us for simple stories\, songs and more.
URL:https://www.trailslibrary.org/event/storytime-waverly-branch-21/
LOCATION:Waverly Branch\, 203 E. Kelling\, Waverly\, MO\, 64096\, United States
CATEGORIES:Children,Kids,Pre-School,Preschool,Storytime,Toddlers
END:VEVENT
BEGIN:VEVENT
DTSTART;TZID=America/New_York:20250602T093000
DTEND;TZID=America/New_York:20250602T093000
DTSTAMP:20260422T172303
CREATED:20250509T133844Z
LAST-MODIFIED:20250509T133844Z
UID:10008926-1748856600-1748856600@www.trailslibrary.org
SUMMARY:Monday Melodies - Corder Branch
DESCRIPTION:Ages 0-5: Join us for fun-filled music and movement sessions tailored for toddlers!
URL:https://www.trailslibrary.org/event/monday-melodies-corder-branch-13/
LOCATION:Corder Branch\, 221 N. Lafayette\, Corder\, MO\, 64021\, United States
CATEGORIES:Children,Kids,Pre-School,Preschool,Toddlers
END:VEVENT
BEGIN:VEVENT
DTSTART;TZID=America/New_York:20250602T100000
DTEND;TZID=America/New_York:20250602T100000
DTSTAMP:20260422T172303
CREATED:20250509T142557Z
LAST-MODIFIED:20250509T142557Z
UID:10009219-1748858400-1748858400@www.trailslibrary.org
SUMMARY:Storytime Adventures - Waverly Branch
DESCRIPTION:Ages 0-5: Let’s have fun and be creative together! Join us for stories\, crafts\, and more!
URL:https://www.trailslibrary.org/event/storytime-adventures-waverly-branch/
LOCATION:Waverly Branch\, 203 E. Kelling\, Waverly\, MO\, 64096\, United States
CATEGORIES:Children,Kids,Pre-School,Preschool,Storytime,Toddlers
END:VEVENT
BEGIN:VEVENT
DTSTART;TZID=America/New_York:20250603T100000
DTEND;TZID=America/New_York:20250603T100000
DTSTAMP:20260422T172303
CREATED:20250509T133032Z
LAST-MODIFIED:20250509T133032Z
UID:10008880-1748944800-1748944800@www.trailslibrary.org
SUMMARY:Bubbly Storytime - Concordia Branch
DESCRIPTION:Ages 0-5: Storytimes are for building pre-reading skills\, making friends and having fun! And there will be bubbles!
URL:https://www.trailslibrary.org/event/bubbly-storytime-concordia-branch-16/
LOCATION:Concordia Branch\, 813 S Main\, Concordia\, MO\, 64020\, United States
CATEGORIES:Children,Kids,Pre-School,Preschool,Storytime,Toddlers
END:VEVENT
BEGIN:VEVENT
DTSTART;TZID=America/New_York:20250603T100000
DTEND;TZID=America/New_York:20250603T100000
DTSTAMP:20260422T172303
CREATED:20250509T142254Z
LAST-MODIFIED:20250509T142254Z
UID:10009181-1748944800-1748944800@www.trailslibrary.org
SUMMARY:Storytime - Warrensburg Branch
DESCRIPTION:Ages 0-5: Join us for a lively storytime filled with engaging stories\, music\, dancing\, crafts\, and plenty of bubbles! It’s a fun-filled adventure perfect for little ones and their grown-ups.
URL:https://www.trailslibrary.org/event/storytime-warrensburg-branch-33/
LOCATION:Warrensburg Branch\, 432 N. Holden\, Warrensburg\, Missouri\, 64093\, United States
CATEGORIES:Children,Kids,Pre-School,Preschool,Storytime,Toddlers
END:VEVENT
BEGIN:VEVENT
DTSTART;TZID=America/New_York:20250604T100000
DTEND;TZID=America/New_York:20250604T100000
DTSTAMP:20260422T172303
CREATED:20250509T135059Z
LAST-MODIFIED:20250509T135059Z
UID:10009007-1749031200-1749031200@www.trailslibrary.org
SUMMARY:Storytime - Knob Noster Branch
DESCRIPTION:Ages 0-5: Join us for engaging stories\, music\, and bubbles that encourage learning\, movement\, and a love of reading!
URL:https://www.trailslibrary.org/event/storytime-knob-noster-branch-17/
LOCATION:Knob Noster Branch\, 202 N. Adams\, Knob Noster\, MO\, 65336\, United States
CATEGORIES:Children,Kids,Pre-School,Preschool,Storytime,Toddlers
END:VEVENT
BEGIN:VEVENT
DTSTART;TZID=America/New_York:20250604T100000
DTEND;TZID=America/New_York:20250604T100000
DTSTAMP:20260422T172303
CREATED:20250509T135738Z
LAST-MODIFIED:20250509T135738Z
UID:10009031-1749031200-1749031200@www.trailslibrary.org
SUMMARY:Storytime - Lexington Branch
DESCRIPTION:Ages 0-5: Bring your little ones for storytime! Each week we read\, sing\, play and learn\, all while developing early literacy skills.
URL:https://www.trailslibrary.org/event/storytime-lexington-branch-16/
LOCATION:Lexington Branch\, 1008 Main Street\, Lexington\, MO\, 64067\, United States
CATEGORIES:Children,Kids,Pre-School,Preschool,Storytime,Toddlers
END:VEVENT
BEGIN:VEVENT
DTSTART;TZID=America/New_York:20250604T100000
DTEND;TZID=America/New_York:20250604T100000
DTSTAMP:20260422T172303
CREATED:20250509T140433Z
LAST-MODIFIED:20250509T140433Z
UID:10009085-1749031200-1749031200@www.trailslibrary.org
SUMMARY:Storytime - Odessa Branch
DESCRIPTION:Ages 0-5: Storytimes are for building pre-reading skills\, making friends\, and having fun!
URL:https://www.trailslibrary.org/event/storytime-odessa-branch-19/
LOCATION:Odessa Branch\, 107 W. Mason\, Odessa\, MO\, 64076\, United States
CATEGORIES:Children,Kids,Pre-School,Preschool,Storytime,Toddlers
END:VEVENT
BEGIN:VEVENT
DTSTART;TZID=America/New_York:20250605T100000
DTEND;TZID=America/New_York:20250605T100000
DTSTAMP:20260422T172303
CREATED:20250509T140433Z
LAST-MODIFIED:20250509T140433Z
UID:10009086-1749117600-1749117600@www.trailslibrary.org
SUMMARY:Storytime - Odessa Branch
DESCRIPTION:Ages 0-5: Storytimes are for building pre-reading skills\, making friends\, and having fun!
URL:https://www.trailslibrary.org/event/storytime-odessa-branch-20/
LOCATION:Odessa Branch\, 107 W. Mason\, Odessa\, MO\, 64076\, United States
CATEGORIES:Children,Kids,Pre-School,Preschool,Storytime,Toddlers
END:VEVENT
BEGIN:VEVENT
DTSTART;TZID=America/New_York:20250605T100000
DTEND;TZID=America/New_York:20250605T100000
DTSTAMP:20260422T172303
CREATED:20250509T142119Z
LAST-MODIFIED:20250509T142119Z
UID:10009145-1749117600-1749117600@www.trailslibrary.org
SUMMARY:Music and More - Warrensburg Branch
DESCRIPTION:Ages 0-5: Get ready to sing\, dance\, and shake those wiggles out! Join us for Music and More\, where children will explore a variety of musical instruments to boost sensory development\, coordination\, and early literacy and numeracy skills.
URL:https://www.trailslibrary.org/event/music-and-more-warrensburg-branch-2/
LOCATION:Warrensburg Branch\, 432 N. Holden\, Warrensburg\, Missouri\, 64093\, United States
CATEGORIES:Children,Kids,Pre-School,Preschool,Toddlers
END:VEVENT
BEGIN:VEVENT
DTSTART;TZID=America/New_York:20250609T093000
DTEND;TZID=America/New_York:20250609T093000
DTSTAMP:20260422T172303
CREATED:20250509T133845Z
LAST-MODIFIED:20250509T133845Z
UID:10008927-1749461400-1749461400@www.trailslibrary.org
SUMMARY:Monday Melodies - Corder Branch
DESCRIPTION:Ages 0-5: Join us for fun-filled music and movement sessions tailored for toddlers!
URL:https://www.trailslibrary.org/event/monday-melodies-corder-branch-14/
LOCATION:Corder Branch\, 221 N. Lafayette\, Corder\, MO\, 64021\, United States
CATEGORIES:Children,Kids,Pre-School,Preschool,Toddlers
END:VEVENT
BEGIN:VEVENT
DTSTART;TZID=America/New_York:20250609T100000
DTEND;TZID=America/New_York:20250609T100000
DTSTAMP:20260422T172303
CREATED:20250509T142557Z
LAST-MODIFIED:20250509T142557Z
UID:10009220-1749463200-1749463200@www.trailslibrary.org
SUMMARY:Storytime Adventures - Waverly Branch
DESCRIPTION:Ages 0-5: Let’s have fun and be creative together! Join us for stories\, crafts\, and more!
URL:https://www.trailslibrary.org/event/storytime-adventures-waverly-branch-2/
LOCATION:Waverly Branch\, 203 E. Kelling\, Waverly\, MO\, 64096\, United States
CATEGORIES:Children,Kids,Pre-School,Preschool,Storytime,Toddlers
END:VEVENT
BEGIN:VEVENT
DTSTART;TZID=America/New_York:20250610T100000
DTEND;TZID=America/New_York:20250610T100000
DTSTAMP:20260422T172303
CREATED:20250509T133032Z
LAST-MODIFIED:20250509T133032Z
UID:10008881-1749549600-1749549600@www.trailslibrary.org
SUMMARY:Bubbly Storytime - Concordia Branch
DESCRIPTION:Ages 0-5: Storytimes are for building pre-reading skills\, making friends and having fun! And there will be bubbles!
URL:https://www.trailslibrary.org/event/bubbly-storytime-concordia-branch-17/
LOCATION:Concordia Branch\, 813 S Main\, Concordia\, MO\, 64020\, United States
CATEGORIES:Children,Kids,Pre-School,Preschool,Storytime,Toddlers
END:VEVENT
BEGIN:VEVENT
DTSTART;TZID=America/New_York:20250610T100000
DTEND;TZID=America/New_York:20250610T100000
DTSTAMP:20260422T172303
CREATED:20250509T142255Z
LAST-MODIFIED:20250509T142255Z
UID:10009182-1749549600-1749549600@www.trailslibrary.org
SUMMARY:Storytime - Warrensburg Branch
DESCRIPTION:Ages 0-5: Join us for a lively storytime filled with engaging stories\, music\, dancing\, crafts\, and plenty of bubbles! It’s a fun-filled adventure perfect for little ones and their grown-ups.
URL:https://www.trailslibrary.org/event/storytime-warrensburg-branch-34/
LOCATION:Warrensburg Branch\, 432 N. Holden\, Warrensburg\, Missouri\, 64093\, United States
CATEGORIES:Children,Kids,Pre-School,Preschool,Storytime,Toddlers
END:VEVENT
BEGIN:VEVENT
DTSTART;TZID=America/New_York:20250611T090000
DTEND;TZID=America/New_York:20250611T090000
DTSTAMP:20260422T172303
CREATED:20250509T152128Z
LAST-MODIFIED:20250509T152128Z
UID:10009249-1749632400-1749632400@www.trailslibrary.org
SUMMARY:Stuffed Animal Sleepover Drop-off - Knob Noster Branch
DESCRIPTION:Ages 0-5: Drop off your stuffed animal for their stuffed animal sleepover\, and join us tomorrow for our Stuffed Animal Sleepover Storytime!
URL:https://www.trailslibrary.org/event/stuffed-animal-sleepover-drop-off-knob-noster-branch/
LOCATION:Knob Noster Branch\, 202 N. Adams\, Knob Noster\, MO\, 65336\, United States
CATEGORIES:Children,Kids,Pre-School,Preschool,Storytime,Toddlers
END:VEVENT
BEGIN:VEVENT
DTSTART;TZID=America/New_York:20250611T100000
DTEND;TZID=America/New_York:20250611T100000
DTSTAMP:20260422T172303
CREATED:20250509T134722Z
LAST-MODIFIED:20250509T134722Z
UID:10008981-1749636000-1749636000@www.trailslibrary.org
SUMMARY:Storytime - Holden Branch
DESCRIPTION:Ages 0-5: Come listen to a story at the library and do a craft.
URL:https://www.trailslibrary.org/event/storytime-holden-branch-20/
LOCATION:Holden Branch\, 207 S. Main\, Holden\, MO\, 64040\, United States
CATEGORIES:Children,Kids,Pre-School,Preschool,Storytime,Toddlers
END:VEVENT
BEGIN:VEVENT
DTSTART;TZID=America/New_York:20250611T100000
DTEND;TZID=America/New_York:20250611T100000
DTSTAMP:20260422T172303
CREATED:20250509T135113Z
LAST-MODIFIED:20250509T135113Z
UID:10009008-1749636000-1749636000@www.trailslibrary.org
SUMMARY:Storytime - Knob Noster Branch
DESCRIPTION:Ages 0-5: Join us for engaging stories\, music\, and bubbles that encourage learning\, movement\, and a love of reading!
URL:https://www.trailslibrary.org/event/storytime-knob-noster-branch-18/
LOCATION:Knob Noster Branch\, 202 N. Adams\, Knob Noster\, MO\, 65336\, United States
CATEGORIES:Children,Kids,Pre-School,Preschool,Storytime,Toddlers
END:VEVENT
BEGIN:VEVENT
DTSTART;TZID=America/New_York:20250611T100000
DTEND;TZID=America/New_York:20250611T100000
DTSTAMP:20260422T172303
CREATED:20250509T135753Z
LAST-MODIFIED:20250509T135753Z
UID:10009032-1749636000-1749636000@www.trailslibrary.org
SUMMARY:Storytime - Lexington Branch
DESCRIPTION:Ages 0-5: Bring your little ones for storytime! Each week we read\, sing\, play and learn\, all while developing early literacy skills.
URL:https://www.trailslibrary.org/event/storytime-lexington-branch-17/
LOCATION:Lexington Branch\, 1008 Main Street\, Lexington\, MO\, 64067\, United States
CATEGORIES:Children,Kids,Pre-School,Preschool,Storytime,Toddlers
END:VEVENT
BEGIN:VEVENT
DTSTART;TZID=America/New_York:20250611T100000
DTEND;TZID=America/New_York:20250611T100000
DTSTAMP:20260422T172303
CREATED:20250509T140433Z
LAST-MODIFIED:20250509T140433Z
UID:10009087-1749636000-1749636000@www.trailslibrary.org
SUMMARY:Storytime - Odessa Branch
DESCRIPTION:Ages 0-5: Storytimes are for building pre-reading skills\, making friends\, and having fun!
URL:https://www.trailslibrary.org/event/storytime-odessa-branch-21/
LOCATION:Odessa Branch\, 107 W. Mason\, Odessa\, MO\, 64076\, United States
CATEGORIES:Children,Kids,Pre-School,Preschool,Storytime,Toddlers
END:VEVENT
BEGIN:VEVENT
DTSTART;TZID=America/New_York:20250612T100000
DTEND;TZID=America/New_York:20250612T100000
DTSTAMP:20260422T172303
CREATED:20250509T135514Z
LAST-MODIFIED:20250509T135514Z
UID:10009020-1749722400-1749722400@www.trailslibrary.org
SUMMARY:Stuffed Animal Sleepover Storytime - Knob Noster Branch
DESCRIPTION:Ages 0-5: What happens when your stuffed animals go on a sleepover? Find out at our Stuffed Animal Sleepover Storytime!
URL:https://www.trailslibrary.org/event/stuffed-animal-sleepover-storytime-knob-noster-branch/
LOCATION:Knob Noster Branch\, 202 N. Adams\, Knob Noster\, MO\, 65336\, United States
CATEGORIES:Children,Kids,Pre-School,Preschool,Storytime,Toddlers
END:VEVENT
BEGIN:VEVENT
DTSTART;TZID=America/New_York:20250612T100000
DTEND;TZID=America/New_York:20250612T100000
DTSTAMP:20260422T172303
CREATED:20250509T140433Z
LAST-MODIFIED:20250509T140433Z
UID:10009088-1749722400-1749722400@www.trailslibrary.org
SUMMARY:Storytime - Odessa Branch
DESCRIPTION:Ages 0-5: Storytimes are for building pre-reading skills\, making friends\, and having fun!
URL:https://www.trailslibrary.org/event/storytime-odessa-branch-22/
LOCATION:Odessa Branch\, 107 W. Mason\, Odessa\, MO\, 64076\, United States
CATEGORIES:Children,Kids,Pre-School,Preschool,Storytime,Toddlers
END:VEVENT
END:VCALENDAR