BEGIN:VCALENDAR
VERSION:2.0
PRODID:-//Trails Regional Library - ECPv6.15.20//NONSGML v1.0//EN
CALSCALE:GREGORIAN
METHOD:PUBLISH
X-WR-CALNAME:Trails Regional Library
X-ORIGINAL-URL:https://www.trailslibrary.org
X-WR-CALDESC:Events for Trails Regional Library
REFRESH-INTERVAL;VALUE=DURATION:PT1H
X-Robots-Tag:noindex
X-PUBLISHED-TTL:PT1H
BEGIN:VTIMEZONE
TZID:America/New_York
BEGIN:DAYLIGHT
TZOFFSETFROM:-0500
TZOFFSETTO:-0400
TZNAME:EDT
DTSTART:20240310T070000
END:DAYLIGHT
BEGIN:STANDARD
TZOFFSETFROM:-0400
TZOFFSETTO:-0500
TZNAME:EST
DTSTART:20241103T060000
END:STANDARD
BEGIN:DAYLIGHT
TZOFFSETFROM:-0500
TZOFFSETTO:-0400
TZNAME:EDT
DTSTART:20250309T070000
END:DAYLIGHT
BEGIN:STANDARD
TZOFFSETFROM:-0400
TZOFFSETTO:-0500
TZNAME:EST
DTSTART:20251102T060000
END:STANDARD
BEGIN:DAYLIGHT
TZOFFSETFROM:-0500
TZOFFSETTO:-0400
TZNAME:EDT
DTSTART:20260308T070000
END:DAYLIGHT
BEGIN:STANDARD
TZOFFSETFROM:-0400
TZOFFSETTO:-0500
TZNAME:EST
DTSTART:20261101T060000
END:STANDARD
BEGIN:DAYLIGHT
TZOFFSETFROM:-0500
TZOFFSETTO:-0400
TZNAME:EDT
DTSTART:20270314T070000
END:DAYLIGHT
BEGIN:STANDARD
TZOFFSETFROM:-0400
TZOFFSETTO:-0500
TZNAME:EST
DTSTART:20271107T060000
END:STANDARD
END:VTIMEZONE
BEGIN:VEVENT
DTSTART;TZID=America/New_York:20251209T100000
DTEND;TZID=America/New_York:20251209T100000
DTSTAMP:20260422T171843
CREATED:20250911T140337Z
LAST-MODIFIED:20250911T140337Z
UID:10009399-1765274400-1765274400@www.trailslibrary.org
SUMMARY:Bubbly Storytime - Concordia Branch
DESCRIPTION:Ages 0-5: Storytimes are for building pre-reading skills\, making friends\, and having fun! And there will be bubbles!
URL:https://www.trailslibrary.org/event/bubbly-storytime-concordia-branch-38/
LOCATION:Concordia Branch\, 813 S Main\, Concordia\, MO\, 64020\, United States
CATEGORIES:Children,Kids,Pre-School,Preschool,Storytime,Toddlers
END:VEVENT
BEGIN:VEVENT
DTSTART;TZID=America/New_York:20251209T100000
DTEND;TZID=America/New_York:20251209T100000
DTSTAMP:20260422T171843
CREATED:20250911T141836Z
LAST-MODIFIED:20250911T141836Z
UID:10009579-1765274400-1765274400@www.trailslibrary.org
SUMMARY:Storytime - Warrensburg Branch
DESCRIPTION:Ages 0-5: Join us for a lively storytime filled with engaging stories\, music\, dancing\, crafts\, and plenty of bubbles! It’s a fun-filled adventure perfect for little ones and their grown-ups.
URL:https://www.trailslibrary.org/event/storytime-warrensburg-branch-66/
LOCATION:Warrensburg Branch\, 432 N. Holden\, Warrensburg\, Missouri\, 64093\, United States
CATEGORIES:Children,Kids,Pre-School,Preschool,Storytime,Toddlers
END:VEVENT
BEGIN:VEVENT
DTSTART;TZID=America/New_York:20251209T143000
DTEND;TZID=America/New_York:20251209T143000
DTSTAMP:20260422T171843
CREATED:20250911T141836Z
LAST-MODIFIED:20250911T141836Z
UID:10009580-1765290600-1765290600@www.trailslibrary.org
SUMMARY:Storytime - Warrensburg Branch
DESCRIPTION:Ages 0-5: Join us for a lively storytime filled with engaging stories\, music\, dancing\, crafts\, and plenty of bubbles! It’s a fun-filled adventure perfect for little ones and their grown-ups.
URL:https://www.trailslibrary.org/event/storytime-warrensburg-branch-67/
LOCATION:Warrensburg Branch\, 432 N. Holden\, Warrensburg\, Missouri\, 64093\, United States
CATEGORIES:Children,Kids,Pre-School,Preschool,Storytime,Toddlers
END:VEVENT
BEGIN:VEVENT
DTSTART;TZID=America/New_York:20251210T100000
DTEND;TZID=America/New_York:20251210T100000
DTSTAMP:20260422T171843
CREATED:20250911T140909Z
LAST-MODIFIED:20250911T140909Z
UID:10009473-1765360800-1765360800@www.trailslibrary.org
SUMMARY:Storytime - Lexington Branch
DESCRIPTION:Ages 0-5: Bring your little ones for storytime! Each week we read\, sing\, play and learn\, all while developing early literacy skills
URL:https://www.trailslibrary.org/event/storytime-lexington-branch-38/
LOCATION:Lexington Branch\, 1008 Main Street\, Lexington\, MO\, 64067\, United States
CATEGORIES:Children,Kids,Pre-School,Preschool,Storytime,Toddlers
END:VEVENT
BEGIN:VEVENT
DTSTART;TZID=America/New_York:20251210T100000
DTEND;TZID=America/New_York:20251210T100000
DTSTAMP:20260422T171843
CREATED:20250911T193902Z
LAST-MODIFIED:20250911T193902Z
UID:10009619-1765360800-1765360800@www.trailslibrary.org
SUMMARY:Storytime - Corder Branch
DESCRIPTION:Ages 0-5: Storytimes are for building reading skills\, making friends\, and having fun!
URL:https://www.trailslibrary.org/event/storytime-corder-branch-33/
LOCATION:Corder Branch\, 221 N. Lafayette\, Corder\, MO\, 64021\, United States
CATEGORIES:Children,Kids,Pre-School,Preschool,Storytime,Toddlers
END:VEVENT
BEGIN:VEVENT
DTSTART;TZID=America/New_York:20251210T100000
DTEND;TZID=America/New_York:20251210T100000
DTSTAMP:20260422T171843
CREATED:20250930T135603Z
LAST-MODIFIED:20250930T135603Z
UID:10009677-1765360800-1765360800@www.trailslibrary.org
SUMMARY:Storytime - Holden Branch
DESCRIPTION:Ages 0-5: Come listen to a story and make a craft!
URL:https://www.trailslibrary.org/event/storytime-holden-branch-36/
LOCATION:Holden Branch\, 207 S. Main\, Holden\, MO\, 64040\, United States
CATEGORIES:Children,Kids,Pre-School,Preschool,Storytime,Toddlers
END:VEVENT
BEGIN:VEVENT
DTSTART;TZID=America/New_York:20251211T100000
DTEND;TZID=America/New_York:20251211T100000
DTSTAMP:20260422T171843
CREATED:20250911T141721Z
LAST-MODIFIED:20250911T141721Z
UID:10009556-1765447200-1765447200@www.trailslibrary.org
SUMMARY:Music & More - Warrensburg Branch
DESCRIPTION:Ages 0-5: Get ready to sing\, dance\, and shake those wiggles out! Join us for Music and More\, where children will explore a variety of musical instruments to boost sensory development\, coordination\, and early literacy and numeracy skills.
URL:https://www.trailslibrary.org/event/music-more-warrensburg-branch-23/
LOCATION:Warrensburg Branch\, 432 N. Holden\, Warrensburg\, Missouri\, 64093\, United States
CATEGORIES:Children,Kids,Pre-School,Preschool,Toddlers
END:VEVENT
BEGIN:VEVENT
DTSTART;TZID=America/New_York:20251215T093000
DTEND;TZID=America/New_York:20251215T093000
DTSTAMP:20260422T171843
CREATED:20250911T194003Z
LAST-MODIFIED:20250911T194003Z
UID:10009639-1765791000-1765791000@www.trailslibrary.org
SUMMARY:Monday Melodies - Corder Branch
DESCRIPTION:Ages 0-5: Join us for fun-filled music and movement sessions tailored for toddlers!
URL:https://www.trailslibrary.org/event/monday-melodies-corder-branch-35/
LOCATION:Corder Branch\, 221 N. Lafayette\, Corder\, MO\, 64021\, United States
CATEGORIES:Children,Kids,Pre-School,Preschool,Toddlers
END:VEVENT
BEGIN:VEVENT
DTSTART;TZID=America/New_York:20251215T100000
DTEND;TZID=America/New_York:20251215T100000
DTSTAMP:20260422T171843
CREATED:20250911T142215Z
LAST-MODIFIED:20250911T142215Z
UID:10009608-1765792800-1765792800@www.trailslibrary.org
SUMMARY:Storytime Adventures - Waverly Branch
DESCRIPTION:Ages 0-5: Storytimes are for building reading skills\, making friends\, and more!
URL:https://www.trailslibrary.org/event/storytime-adventures-waverly-branch-27/
LOCATION:Waverly Branch\, 203 E. Kelling\, Waverly\, MO\, 64096\, United States
CATEGORIES:Children,Kids,Pre-School,Preschool,Storytime,Toddlers
END:VEVENT
BEGIN:VEVENT
DTSTART;TZID=America/New_York:20251216T100000
DTEND;TZID=America/New_York:20251216T100000
DTSTAMP:20260422T171843
CREATED:20250911T140338Z
LAST-MODIFIED:20250911T140338Z
UID:10009400-1765879200-1765879200@www.trailslibrary.org
SUMMARY:Bubbly Storytime - Concordia Branch
DESCRIPTION:Ages 0-5: Storytimes are for building pre-reading skills\, making friends\, and having fun! And there will be bubbles!
URL:https://www.trailslibrary.org/event/bubbly-storytime-concordia-branch-39/
LOCATION:Concordia Branch\, 813 S Main\, Concordia\, MO\, 64020\, United States
CATEGORIES:Children,Kids,Pre-School,Preschool,Storytime,Toddlers
END:VEVENT
BEGIN:VEVENT
DTSTART;TZID=America/New_York:20251216T100000
DTEND;TZID=America/New_York:20251216T100000
DTSTAMP:20260422T171843
CREATED:20250911T141851Z
LAST-MODIFIED:20250911T141851Z
UID:10009585-1765879200-1765879200@www.trailslibrary.org
SUMMARY:Storytime - Warrensburg Branch
DESCRIPTION:Ages 0-5: Join us for a lively storytime filled with engaging stories\, music\, dancing\, crafts\, and plenty of bubbles! It’s a fun-filled adventure perfect for little ones and their grown-ups.
URL:https://www.trailslibrary.org/event/storytime-warrensburg-branch-72/
LOCATION:Warrensburg Branch\, 432 N. Holden\, Warrensburg\, Missouri\, 64093\, United States
CATEGORIES:Children,Kids,Pre-School,Preschool,Storytime,Toddlers
END:VEVENT
BEGIN:VEVENT
DTSTART;TZID=America/New_York:20251216T143000
DTEND;TZID=America/New_York:20251216T143000
DTSTAMP:20260422T171843
CREATED:20250911T141851Z
LAST-MODIFIED:20250911T141851Z
UID:10009586-1765895400-1765895400@www.trailslibrary.org
SUMMARY:Storytime - Warrensburg Branch
DESCRIPTION:Ages 0-5: Join us for a lively storytime filled with engaging stories\, music\, dancing\, crafts\, and plenty of bubbles! It’s a fun-filled adventure perfect for little ones and their grown-ups.
URL:https://www.trailslibrary.org/event/storytime-warrensburg-branch-73/
LOCATION:Warrensburg Branch\, 432 N. Holden\, Warrensburg\, Missouri\, 64093\, United States
CATEGORIES:Children,Kids,Pre-School,Preschool,Storytime,Toddlers
END:VEVENT
BEGIN:VEVENT
DTSTART;TZID=America/New_York:20251217T100000
DTEND;TZID=America/New_York:20251217T100000
DTSTAMP:20260422T171843
CREATED:20250911T140747Z
LAST-MODIFIED:20250911T140747Z
UID:10009454-1765965600-1765965600@www.trailslibrary.org
SUMMARY:Storytime - Knob Noster Branch
DESCRIPTION:Ages 0-5: Join us for engaging stories\, music\, and bubbles that encourage learning\, movement\, and a love of reading!
URL:https://www.trailslibrary.org/event/storytime-knob-noster-branch-41/
LOCATION:Knob Noster Branch\, 202 N. Adams\, Knob Noster\, MO\, 65336\, United States
CATEGORIES:Children,Kids,Pre-School,Preschool,Storytime,Toddlers
END:VEVENT
BEGIN:VEVENT
DTSTART;TZID=America/New_York:20251217T100000
DTEND;TZID=America/New_York:20251217T100000
DTSTAMP:20260422T171843
CREATED:20250911T140909Z
LAST-MODIFIED:20250911T140909Z
UID:10009474-1765965600-1765965600@www.trailslibrary.org
SUMMARY:Storytime - Lexington Branch
DESCRIPTION:Ages 0-5: Bring your little ones for storytime! Each week we read\, sing\, play and learn\, all while developing early literacy skills
URL:https://www.trailslibrary.org/event/storytime-lexington-branch-39/
LOCATION:Lexington Branch\, 1008 Main Street\, Lexington\, MO\, 64067\, United States
CATEGORIES:Children,Kids,Pre-School,Preschool,Storytime,Toddlers
END:VEVENT
BEGIN:VEVENT
DTSTART;TZID=America/New_York:20251217T100000
DTEND;TZID=America/New_York:20251217T100000
DTSTAMP:20260422T171843
CREATED:20250911T193903Z
LAST-MODIFIED:20250911T193903Z
UID:10009620-1765965600-1765965600@www.trailslibrary.org
SUMMARY:Storytime - Corder Branch
DESCRIPTION:Ages 0-5: Storytimes are for building reading skills\, making friends\, and having fun!
URL:https://www.trailslibrary.org/event/storytime-corder-branch-34/
LOCATION:Corder Branch\, 221 N. Lafayette\, Corder\, MO\, 64021\, United States
CATEGORIES:Children,Kids,Pre-School,Preschool,Storytime,Toddlers
END:VEVENT
BEGIN:VEVENT
DTSTART;TZID=America/New_York:20251217T100000
DTEND;TZID=America/New_York:20251217T100000
DTSTAMP:20260422T171843
CREATED:20250930T135618Z
LAST-MODIFIED:20250930T135618Z
UID:10009678-1765965600-1765965600@www.trailslibrary.org
SUMMARY:Storytime - Holden Branch
DESCRIPTION:Ages 0-5: Come listen to a story and make a craft!
URL:https://www.trailslibrary.org/event/storytime-holden-branch-37/
LOCATION:Holden Branch\, 207 S. Main\, Holden\, MO\, 64040\, United States
CATEGORIES:Children,Kids,Pre-School,Preschool,Storytime,Toddlers
END:VEVENT
BEGIN:VEVENT
DTSTART;TZID=America/New_York:20251218T100000
DTEND;TZID=America/New_York:20251218T100000
DTSTAMP:20260422T171843
CREATED:20250911T141721Z
LAST-MODIFIED:20250911T141721Z
UID:10009557-1766052000-1766052000@www.trailslibrary.org
SUMMARY:Music & More - Warrensburg Branch
DESCRIPTION:Ages 0-5: Get ready to sing\, dance\, and shake those wiggles out! Join us for Music and More\, where children will explore a variety of musical instruments to boost sensory development\, coordination\, and early literacy and numeracy skills.
URL:https://www.trailslibrary.org/event/music-more-warrensburg-branch-24/
LOCATION:Warrensburg Branch\, 432 N. Holden\, Warrensburg\, Missouri\, 64093\, United States
CATEGORIES:Children,Kids,Pre-School,Preschool,Toddlers
END:VEVENT
BEGIN:VEVENT
DTSTART;TZID=America/New_York:20260112T093000
DTEND;TZID=America/New_York:20260112T093000
DTSTAMP:20260422T171843
CREATED:20251215T200827Z
LAST-MODIFIED:20251215T200827Z
UID:10009760-1768210200-1768210200@www.trailslibrary.org
SUMMARY:Monday Melodies - Corder Branch
DESCRIPTION:Ages 0-5: Join us for fun-filled music and movement sessions tailored for toddlers!
URL:https://www.trailslibrary.org/event/monday-melodies-corder-branch-36/
LOCATION:Corder Branch\, 221 N. Lafayette\, Corder\, MO\, 64021\, United States
CATEGORIES:Children,Kids,Pre-School,Preschool,Toddlers
END:VEVENT
BEGIN:VEVENT
DTSTART;TZID=America/New_York:20260112T100000
DTEND;TZID=America/New_York:20260112T100000
DTSTAMP:20260422T171843
CREATED:20251215T210222Z
LAST-MODIFIED:20251215T210222Z
UID:10010140-1768212000-1768212000@www.trailslibrary.org
SUMMARY:Storytime Adventures - Waverly Branch
DESCRIPTION:Ages 0-5: Wiggle\, giggle\, and listen! This storytime is perfect for toddlers.
URL:https://www.trailslibrary.org/event/storytime-adventures-waverly-branch-28/
LOCATION:Waverly Branch\, 203 E. Kelling\, Waverly\, MO\, 64096\, United States
CATEGORIES:Children,Kids,Pre-School,Preschool,Storytime,Toddlers
END:VEVENT
BEGIN:VEVENT
DTSTART;TZID=America/New_York:20260113T100000
DTEND;TZID=America/New_York:20260113T100000
DTSTAMP:20260422T171843
CREATED:20251215T195323Z
LAST-MODIFIED:20251215T195323Z
UID:10009702-1768298400-1768298400@www.trailslibrary.org
SUMMARY:Bubbly Storytime - Concordia Branch
DESCRIPTION:Ages 0-5: Storytimes are for building pre-reading skills\, making friends and having fun! And there will be bubbles!
URL:https://www.trailslibrary.org/event/bubbly-storytime-concordia-branch-40/
LOCATION:Concordia Branch\, 813 S Main\, Concordia\, MO\, 64020\, United States
CATEGORIES:Children,Kids,Pre-School,Preschool,Storytime,Toddlers
END:VEVENT
BEGIN:VEVENT
DTSTART;TZID=America/New_York:20260113T100000
DTEND;TZID=America/New_York:20260113T100000
DTSTAMP:20260422T171843
CREATED:20251215T205800Z
LAST-MODIFIED:20251215T205800Z
UID:10010098-1768298400-1768298400@www.trailslibrary.org
SUMMARY:Storytime - Warrensburg Branch
DESCRIPTION:Ages 0-5: Join us for a lively storytime filled with engaging stories\, music\, dancing\, crafts\, and plenty of bubbles! It’s a fun-filled adventure perfect for little ones and their grown-ups.
URL:https://www.trailslibrary.org/event/storytime-warrensburg-branch-86/
LOCATION:Warrensburg Branch\, 432 N. Holden\, Warrensburg\, Missouri\, 64093\, United States
CATEGORIES:Children,Kids,Pre-School,Preschool,Storytime,Toddlers
END:VEVENT
BEGIN:VEVENT
DTSTART;TZID=America/New_York:20260113T143000
DTEND;TZID=America/New_York:20260113T143000
DTSTAMP:20260422T171843
CREATED:20251215T205646Z
LAST-MODIFIED:20251215T205646Z
UID:10010086-1768314600-1768314600@www.trailslibrary.org
SUMMARY:Storytime - Warrensburg Branch
DESCRIPTION:Ages 0-5: Join us for a lively storytime filled with engaging stories\, music\, dancing\, crafts\, and plenty of bubbles! It’s a fun-filled adventure perfect for little ones and their grown-ups.
URL:https://www.trailslibrary.org/event/storytime-warrensburg-branch-74/
LOCATION:Warrensburg Branch\, 432 N. Holden\, Warrensburg\, Missouri\, 64093\, United States
CATEGORIES:Children,Kids,Pre-School,Preschool,Storytime,Toddlers
END:VEVENT
BEGIN:VEVENT
DTSTART;TZID=America/New_York:20260114T100000
DTEND;TZID=America/New_York:20260114T100000
DTSTAMP:20260422T171843
CREATED:20251215T200638Z
LAST-MODIFIED:20251215T200638Z
UID:10009731-1768384800-1768384800@www.trailslibrary.org
SUMMARY:Storytime - Corder Branch
DESCRIPTION:Ages 0-5: Storytimes are for building reading skills\, making friends\, and having fun!
URL:https://www.trailslibrary.org/event/storytime-corder-branch-35/
LOCATION:Corder Branch\, 221 N. Lafayette\, Corder\, MO\, 64021\, United States
CATEGORIES:Children,Kids,Pre-School,Preschool,Storytime,Toddlers
END:VEVENT
BEGIN:VEVENT
DTSTART;TZID=America/New_York:20260114T100000
DTEND;TZID=America/New_York:20260114T100000
DTSTAMP:20260422T171843
CREATED:20251215T201222Z
LAST-MODIFIED:20251215T201222Z
UID:10009812-1768384800-1768384800@www.trailslibrary.org
SUMMARY:Storytime - Holden Branch
DESCRIPTION:Ages 0-5: Storytimes are for building pre-reading skills\, making friends\, and having fun!
URL:https://www.trailslibrary.org/event/storytime-holden-branch-38/
LOCATION:Holden Branch\, 207 S. Main\, Holden\, MO\, 64040\, United States
CATEGORIES:Children,Kids,Pre-School,Preschool,Storytime,Toddlers
END:VEVENT
BEGIN:VEVENT
DTSTART;TZID=America/New_York:20260114T100000
DTEND;TZID=America/New_York:20260114T100000
DTSTAMP:20260422T171843
CREATED:20251215T202410Z
LAST-MODIFIED:20251215T202410Z
UID:10009906-1768384800-1768384800@www.trailslibrary.org
SUMMARY:Storytime - Lexington Branch
DESCRIPTION:Ages 0-5: Bring your little ones for storytime! Each week we read\, sing\, play and learn\, all while developing early literacy skills
URL:https://www.trailslibrary.org/event/storytime-lexington-branch-40/
LOCATION:Lexington Branch\, 1008 Main Street\, Lexington\, MO\, 64067\, United States
CATEGORIES:Children,Kids,Pre-School,Preschool,Storytime,Toddlers
END:VEVENT
BEGIN:VEVENT
DTSTART;TZID=America/New_York:20260114T100000
DTEND;TZID=America/New_York:20260114T100000
DTSTAMP:20260422T171843
CREATED:20251215T203847Z
LAST-MODIFIED:20251215T203847Z
UID:10009977-1768384800-1768384800@www.trailslibrary.org
SUMMARY:Storytime - Odessa Branch
DESCRIPTION:Ages 0-5: Storytimes are for building pre-reading skills\, making friends\, and having fun!
URL:https://www.trailslibrary.org/event/storytime-odessa-branch-55/
LOCATION:Odessa Branch\, 107 W. Mason\, Odessa\, MO\, 64076\, United States
CATEGORIES:Children,Kids,Pre-School,Preschool,Storytime,Toddlers
END:VEVENT
BEGIN:VEVENT
DTSTART;TZID=America/New_York:20260115T100000
DTEND;TZID=America/New_York:20260115T100000
DTSTAMP:20260422T171843
CREATED:20251215T203847Z
LAST-MODIFIED:20251215T203847Z
UID:10009978-1768471200-1768471200@www.trailslibrary.org
SUMMARY:Storytime - Odessa Branch
DESCRIPTION:Ages 0-5: Storytimes are for building pre-reading skills\, making friends\, and having fun!
URL:https://www.trailslibrary.org/event/storytime-odessa-branch-56/
LOCATION:Odessa Branch\, 107 W. Mason\, Odessa\, MO\, 64076\, United States
CATEGORIES:Children,Kids,Pre-School,Preschool,Storytime,Toddlers
END:VEVENT
BEGIN:VEVENT
DTSTART;TZID=America/New_York:20260115T100000
DTEND;TZID=America/New_York:20260115T100000
DTSTAMP:20260422T171843
CREATED:20251215T204901Z
LAST-MODIFIED:20251215T204901Z
UID:10010036-1768471200-1768471200@www.trailslibrary.org
SUMMARY:Music & More - Warrensburg Branch
DESCRIPTION:Ages 0-5: Get ready to sing\, dance\, and shake those wiggles out! Join us for Music and More\, where children will explore a variety of musical instruments to boost sensory development\, coordination\, and early literacy and numeracy skills.
URL:https://www.trailslibrary.org/event/music-more-warrensburg-branch-25/
LOCATION:Warrensburg Branch\, 432 N. Holden\, Warrensburg\, Missouri\, 64093\, United States
CATEGORIES:Children,Kids,Pre-School,Preschool,Toddlers
END:VEVENT
BEGIN:VEVENT
DTSTART;TZID=America/New_York:20260120T100000
DTEND;TZID=America/New_York:20260120T100000
DTSTAMP:20260422T171843
CREATED:20251215T195323Z
LAST-MODIFIED:20251215T195323Z
UID:10009703-1768903200-1768903200@www.trailslibrary.org
SUMMARY:Bubbly Storytime - Concordia Branch
DESCRIPTION:Ages 0-5: Storytimes are for building pre-reading skills\, making friends and having fun! And there will be bubbles!
URL:https://www.trailslibrary.org/event/bubbly-storytime-concordia-branch-41/
LOCATION:Concordia Branch\, 813 S Main\, Concordia\, MO\, 64020\, United States
CATEGORIES:Children,Kids,Pre-School,Preschool,Storytime,Toddlers
END:VEVENT
BEGIN:VEVENT
DTSTART;TZID=America/New_York:20260120T100000
DTEND;TZID=America/New_York:20260120T100000
DTSTAMP:20260422T171843
CREATED:20251215T205815Z
LAST-MODIFIED:20251215T205815Z
UID:10010099-1768903200-1768903200@www.trailslibrary.org
SUMMARY:Storytime - Warrensburg Branch
DESCRIPTION:Ages 0-5: Join us for a lively storytime filled with engaging stories\, music\, dancing\, crafts\, and plenty of bubbles! It’s a fun-filled adventure perfect for little ones and their grown-ups.
URL:https://www.trailslibrary.org/event/storytime-warrensburg-branch-87/
LOCATION:Warrensburg Branch\, 432 N. Holden\, Warrensburg\, Missouri\, 64093\, United States
CATEGORIES:Children,Kids,Pre-School,Preschool,Storytime,Toddlers
END:VEVENT
END:VCALENDAR