BEGIN:VCALENDAR
VERSION:2.0
PRODID:-//Trails Regional Library - ECPv6.15.20//NONSGML v1.0//EN
CALSCALE:GREGORIAN
METHOD:PUBLISH
X-WR-CALNAME:Trails Regional Library
X-ORIGINAL-URL:https://www.trailslibrary.org
X-WR-CALDESC:Events for Trails Regional Library
REFRESH-INTERVAL;VALUE=DURATION:PT1H
X-Robots-Tag:noindex
X-PUBLISHED-TTL:PT1H
BEGIN:VTIMEZONE
TZID:America/New_York
BEGIN:DAYLIGHT
TZOFFSETFROM:-0500
TZOFFSETTO:-0400
TZNAME:EDT
DTSTART:20230312T070000
END:DAYLIGHT
BEGIN:STANDARD
TZOFFSETFROM:-0400
TZOFFSETTO:-0500
TZNAME:EST
DTSTART:20231105T060000
END:STANDARD
BEGIN:DAYLIGHT
TZOFFSETFROM:-0500
TZOFFSETTO:-0400
TZNAME:EDT
DTSTART:20240310T070000
END:DAYLIGHT
BEGIN:STANDARD
TZOFFSETFROM:-0400
TZOFFSETTO:-0500
TZNAME:EST
DTSTART:20241103T060000
END:STANDARD
BEGIN:DAYLIGHT
TZOFFSETFROM:-0500
TZOFFSETTO:-0400
TZNAME:EDT
DTSTART:20250309T070000
END:DAYLIGHT
BEGIN:STANDARD
TZOFFSETFROM:-0400
TZOFFSETTO:-0500
TZNAME:EST
DTSTART:20251102T060000
END:STANDARD
END:VTIMEZONE
BEGIN:VEVENT
DTSTART;TZID=America/New_York:20240601T000000
DTEND;TZID=America/New_York:20240630T000000
DTSTAMP:20260425T115446
CREATED:20240520T204037Z
LAST-MODIFIED:20240520T204037Z
UID:10007647-1717200000-1719705600@www.trailslibrary.org
SUMMARY:Pop Up - Warrensburg
DESCRIPTION:All Ages: A surprise Program is scheduled!
URL:https://www.trailslibrary.org/event/pop-up-warrensburg-2/
LOCATION:Warrensburg Branch\, 432 N. Holden\, Warrensburg\, Missouri\, 64093\, United States
CATEGORIES:Adult,Adults,All Ages,Children,Family,Kids,preteens,senior,Seniors,Teen,Teens,Youth
END:VEVENT
BEGIN:VEVENT
DTSTART;TZID=America/New_York:20240626T100000
DTEND;TZID=America/New_York:20240626T110000
DTSTAMP:20260425T115446
CREATED:20240520T191853Z
LAST-MODIFIED:20240520T191853Z
UID:10007470-1719396000-1719399600@www.trailslibrary.org
SUMMARY:SRP Storytime - Corder
DESCRIPTION:All Ages: Storytimes are for building reading skills\, making friends and having fun!  Our Summer Reading series will include crafts and activities related to our theme “Adventure Begins at the Library.”
URL:https://www.trailslibrary.org/event/srp-storytime-corder-4/
LOCATION:Corder Branch\, 221 N. Lafayette\, Corder\, MO\, 64021\, United States
CATEGORIES:Adult,Adults,All Ages,Children,Family,Kids,preteens,senior,Seniors,Storytime,Teen,Teens,Youth
END:VEVENT
BEGIN:VEVENT
DTSTART;TZID=America/New_York:20240626T140000
DTEND;TZID=America/New_York:20240626T140000
DTSTAMP:20260425T115446
CREATED:20240520T194222Z
LAST-MODIFIED:20240520T194222Z
UID:10007599-1719410400-1719410400@www.trailslibrary.org
SUMMARY:Adventures with a Movie
DESCRIPTION:All Ages: Come in and watch a family friendly movie! Snacks provided.
URL:https://www.trailslibrary.org/event/adventures-with-a-movie/
LOCATION:Waverly Branch\, 203 E. Kelling\, Waverly\, MO\, 64096\, United States
CATEGORIES:Adult,Adults,All Ages,Children,Family,Kids,Movie,preteens,senior,Seniors,Teen,Teens,Youth
END:VEVENT
BEGIN:VEVENT
DTSTART;TZID=America/New_York:20240626T150000
DTEND;TZID=America/New_York:20240626T163000
DTSTAMP:20260425T115446
CREATED:20240520T204155Z
LAST-MODIFIED:20240520T204155Z
UID:10007679-1719414000-1719419400@www.trailslibrary.org
SUMMARY:Muddy Day Adventures - Warrensburg
DESCRIPTION:All Ages: Celebrate National Mud Day early with your friends at Trails Regional Library. Come in swim wear or old clothes as you are bound to get dirty. Enjoy a mud pool\, mud painting\, a mud kitchen\, clean off in our sprinkler station\, and more!
URL:https://www.trailslibrary.org/event/muddy-day-adventures-warrensburg/
LOCATION:Warrensburg Branch\, 432 N. Holden\, Warrensburg\, Missouri\, 64093\, United States
CATEGORIES:Adult,Adults,All Ages,Children,Family,Kids,preteens,senior,Seniors,Teen,Teens,Youth
END:VEVENT
END:VCALENDAR