BEGIN:VCALENDAR
VERSION:2.0
PRODID:-//Trails Regional Library - ECPv6.15.20//NONSGML v1.0//EN
CALSCALE:GREGORIAN
METHOD:PUBLISH
X-ORIGINAL-URL:https://www.trailslibrary.org
X-WR-CALDESC:Events for Trails Regional Library
REFRESH-INTERVAL;VALUE=DURATION:PT1H
X-Robots-Tag:noindex
X-PUBLISHED-TTL:PT1H
BEGIN:VTIMEZONE
TZID:America/New_York
BEGIN:DAYLIGHT
TZOFFSETFROM:-0500
TZOFFSETTO:-0400
TZNAME:EDT
DTSTART:20230312T070000
END:DAYLIGHT
BEGIN:STANDARD
TZOFFSETFROM:-0400
TZOFFSETTO:-0500
TZNAME:EST
DTSTART:20231105T060000
END:STANDARD
BEGIN:DAYLIGHT
TZOFFSETFROM:-0500
TZOFFSETTO:-0400
TZNAME:EDT
DTSTART:20240310T070000
END:DAYLIGHT
BEGIN:STANDARD
TZOFFSETFROM:-0400
TZOFFSETTO:-0500
TZNAME:EST
DTSTART:20241103T060000
END:STANDARD
BEGIN:DAYLIGHT
TZOFFSETFROM:-0500
TZOFFSETTO:-0400
TZNAME:EDT
DTSTART:20250309T070000
END:DAYLIGHT
BEGIN:STANDARD
TZOFFSETFROM:-0400
TZOFFSETTO:-0500
TZNAME:EST
DTSTART:20251102T060000
END:STANDARD
END:VTIMEZONE
BEGIN:VEVENT
DTSTART;TZID=America/New_York:20240701T000000
DTEND;TZID=America/New_York:20240731T000000
DTSTAMP:20260424T124514
CREATED:20240520T204210Z
LAST-MODIFIED:20240520T204210Z
UID:10007682-1719792000-1722384000@www.trailslibrary.org
SUMMARY:Pop Up - Warrensburg
DESCRIPTION:All Ages: A surprise Program is scheduled!
URL:https://www.trailslibrary.org/event/pop-up-warrensburg-3/
LOCATION:Warrensburg Branch\, 432 N. Holden\, Warrensburg\, Missouri\, 64093\, United States
CATEGORIES:Adult,Adults,All Ages,Children,Family,Kids,preteens,senior,Seniors,Teen,Teens,Youth
END:VEVENT
BEGIN:VEVENT
DTSTART;TZID=America/New_York:20240711T130000
DTEND;TZID=America/New_York:20240711T130000
DTSTAMP:20260424T124514
CREATED:20240521T142301Z
LAST-MODIFIED:20240521T142301Z
UID:10007754-1720702800-1720702800@www.trailslibrary.org
SUMMARY:Let the Adventures Begin! - Concordia
DESCRIPTION:Ages 6-12: Looking for adventure and whatever comes our way\, stories\, games and more!
URL:https://www.trailslibrary.org/event/let-the-adventures-begin-concordia-5/
LOCATION:Concordia Branch\, 813 S Main\, Concordia\, MO\, 64020\, United States
CATEGORIES:Children,Kids,Youth
END:VEVENT
BEGIN:VEVENT
DTSTART;TZID=America/New_York:20240711T130000
DTEND;TZID=America/New_York:20240711T160000
DTSTAMP:20260424T124514
CREATED:20240521T152423Z
LAST-MODIFIED:20240521T152423Z
UID:10007809-1720702800-1720713600@www.trailslibrary.org
SUMMARY:Forensic Files - Knob Noster
DESCRIPTION:Ages 13-18 REGISTRATION Required: Join us for a Hands-on Presentation from the UCM Anthropology Department on their Forensics Recovery and Identity Estimation Techniques.
URL:https://www.trailslibrary.org/event/forensic-files-knob-noster/
LOCATION:Knob Noster Branch\, 202 N. Adams\, Knob Noster\, MO\, 65336\, United States
CATEGORIES:Guest Presenter,preteens,Teen,Teens,Youth
END:VEVENT
BEGIN:VEVENT
DTSTART;TZID=America/New_York:20240711T150000
DTEND;TZID=America/New_York:20240711T163000
DTSTAMP:20260424T124514
CREATED:20240520T204225Z
LAST-MODIFIED:20240520T204225Z
UID:10007691-1720710000-1720715400@www.trailslibrary.org
SUMMARY:Anime Otaku - Warrensburg
DESCRIPTION:Ages 13-18: Watch and discuss programs on crunchyroll!
URL:https://www.trailslibrary.org/event/anime-otaku-warrensburg-2/
LOCATION:Warrensburg Branch\, 432 N. Holden\, Warrensburg\, Missouri\, 64093\, United States
CATEGORIES:Pre-Teen,Pre-Teens,Teen,Teens,Youth
END:VEVENT
END:VCALENDAR