BEGIN:VCALENDAR
VERSION:2.0
PRODID:-//Trails Regional Library - ECPv6.15.20//NONSGML v1.0//EN
CALSCALE:GREGORIAN
METHOD:PUBLISH
X-ORIGINAL-URL:https://www.trailslibrary.org
X-WR-CALDESC:Events for Trails Regional Library
REFRESH-INTERVAL;VALUE=DURATION:PT1H
X-Robots-Tag:noindex
X-PUBLISHED-TTL:PT1H
BEGIN:VTIMEZONE
TZID:America/New_York
BEGIN:DAYLIGHT
TZOFFSETFROM:-0500
TZOFFSETTO:-0400
TZNAME:EDT
DTSTART:20230312T070000
END:DAYLIGHT
BEGIN:STANDARD
TZOFFSETFROM:-0400
TZOFFSETTO:-0500
TZNAME:EST
DTSTART:20231105T060000
END:STANDARD
BEGIN:DAYLIGHT
TZOFFSETFROM:-0500
TZOFFSETTO:-0400
TZNAME:EDT
DTSTART:20240310T070000
END:DAYLIGHT
BEGIN:STANDARD
TZOFFSETFROM:-0400
TZOFFSETTO:-0500
TZNAME:EST
DTSTART:20241103T060000
END:STANDARD
BEGIN:DAYLIGHT
TZOFFSETFROM:-0500
TZOFFSETTO:-0400
TZNAME:EDT
DTSTART:20250309T070000
END:DAYLIGHT
BEGIN:STANDARD
TZOFFSETFROM:-0400
TZOFFSETTO:-0500
TZNAME:EST
DTSTART:20251102T060000
END:STANDARD
END:VTIMEZONE
BEGIN:VEVENT
DTSTART;TZID=America/New_York:20241002T143000
DTEND;TZID=America/New_York:20241002T151500
DTSTAMP:20260422T191850
CREATED:20240822T210450Z
LAST-MODIFIED:20240822T210450Z
UID:10008349-1727879400-1727882100@www.trailslibrary.org
SUMMARY:Kids in the Kitchen - Knob Noster
DESCRIPTION:Ages 6-12 REGISTRATION REQUIRED: Kids in the Kitchen is a fun hands-on program that teaches kids how to prepare simple recipes and encourages them to be active.
URL:https://www.trailslibrary.org/event/kids-in-the-kitchen-knob-noster/
LOCATION:Knob Noster Branch\, 202 N. Adams\, Knob Noster\, MO\, 65336\, United States
CATEGORIES:Children,Kids,Youth
END:VEVENT
BEGIN:VEVENT
DTSTART;TZID=America/New_York:20241002T143000
DTEND;TZID=America/New_York:20241002T160000
DTSTAMP:20260422T191850
CREATED:20240822T193658Z
LAST-MODIFIED:20240822T193658Z
UID:10008190-1727879400-1727884800@www.trailslibrary.org
SUMMARY:Anime Otaku: Teens - Warrensburg
DESCRIPTION:Ages 13-18: Whether you’re a long-time enthusiast or taking your first steps into exploring the genre\, all are welcome to come and join our anime and manga club.
URL:https://www.trailslibrary.org/event/anime-otaku-teens-warrensburg-2/
LOCATION:Warrensburg Branch\, 432 N. Holden\, Warrensburg\, Missouri\, 64093\, United States
CATEGORIES:Pre-Teen,Pre-Teens,Teen,Teens,Youth
END:VEVENT
BEGIN:VEVENT
DTSTART;TZID=America/New_York:20241002T150000
DTEND;TZID=America/New_York:20241002T180000
DTSTAMP:20260422T191850
CREATED:20240822T194850Z
LAST-MODIFIED:20240822T194850Z
UID:10008241-1727881200-1727892000@www.trailslibrary.org
SUMMARY:Libraries Got Game - Warrensburg
DESCRIPTION:All Ages: Get BOARD at the library with your family and friends! Fun and exciting board and XL games.
URL:https://www.trailslibrary.org/event/libraries-got-game-warrensburg-79/
LOCATION:Warrensburg Branch\, 432 N. Holden\, Warrensburg\, Missouri\, 64093\, United States
CATEGORIES:Adult,Adults,All Ages,Children,Family,Kids,preteens,senior,Seniors,Teen,Teens,Youth
END:VEVENT
END:VCALENDAR