BEGIN:VCALENDAR
VERSION:2.0
PRODID:-//Trails Regional Library - ECPv6.15.20//NONSGML v1.0//EN
CALSCALE:GREGORIAN
METHOD:PUBLISH
X-ORIGINAL-URL:https://www.trailslibrary.org
X-WR-CALDESC:Events for Trails Regional Library
REFRESH-INTERVAL;VALUE=DURATION:PT1H
X-Robots-Tag:noindex
X-PUBLISHED-TTL:PT1H
BEGIN:VTIMEZONE
TZID:America/New_York
BEGIN:DAYLIGHT
TZOFFSETFROM:-0500
TZOFFSETTO:-0400
TZNAME:EDT
DTSTART:20230312T070000
END:DAYLIGHT
BEGIN:STANDARD
TZOFFSETFROM:-0400
TZOFFSETTO:-0500
TZNAME:EST
DTSTART:20231105T060000
END:STANDARD
BEGIN:DAYLIGHT
TZOFFSETFROM:-0500
TZOFFSETTO:-0400
TZNAME:EDT
DTSTART:20240310T070000
END:DAYLIGHT
BEGIN:STANDARD
TZOFFSETFROM:-0400
TZOFFSETTO:-0500
TZNAME:EST
DTSTART:20241103T060000
END:STANDARD
BEGIN:DAYLIGHT
TZOFFSETFROM:-0500
TZOFFSETTO:-0400
TZNAME:EDT
DTSTART:20250309T070000
END:DAYLIGHT
BEGIN:STANDARD
TZOFFSETFROM:-0400
TZOFFSETTO:-0500
TZNAME:EST
DTSTART:20251102T060000
END:STANDARD
END:VTIMEZONE
BEGIN:VEVENT
DTSTART;TZID=America/New_York:20241021T160000
DTEND;TZID=America/New_York:20241021T164500
DTSTAMP:20260422T191850
CREATED:20240822T211016Z
LAST-MODIFIED:20240822T211016Z
UID:10008374-1729526400-1729529100@www.trailslibrary.org
SUMMARY:Are You a Decoder? - Odessa
DESCRIPTION:Ages 9-12: Join us for some kooky-spooky fun\, and see if you can decode the mystery!
URL:https://www.trailslibrary.org/event/are-you-a-decoder-odessa/
LOCATION:Odessa Branch\, 107 W. Mason\, Odessa\, MO\, 64076\, United States
CATEGORIES:Children,Kids,Youth
END:VEVENT
BEGIN:VEVENT
DTSTART;TZID=America/New_York:20241021T173000
DTEND;TZID=America/New_York:20241021T183000
DTSTAMP:20260422T191850
CREATED:20240822T194021Z
LAST-MODIFIED:20240822T194021Z
UID:10008214-1729531800-1729535400@www.trailslibrary.org
SUMMARY:Craftastic  - Warrensburg
DESCRIPTION:Ages 19+ REGISTRATION REQUIRED: Join Holli B as we create a beautiful canvas painting.
URL:https://www.trailslibrary.org/event/craftastic-warrensburg-13/
LOCATION:Warrensburg Branch\, 432 N. Holden\, Warrensburg\, Missouri\, 64093\, United States
CATEGORIES:Adult,Adults,Crafts,preteens,senior,Seniors,Teen,Teens,Youth
END:VEVENT
END:VCALENDAR