BEGIN:VCALENDAR
VERSION:2.0
PRODID:-//Trails Regional Library - ECPv6.15.20//NONSGML v1.0//EN
CALSCALE:GREGORIAN
METHOD:PUBLISH
X-ORIGINAL-URL:https://www.trailslibrary.org
X-WR-CALDESC:Events for Trails Regional Library
REFRESH-INTERVAL;VALUE=DURATION:PT1H
X-Robots-Tag:noindex
X-PUBLISHED-TTL:PT1H
BEGIN:VTIMEZONE
TZID:America/New_York
BEGIN:DAYLIGHT
TZOFFSETFROM:-0500
TZOFFSETTO:-0400
TZNAME:EDT
DTSTART:20250309T070000
END:DAYLIGHT
BEGIN:STANDARD
TZOFFSETFROM:-0400
TZOFFSETTO:-0500
TZNAME:EST
DTSTART:20251102T060000
END:STANDARD
BEGIN:DAYLIGHT
TZOFFSETFROM:-0500
TZOFFSETTO:-0400
TZNAME:EDT
DTSTART:20260308T070000
END:DAYLIGHT
BEGIN:STANDARD
TZOFFSETFROM:-0400
TZOFFSETTO:-0500
TZNAME:EST
DTSTART:20261101T060000
END:STANDARD
BEGIN:DAYLIGHT
TZOFFSETFROM:-0500
TZOFFSETTO:-0400
TZNAME:EDT
DTSTART:20270314T070000
END:DAYLIGHT
BEGIN:STANDARD
TZOFFSETFROM:-0400
TZOFFSETTO:-0500
TZNAME:EST
DTSTART:20271107T060000
END:STANDARD
END:VTIMEZONE
BEGIN:VEVENT
DTSTART;TZID=America/New_York:20260120T100000
DTEND;TZID=America/New_York:20260120T100000
DTSTAMP:20260425T223340
CREATED:20251215T195323Z
LAST-MODIFIED:20251215T195323Z
UID:10009703-1768903200-1768903200@www.trailslibrary.org
SUMMARY:Bubbly Storytime - Concordia Branch
DESCRIPTION:Ages 0-5: Storytimes are for building pre-reading skills\, making friends and having fun! And there will be bubbles!
URL:https://www.trailslibrary.org/event/bubbly-storytime-concordia-branch-41/
LOCATION:Concordia Branch\, 813 S Main\, Concordia\, MO\, 64020\, United States
CATEGORIES:Children,Kids,Pre-School,Preschool,Storytime,Toddlers
END:VEVENT
BEGIN:VEVENT
DTSTART;TZID=America/New_York:20260120T100000
DTEND;TZID=America/New_York:20260120T100000
DTSTAMP:20260425T223340
CREATED:20251215T205444Z
LAST-MODIFIED:20251215T205444Z
UID:10010061-1768903200-1768903200@www.trailslibrary.org
SUMMARY:One-on-One TECHtorials - Warrensburg Branch
DESCRIPTION:Ages 19+ REGISTRATION REQUIRED: Get personalized tech help with your smartphone\, tablet\, or laptop—perfect for learning the basics or building your confidence. Appointments are required and must be scheduled at least 24 hours in advance.
URL:https://www.trailslibrary.org/event/one-on-one-techtorials-warrensburg-branch-20/
LOCATION:Warrensburg Branch\, 432 N. Holden\, Warrensburg\, Missouri\, 64093\, United States
CATEGORIES:Adult,Adults,senior,Seniors,Technology
END:VEVENT
BEGIN:VEVENT
DTSTART;TZID=America/New_York:20260120T100000
DTEND;TZID=America/New_York:20260120T100000
DTSTAMP:20260425T223340
CREATED:20251215T205815Z
LAST-MODIFIED:20251215T205815Z
UID:10010099-1768903200-1768903200@www.trailslibrary.org
SUMMARY:Storytime - Warrensburg Branch
DESCRIPTION:Ages 0-5: Join us for a lively storytime filled with engaging stories\, music\, dancing\, crafts\, and plenty of bubbles! It’s a fun-filled adventure perfect for little ones and their grown-ups.
URL:https://www.trailslibrary.org/event/storytime-warrensburg-branch-87/
LOCATION:Warrensburg Branch\, 432 N. Holden\, Warrensburg\, Missouri\, 64093\, United States
CATEGORIES:Children,Kids,Pre-School,Preschool,Storytime,Toddlers
END:VEVENT
BEGIN:VEVENT
DTSTART;TZID=America/New_York:20260120T143000
DTEND;TZID=America/New_York:20260120T143000
DTSTAMP:20260425T223340
CREATED:20251215T205646Z
LAST-MODIFIED:20251215T205646Z
UID:10010087-1768919400-1768919400@www.trailslibrary.org
SUMMARY:Storytime - Warrensburg Branch
DESCRIPTION:Ages 0-5: Join us for a lively storytime filled with engaging stories\, music\, dancing\, crafts\, and plenty of bubbles! It’s a fun-filled adventure perfect for little ones and their grown-ups.
URL:https://www.trailslibrary.org/event/storytime-warrensburg-branch-75/
LOCATION:Warrensburg Branch\, 432 N. Holden\, Warrensburg\, Missouri\, 64093\, United States
CATEGORIES:Children,Kids,Pre-School,Preschool,Storytime,Toddlers
END:VEVENT
BEGIN:VEVENT
DTSTART;TZID=America/New_York:20260120T150000
DTEND;TZID=America/New_York:20260120T150000
DTSTAMP:20260425T223340
CREATED:20251215T201223Z
LAST-MODIFIED:20251215T201223Z
UID:10009815-1768921200-1768921200@www.trailslibrary.org
SUMMARY:Makers Gonna Make - Holden Branch
DESCRIPTION:Ages 19+: Unleash your creativity every other week with a new craft project designed for all experience levels. All materials are provided at no cost.
URL:https://www.trailslibrary.org/event/makers-gonna-make-holden-branch/
LOCATION:Holden Branch\, 207 S. Main\, Holden\, MO\, 64040\, United States
CATEGORIES:Adult,Adults,Crafts,senior,Seniors
END:VEVENT
BEGIN:VEVENT
DTSTART;TZID=America/New_York:20260120T160000
DTEND;TZID=America/New_York:20260120T160000
DTSTAMP:20260425T223340
CREATED:20251215T202013Z
LAST-MODIFIED:20251215T202013Z
UID:10009863-1768924800-1768924800@www.trailslibrary.org
SUMMARY:Opposite Day - Knob Noster Branch
DESCRIPTION:Ages 6-12: It’s Opposite Day! Test your skills with a set of fun challenges that you’ll have to complete using your non-dominant hand. It’s trickier than it sounds!
URL:https://www.trailslibrary.org/event/opposite-day-knob-noster-branch/
LOCATION:Knob Noster Branch\, 202 N. Adams\, Knob Noster\, MO\, 65336\, United States
CATEGORIES:Children,Kids,Youth
END:VEVENT
BEGIN:VEVENT
DTSTART;TZID=America/New_York:20260121T100000
DTEND;TZID=America/New_York:20260121T100000
DTSTAMP:20260425T223340
CREATED:20251215T200638Z
LAST-MODIFIED:20251215T200638Z
UID:10009732-1768989600-1768989600@www.trailslibrary.org
SUMMARY:Storytime - Corder Branch
DESCRIPTION:Ages 0-5: Storytimes are for building reading skills\, making friends\, and having fun!
URL:https://www.trailslibrary.org/event/storytime-corder-branch-36/
LOCATION:Corder Branch\, 221 N. Lafayette\, Corder\, MO\, 64021\, United States
CATEGORIES:Children,Kids,Pre-School,Preschool,Storytime,Toddlers
END:VEVENT
BEGIN:VEVENT
DTSTART;TZID=America/New_York:20260121T100000
DTEND;TZID=America/New_York:20260121T100000
DTSTAMP:20260425T223340
CREATED:20251215T201223Z
LAST-MODIFIED:20251215T201223Z
UID:10009813-1768989600-1768989600@www.trailslibrary.org
SUMMARY:Storytime - Holden Branch
DESCRIPTION:Ages 0-5: Storytimes are for building pre-reading skills\, making friends\, and having fun!
URL:https://www.trailslibrary.org/event/storytime-holden-branch-39/
LOCATION:Holden Branch\, 207 S. Main\, Holden\, MO\, 64040\, United States
CATEGORIES:Children,Kids,Pre-School,Preschool,Storytime,Toddlers
END:VEVENT
BEGIN:VEVENT
DTSTART;TZID=America/New_York:20260121T100000
DTEND;TZID=America/New_York:20260121T100000
DTSTAMP:20260425T223340
CREATED:20251215T202042Z
LAST-MODIFIED:20251215T202042Z
UID:10009870-1768989600-1768989600@www.trailslibrary.org
SUMMARY:Storytime - Knob Noster Branch
DESCRIPTION:Ages 0-5: Join us for engaging stories\, music\, and bubbles that encourage learning\, movement\, and a love of reading!
URL:https://www.trailslibrary.org/event/storytime-knob-noster-branch-42/
LOCATION:Knob Noster Branch\, 202 N. Adams\, Knob Noster\, MO\, 65336\, United States
CATEGORIES:Children,Kids,Pre-School,Preschool,Storytime,Toddlers
END:VEVENT
BEGIN:VEVENT
DTSTART;TZID=America/New_York:20260121T100000
DTEND;TZID=America/New_York:20260121T100000
DTSTAMP:20260425T223340
CREATED:20251215T202410Z
LAST-MODIFIED:20251215T202410Z
UID:10009907-1768989600-1768989600@www.trailslibrary.org
SUMMARY:Storytime - Lexington Branch
DESCRIPTION:Ages 0-5: Bring your little ones for storytime! Each week we read\, sing\, play and learn\, all while developing early literacy skills
URL:https://www.trailslibrary.org/event/storytime-lexington-branch-41/
LOCATION:Lexington Branch\, 1008 Main Street\, Lexington\, MO\, 64067\, United States
CATEGORIES:Children,Kids,Pre-School,Preschool,Storytime,Toddlers
END:VEVENT
BEGIN:VEVENT
DTSTART;TZID=America/New_York:20260121T100000
DTEND;TZID=America/New_York:20260121T100000
DTSTAMP:20260425T223340
CREATED:20251215T203847Z
LAST-MODIFIED:20251215T203847Z
UID:10009979-1768989600-1768989600@www.trailslibrary.org
SUMMARY:Storytime - Odessa Branch
DESCRIPTION:Ages 0-5: Storytimes are for building pre-reading skills\, making friends\, and having fun!
URL:https://www.trailslibrary.org/event/storytime-odessa-branch-57/
LOCATION:Odessa Branch\, 107 W. Mason\, Odessa\, MO\, 64076\, United States
CATEGORIES:Children,Kids,Pre-School,Preschool,Storytime,Toddlers
END:VEVENT
BEGIN:VEVENT
DTSTART;TZID=America/New_York:20260121T140000
DTEND;TZID=America/New_York:20260121T140000
DTSTAMP:20260425T223340
CREATED:20251215T202128Z
LAST-MODIFIED:20251215T202128Z
UID:10009886-1769004000-1769004000@www.trailslibrary.org
SUMMARY:Teen Scene - Knob Noster Branch
DESCRIPTION:Ages 13-18: Grab a snack\, try a fun activity\, and relax with friends in a space made just for teens.
URL:https://www.trailslibrary.org/event/teen-scene-knob-noster-branch/
LOCATION:Knob Noster Branch\, 202 N. Adams\, Knob Noster\, MO\, 65336\, United States
CATEGORIES:Pre-Teen,Pre-Teens,Teen,Teens
END:VEVENT
BEGIN:VEVENT
DTSTART;TZID=America/New_York:20260121T140000
DTEND;TZID=America/New_York:20260121T140000
DTSTAMP:20260425T223340
CREATED:20251215T210205Z
LAST-MODIFIED:20251215T210205Z
UID:10010130-1769004000-1769004000@www.trailslibrary.org
SUMMARY:Remember When - Waverly Branch
DESCRIPTION:Ages 19+: Come and reflect on your memories from the past. Bring pictures and such to share.
URL:https://www.trailslibrary.org/event/remember-when-waverly-branch/
LOCATION:Waverly Branch\, 203 E. Kelling\, Waverly\, MO\, 64096\, United States
CATEGORIES:Adult,Adults,senior,Seniors
END:VEVENT
BEGIN:VEVENT
DTSTART;TZID=America/New_York:20260121T170000
DTEND;TZID=America/New_York:20260121T170000
DTSTAMP:20260425T223340
CREATED:20251215T204759Z
LAST-MODIFIED:20251215T204759Z
UID:10010011-1769014800-1769014800@www.trailslibrary.org
SUMMARY:Bingo - Warrensburg Branch
DESCRIPTION:All Ages: Get ready for a thrilling bingo night at the library! Join us for games\, fabulous library prizes\, and fun as we bring the excitement of bingo to our community.
URL:https://www.trailslibrary.org/event/bingo-warrensburg-branch-6/
LOCATION:Warrensburg Branch\, 432 N. Holden\, Warrensburg\, Missouri\, 64093\, United States
CATEGORIES:Adult,Adults,All Ages,Children,Family,Kids,preteens,senior,Seniors,Teen,Teens,Youth
END:VEVENT
BEGIN:VEVENT
DTSTART;TZID=America/New_York:20260122T100000
DTEND;TZID=America/New_York:20260122T100000
DTSTAMP:20260425T223340
CREATED:20251215T204048Z
LAST-MODIFIED:20251215T204048Z
UID:10009980-1769076000-1769076000@www.trailslibrary.org
SUMMARY:Storytime - Odessa Branch
DESCRIPTION:Ages 0-5: Storytimes are for building pre-reading skills\, making friends\, and having fun!
URL:https://www.trailslibrary.org/event/storytime-odessa-branch-58/
LOCATION:Odessa Branch\, 107 W. Mason\, Odessa\, MO\, 64076\, United States
CATEGORIES:Children,Kids,Pre-School,Preschool,Storytime,Toddlers
END:VEVENT
BEGIN:VEVENT
DTSTART;TZID=America/New_York:20260122T100000
DTEND;TZID=America/New_York:20260122T100000
DTSTAMP:20260425T223340
CREATED:20251215T204901Z
LAST-MODIFIED:20251215T204901Z
UID:10010037-1769076000-1769076000@www.trailslibrary.org
SUMMARY:Music & More - Warrensburg Branch
DESCRIPTION:Ages 0-5: Get ready to sing\, dance\, and shake those wiggles out! Join us for Music and More\, where children will explore a variety of musical instruments to boost sensory development\, coordination\, and early literacy and numeracy skills.
URL:https://www.trailslibrary.org/event/music-more-warrensburg-branch-26/
LOCATION:Warrensburg Branch\, 432 N. Holden\, Warrensburg\, Missouri\, 64093\, United States
CATEGORIES:Children,Kids,Pre-School,Preschool,Toddlers
END:VEVENT
BEGIN:VEVENT
DTSTART;TZID=America/New_York:20260122T140000
DTEND;TZID=America/New_York:20260122T140000
DTSTAMP:20260425T223340
CREATED:20251215T205143Z
LAST-MODIFIED:20251215T205143Z
UID:10010051-1769090400-1769090400@www.trailslibrary.org
SUMMARY:Neurographic Art - Warrensburg Branch
DESCRIPTION:Ages 19+: A simple yet powerful drawing technique that transforms stress into calm through flowing lines\, shapes\, and colors. No artistic experience required—just an open mind and a willingness to explore.
URL:https://www.trailslibrary.org/event/neurographic-art-warrensburg-branch-2/
LOCATION:Warrensburg Branch\, 432 N. Holden\, Warrensburg\, Missouri\, 64093\, United States
CATEGORIES:Adult,Adults,Crafts,senior,Seniors
END:VEVENT
BEGIN:VEVENT
DTSTART;TZID=America/New_York:20260122T153000
DTEND;TZID=America/New_York:20260122T153000
DTSTAMP:20260425T223340
CREATED:20251215T203005Z
LAST-MODIFIED:20251215T203005Z
UID:10009943-1769095800-1769095800@www.trailslibrary.org
SUMMARY:Decompression Den - Odessa Branch
DESCRIPTION:Ages 13-18: Take some time to unwind and enjoy some snacks at the library!
URL:https://www.trailslibrary.org/event/decompression-den-odessa-branch/
LOCATION:Odessa Branch\, 107 W. Mason\, Odessa\, MO\, 64076\, United States
CATEGORIES:Pre-Teen,Pre-Teens,Teen,Teens
END:VEVENT
BEGIN:VEVENT
DTSTART;TZID=America/New_York:20260122T160000
DTEND;TZID=America/New_York:20260122T160000
DTSTAMP:20260425T223340
CREATED:20251215T195305Z
LAST-MODIFIED:20251215T195305Z
UID:10009689-1769097600-1769097600@www.trailslibrary.org
SUMMARY:Afterschool Book Talk - Concordia Branch
DESCRIPTION:Ages 12-15: Come in after school to talk about books and have a snack.
URL:https://www.trailslibrary.org/event/afterschool-book-talk-concordia-branch/
LOCATION:Concordia Branch\, 813 S Main\, Concordia\, MO\, 64020\, United States
CATEGORIES:Book Club,Teen,Teens
END:VEVENT
BEGIN:VEVENT
DTSTART;TZID=America/New_York:20260122T170000
DTEND;TZID=America/New_York:20260122T170000
DTSTAMP:20260425T223340
CREATED:20251215T201941Z
LAST-MODIFIED:20251215T201941Z
UID:10009847-1769101200-1769101200@www.trailslibrary.org
SUMMARY:Book Club - Knob Noster Branch
DESCRIPTION:Ages 19+: Join us at book club to share your thoughts\, meet fellow book lovers\, and help us choose next month’s read!
URL:https://www.trailslibrary.org/event/book-club-knob-noster-branch-13/
LOCATION:Knob Noster Branch\, 202 N. Adams\, Knob Noster\, MO\, 65336\, United States
CATEGORIES:Adult,Adults,Book Club,senior,Seniors
END:VEVENT
BEGIN:VEVENT
DTSTART;TZID=America/New_York:20260123T093000
DTEND;TZID=America/New_York:20260123T093000
DTSTAMP:20260425T223340
CREATED:20251215T201043Z
LAST-MODIFIED:20251215T201043Z
UID:10009794-1769160600-1769160600@www.trailslibrary.org
SUMMARY:Yoga Fridays - Corder Branch
DESCRIPTION:Ages 19+: Join our gentle chair yoga class designed for all levels\, from beginners to those returning to practice.
URL:https://www.trailslibrary.org/event/yoga-fridays-corder-branch-53/
LOCATION:Corder Branch\, 221 N. Lafayette\, Corder\, MO\, 64021\, United States
CATEGORIES:Adult,Adults,senior,Seniors
END:VEVENT
BEGIN:VEVENT
DTSTART;TZID=America/New_York:20260123T160000
DTEND;TZID=America/New_York:20260123T160000
DTSTAMP:20260425T223340
CREATED:20251215T201028Z
LAST-MODIFIED:20251215T201028Z
UID:10009790-1769184000-1769184000@www.trailslibrary.org
SUMMARY:Stuffed Animal Sleepover - Corder Branch
DESCRIPTION:All Ages: Bring your stuffed animal to the library for an evening of stories\, crafts and secret adventures after dark! Once the lights go out staff will sneak peeks at what your cuddly companions get up to while you’re fast asleep at home. The next day pick up your buddy and see photo evidence of their night in the stacks!
URL:https://www.trailslibrary.org/event/stuffed-animal-sleepover-corder-branch/
LOCATION:Corder Branch\, 221 N. Lafayette\, Corder\, MO\, 64021\, United States
CATEGORIES:Adult,Adults,All Ages,Children,Family,Kids,preteens,senior,Seniors,Teen,Teens,Youth
END:VEVENT
BEGIN:VEVENT
DTSTART;TZID=America/New_York:20260123T180000
DTEND;TZID=America/New_York:20260123T180000
DTSTAMP:20260425T223340
CREATED:20251215T203221Z
LAST-MODIFIED:20251215T203221Z
UID:10009954-1769191200-1769191200@www.trailslibrary.org
SUMMARY:Labyrinths and Lizards - Odessa Branch
DESCRIPTION:Ages 19+: Join us for an evening of Table-Top Role Playing Games!
URL:https://www.trailslibrary.org/event/labyrinths-and-lizards-odessa-branch-7/
LOCATION:Odessa Branch\, 107 W. Mason\, Odessa\, MO\, 64076\, United States
CATEGORIES:Adult,Adults,senior,Seniors
END:VEVENT
BEGIN:VEVENT
DTSTART;TZID=America/New_York:20260124T100000
DTEND;TZID=America/New_York:20260124T100000
DTSTAMP:20260425T223340
CREATED:20251215T210307Z
LAST-MODIFIED:20251215T210307Z
UID:10010153-1769248800-1769248800@www.trailslibrary.org
SUMMARY:Winter Painting - Waverly Branch
DESCRIPTION:All Ages: Paint a beautiful sparking snow scene using paint and epsom salt.
URL:https://www.trailslibrary.org/event/winter-painting-waverly-branch/
LOCATION:Waverly Branch\, 203 E. Kelling\, Waverly\, MO\, 64096\, United States
CATEGORIES:Adult,Adults,All Ages,Children,Crafts,Family,Kids,preteens,senior,Seniors,Teen,Teens,Youth
END:VEVENT
BEGIN:VEVENT
DTSTART;TZID=America/New_York:20260124T100000
DTEND;TZID=America/New_York:20260124T100000
DTSTAMP:20260425T223340
CREATED:20251222T152304Z
LAST-MODIFIED:20251222T152304Z
UID:10010158-1769248800-1769248800@www.trailslibrary.org
SUMMARY:Crafty Family Fun - Warrensburg Branch
DESCRIPTION:All Ages: Join us for hands-on fun where kids can get creative using recycled\, repurposed\, and budget-friendly materials.
URL:https://www.trailslibrary.org/event/crafty-family-fun-warrensburg-branch-14/
LOCATION:Warrensburg Branch\, 432 N. Holden\, Warrensburg\, Missouri\, 64093\, United States
CATEGORIES:Adult,Adults,All Ages,Children,Crafts,Family,Kids,preteens,senior,Seniors,Teen,Teens,Youth
END:VEVENT
BEGIN:VEVENT
DTSTART;TZID=America/New_York:20260124T140000
DTEND;TZID=America/New_York:20260124T140000
DTSTAMP:20260425T223340
CREATED:20251222T152304Z
LAST-MODIFIED:20251222T152304Z
UID:10010157-1769263200-1769263200@www.trailslibrary.org
SUMMARY:AI Exposed: The Naked Truth - Warrensburg Branch
DESCRIPTION:Ages 19+: Join Heath Jeppson for an interactive session that cuts through AI hype—revealing it as a tool\, not magic or menace—while exposing real scams\, exploring its impact on society\, and sharing practical habits for navigating the future.
URL:https://www.trailslibrary.org/event/ai-exposed-the-naked-truth-warrensburg-branch-2/
LOCATION:Warrensburg Branch\, 432 N. Holden\, Warrensburg\, Missouri\, 64093\, United States
CATEGORIES:Adult,Adults,Guest Speakers,senior,Seniors
END:VEVENT
BEGIN:VEVENT
DTSTART;TZID=America/New_York:20260126T093000
DTEND;TZID=America/New_York:20260126T093000
DTSTAMP:20260425T223340
CREATED:20251215T200844Z
LAST-MODIFIED:20251215T200844Z
UID:10009761-1769419800-1769419800@www.trailslibrary.org
SUMMARY:Monday Melodies - Corder Branch
DESCRIPTION:Ages 0-5: Join us for fun-filled music and movement sessions tailored for toddlers!
URL:https://www.trailslibrary.org/event/monday-melodies-corder-branch-37/
LOCATION:Corder Branch\, 221 N. Lafayette\, Corder\, MO\, 64021\, United States
CATEGORIES:Children,Kids,Pre-School,Preschool,Toddlers
END:VEVENT
BEGIN:VEVENT
DTSTART;TZID=America/New_York:20260126T100000
DTEND;TZID=America/New_York:20260126T100000
DTSTAMP:20260425T223340
CREATED:20251215T210222Z
LAST-MODIFIED:20251215T210222Z
UID:10010141-1769421600-1769421600@www.trailslibrary.org
SUMMARY:Storytime Adventures - Waverly Branch
DESCRIPTION:Ages 0-5: Wiggle\, giggle\, and listen! This storytime is perfect for toddlers.
URL:https://www.trailslibrary.org/event/storytime-adventures-waverly-branch-29/
LOCATION:Waverly Branch\, 203 E. Kelling\, Waverly\, MO\, 64096\, United States
CATEGORIES:Children,Kids,Pre-School,Preschool,Storytime,Toddlers
END:VEVENT
BEGIN:VEVENT
DTSTART;TZID=America/New_York:20260126T130000
DTEND;TZID=America/New_York:20260126T130000
DTSTAMP:20260425T223340
CREATED:20251215T200943Z
LAST-MODIFIED:20251215T200943Z
UID:10009775-1769432400-1769432400@www.trailslibrary.org
SUMMARY:Move to the Beat - Corder Branch
DESCRIPTION:Ages 19+: Join us for cardio drumming with yoga balls!
URL:https://www.trailslibrary.org/event/move-to-the-beat-corder-branch-23/
LOCATION:Corder Branch\, 221 N. Lafayette\, Corder\, MO\, 64021\, United States
CATEGORIES:Adult,Adults,senior,Seniors
END:VEVENT
BEGIN:VEVENT
DTSTART;TZID=America/New_York:20260126T140000
DTEND;TZID=America/New_York:20260126T140000
DTSTAMP:20260425T223340
CREATED:20251215T201027Z
LAST-MODIFIED:20251216T225500Z
UID:10009787-1769436000-1769436000@www.trailslibrary.org
SUMMARY:S.T.E.A.M. Team - Corder Branch
DESCRIPTION:Ages 6-12: Activities based on science\, technology\, engineering\, art and math!
URL:https://www.trailslibrary.org/event/s-t-e-a-m-team-corder-branch-9/
LOCATION:Corder Branch\, 221 N. Lafayette\, Corder\, MO\, 64021\, United States
CATEGORIES:Children,Kids,STEAM
END:VEVENT
END:VCALENDAR