BEGIN:VCALENDAR
VERSION:2.0
PRODID:-//Trails Regional Library - ECPv6.15.20//NONSGML v1.0//EN
CALSCALE:GREGORIAN
METHOD:PUBLISH
X-ORIGINAL-URL:https://www.trailslibrary.org
X-WR-CALDESC:Events for Trails Regional Library
REFRESH-INTERVAL;VALUE=DURATION:PT1H
X-Robots-Tag:noindex
X-PUBLISHED-TTL:PT1H
BEGIN:VTIMEZONE
TZID:America/New_York
BEGIN:DAYLIGHT
TZOFFSETFROM:-0500
TZOFFSETTO:-0400
TZNAME:EDT
DTSTART:20250309T070000
END:DAYLIGHT
BEGIN:STANDARD
TZOFFSETFROM:-0400
TZOFFSETTO:-0500
TZNAME:EST
DTSTART:20251102T060000
END:STANDARD
BEGIN:DAYLIGHT
TZOFFSETFROM:-0500
TZOFFSETTO:-0400
TZNAME:EDT
DTSTART:20260308T070000
END:DAYLIGHT
BEGIN:STANDARD
TZOFFSETFROM:-0400
TZOFFSETTO:-0500
TZNAME:EST
DTSTART:20261101T060000
END:STANDARD
BEGIN:DAYLIGHT
TZOFFSETFROM:-0500
TZOFFSETTO:-0400
TZNAME:EDT
DTSTART:20270314T070000
END:DAYLIGHT
BEGIN:STANDARD
TZOFFSETFROM:-0400
TZOFFSETTO:-0500
TZNAME:EST
DTSTART:20271107T060000
END:STANDARD
END:VTIMEZONE
BEGIN:VEVENT
DTSTART;TZID=America/New_York:20260331T150000
DTEND;TZID=America/New_York:20260331T150000
DTSTAMP:20260425T060859
CREATED:20251215T201455Z
LAST-MODIFIED:20251215T201455Z
UID:10009832-1774969200-1774969200@www.trailslibrary.org
SUMMARY:Makers Gonna Make - Holden Branch
DESCRIPTION:Ages 19+: Unleash your creativity every other week with a new craft project designed for all experience levels. All materials are provided at no cost.
URL:https://www.trailslibrary.org/event/makers-gonna-make-holden-branch-6/
LOCATION:Holden Branch\, 207 S. Main\, Holden\, MO\, 64040\, United States
CATEGORIES:Adult,Adults,Crafts,senior,Seniors
END:VEVENT
BEGIN:VEVENT
DTSTART;TZID=America/New_York:20260331T170000
DTEND;TZID=America/New_York:20260331T170000
DTSTAMP:20260425T060859
CREATED:20251215T204846Z
LAST-MODIFIED:20251215T204846Z
UID:10010033-1774976400-1774976400@www.trailslibrary.org
SUMMARY:Literary Antics - Warrensburg Branch
DESCRIPTION:Ages 19+ REGISTRATION REQUIRED: Transform retired books into one-of-a-kind crafts in this creative program!
URL:https://www.trailslibrary.org/event/literary-antics-warrensburg-branch-9/
LOCATION:Warrensburg Branch\, 432 N. Holden\, Warrensburg\, Missouri\, 64093\, United States
CATEGORIES:Adult,Adults,Crafts,senior,Seniors
END:VEVENT
BEGIN:VEVENT
DTSTART;TZID=America/New_York:20260401T100000
DTEND;TZID=America/New_York:20260401T100000
DTSTAMP:20260425T060859
CREATED:20251215T200656Z
LAST-MODIFIED:20251215T200656Z
UID:10009742-1775037600-1775037600@www.trailslibrary.org
SUMMARY:Storytime - Corder Branch
DESCRIPTION:Ages 0-5: Storytimes are for building reading skills\, making friends\, and having fun!
URL:https://www.trailslibrary.org/event/storytime-corder-branch-46/
LOCATION:Corder Branch\, 221 N. Lafayette\, Corder\, MO\, 64021\, United States
CATEGORIES:Children,Kids,Pre-School,Preschool,Storytime,Toddlers
END:VEVENT
BEGIN:VEVENT
DTSTART;TZID=America/New_York:20260401T100000
DTEND;TZID=America/New_York:20260401T100000
DTSTAMP:20260425T060859
CREATED:20251215T201455Z
LAST-MODIFIED:20251215T201455Z
UID:10009835-1775037600-1775037600@www.trailslibrary.org
SUMMARY:Storytime - Holden Branch
DESCRIPTION:Ages 0-5: Storytimes are for building pre-reading skills\, making friends\, and having fun!
URL:https://www.trailslibrary.org/event/storytime-holden-branch-49/
LOCATION:Holden Branch\, 207 S. Main\, Holden\, MO\, 64040\, United States
CATEGORIES:Children,Kids,Pre-School,Preschool,Storytime,Toddlers
END:VEVENT
BEGIN:VEVENT
DTSTART;TZID=America/New_York:20260401T100000
DTEND;TZID=America/New_York:20260401T100000
DTSTAMP:20260425T060859
CREATED:20251215T202112Z
LAST-MODIFIED:20251215T202112Z
UID:10009880-1775037600-1775037600@www.trailslibrary.org
SUMMARY:Storytime - Knob Noster Branch
DESCRIPTION:Ages 0-5: Join us for engaging stories\, music\, and bubbles that encourage learning\, movement\, and a love of reading!
URL:https://www.trailslibrary.org/event/storytime-knob-noster-branch-52/
LOCATION:Knob Noster Branch\, 202 N. Adams\, Knob Noster\, MO\, 65336\, United States
CATEGORIES:Children,Kids,Pre-School,Preschool,Storytime,Toddlers
END:VEVENT
BEGIN:VEVENT
DTSTART;TZID=America/New_York:20260401T100000
DTEND;TZID=America/New_York:20260401T100000
DTSTAMP:20260425T060859
CREATED:20251215T202806Z
LAST-MODIFIED:20251215T202806Z
UID:10009917-1775037600-1775037600@www.trailslibrary.org
SUMMARY:Storytime - Lexington Branch
DESCRIPTION:Ages 0-5: Bring your little ones for storytime! Each week we read\, sing\, play and learn\, all while developing early literacy skills
URL:https://www.trailslibrary.org/event/storytime-lexington-branch-51/
LOCATION:Lexington Branch\, 1008 Main Street\, Lexington\, MO\, 64067\, United States
CATEGORIES:Children,Kids,Pre-School,Preschool,Storytime,Toddlers
END:VEVENT
BEGIN:VEVENT
DTSTART;TZID=America/New_York:20260401T100000
DTEND;TZID=America/New_York:20260401T100000
DTSTAMP:20260425T060859
CREATED:20251215T204454Z
LAST-MODIFIED:20251215T204454Z
UID:10009997-1775037600-1775037600@www.trailslibrary.org
SUMMARY:Storytime - Odessa Branch
DESCRIPTION:Ages 0-5: Storytimes are for building pre-reading skills\, making friends\, and having fun!
URL:https://www.trailslibrary.org/event/storytime-odessa-branch-75/
LOCATION:Odessa Branch\, 107 W. Mason\, Odessa\, MO\, 64076\, United States
CATEGORIES:Children,Kids,Pre-School,Preschool,Storytime,Toddlers
END:VEVENT
BEGIN:VEVENT
DTSTART;TZID=America/New_York:20260401T100000
DTEND;TZID=America/New_York:20260401T100000
DTSTAMP:20260425T060859
CREATED:20251215T210207Z
LAST-MODIFIED:20251215T210207Z
UID:10010136-1775037600-1775037600@www.trailslibrary.org
SUMMARY:Sassy Seniors - Waverly Branch
DESCRIPTION:Ages 55+: Whether you love board games\, trivia\, or cards\, there is something for everyone.
URL:https://www.trailslibrary.org/event/sassy-seniors-waverly-branch-16/
LOCATION:Waverly Branch\, 203 E. Kelling\, Waverly\, MO\, 64096\, United States
CATEGORIES:senior,Seniors
END:VEVENT
BEGIN:VEVENT
DTSTART;TZID=America/New_York:20260402T100000
DTEND;TZID=America/New_York:20260402T100000
DTSTAMP:20260425T060859
CREATED:20251215T204454Z
LAST-MODIFIED:20251215T204454Z
UID:10009998-1775124000-1775124000@www.trailslibrary.org
SUMMARY:Storytime - Odessa Branch
DESCRIPTION:Ages 0-5: Storytimes are for building pre-reading skills\, making friends\, and having fun!
URL:https://www.trailslibrary.org/event/storytime-odessa-branch-76/
LOCATION:Odessa Branch\, 107 W. Mason\, Odessa\, MO\, 64076\, United States
CATEGORIES:Children,Kids,Pre-School,Preschool,Storytime,Toddlers
END:VEVENT
BEGIN:VEVENT
DTSTART;TZID=America/New_York:20260402T100000
DTEND;TZID=America/New_York:20260402T100000
DTSTAMP:20260425T060859
CREATED:20251215T205118Z
LAST-MODIFIED:20251215T205118Z
UID:10010047-1775124000-1775124000@www.trailslibrary.org
SUMMARY:Music & More - Warrensburg Branch
DESCRIPTION:Ages 0-5: Get ready to sing\, dance\, and shake those wiggles out! Join us for Music and More\, where children will explore a variety of musical instruments to boost sensory development\, coordination\, and early literacy and numeracy skills.
URL:https://www.trailslibrary.org/event/music-more-warrensburg-branch-36/
LOCATION:Warrensburg Branch\, 432 N. Holden\, Warrensburg\, Missouri\, 64093\, United States
CATEGORIES:Children,Kids,Pre-School,Preschool,Toddlers
END:VEVENT
BEGIN:VEVENT
DTSTART;TZID=America/New_York:20260402T110000
DTEND;TZID=America/New_York:20260402T110000
DTSTAMP:20260425T060859
CREATED:20251215T202028Z
LAST-MODIFIED:20251215T202028Z
UID:10009866-1775127600-1775127600@www.trailslibrary.org
SUMMARY:Protect Your Peeps - Knob Noster Branch
DESCRIPTION:Ages 6-12: Can you keep your Peep afloat? Build a raft\, test your design\, and see if your marshmallow buddy can stay cool under pressure!
URL:https://www.trailslibrary.org/event/protect-your-peeps-knob-noster-branch/
LOCATION:Knob Noster Branch\, 202 N. Adams\, Knob Noster\, MO\, 65336\, United States
CATEGORIES:Children,Kids,Youth
END:VEVENT
BEGIN:VEVENT
DTSTART;TZID=America/New_York:20260402T153000
DTEND;TZID=America/New_York:20260402T153000
DTSTAMP:20260425T060859
CREATED:20251215T203831Z
LAST-MODIFIED:20251215T203831Z
UID:10009971-1775143800-1775143800@www.trailslibrary.org
SUMMARY:Scribble Squad - Odessa Branch
DESCRIPTION:Ages 13-18: Let your creativity loose for an afternoon. Sketch\, draw\, paint\, or work on an original project!
URL:https://www.trailslibrary.org/event/scribble-squad-odessa-branch-3/
LOCATION:Odessa Branch\, 107 W. Mason\, Odessa\, MO\, 64076\, United States
CATEGORIES:Crafts,Pre-Teen,Pre-Teens,Teen,Teens
END:VEVENT
BEGIN:VEVENT
DTSTART;TZID=America/New_York:20260404T100000
DTEND;TZID=America/New_York:20260404T100000
DTSTAMP:20260425T060859
CREATED:20251215T202950Z
LAST-MODIFIED:20251215T202950Z
UID:10009938-1775296800-1775296800@www.trailslibrary.org
SUMMARY:Breakflix - Odessa Branch
DESCRIPTION:All Ages: Join us for pancakes and Saturday morning cartoons.
URL:https://www.trailslibrary.org/event/breakflix-odessa-branch-3/
LOCATION:Odessa Branch\, 107 W. Mason\, Odessa\, MO\, 64076\, United States
CATEGORIES:Adult,Adults,All Ages,Children,Family,Kids,preteens,senior,Seniors,Teen,Teens,Youth
END:VEVENT
BEGIN:VEVENT
DTSTART;TZID=America/New_York:20260404T133000
DTEND;TZID=America/New_York:20260404T133000
DTSTAMP:20260425T060859
CREATED:20251215T204831Z
LAST-MODIFIED:20251215T204831Z
UID:10010026-1775309400-1775309400@www.trailslibrary.org
SUMMARY:Dig Into Design: A Cardboard Creation Day - Warrensburg Branch
DESCRIPTION:Ages 6-12 REGISTRATION REQUIRED: Calling all young builders! Join us for a fun\, hands-on day of creativity as we craft cardboard decorations for our summer reading theme\, Unearth a Story. Let’s dig into design and make the library come alive with your creations!
URL:https://www.trailslibrary.org/event/dig-into-design-a-cardboard-creation-day-warrensburg-branch/
LOCATION:Warrensburg Branch\, 432 N. Holden\, Warrensburg\, Missouri\, 64093\, United States
CATEGORIES:Children,Crafts,Kids
END:VEVENT
BEGIN:VEVENT
DTSTART;TZID=America/New_York:20260406T093000
DTEND;TZID=America/New_York:20260406T093000
DTSTAMP:20260425T060859
CREATED:20251215T200859Z
LAST-MODIFIED:20251215T200859Z
UID:10009769-1775467800-1775467800@www.trailslibrary.org
SUMMARY:Monday Melodies - Corder Branch
DESCRIPTION:Ages 0-5: Join us for fun-filled music and movement sessions tailored for toddlers!
URL:https://www.trailslibrary.org/event/monday-melodies-corder-branch-45/
LOCATION:Corder Branch\, 221 N. Lafayette\, Corder\, MO\, 64021\, United States
CATEGORIES:Children,Kids,Pre-School,Preschool,Toddlers
END:VEVENT
BEGIN:VEVENT
DTSTART;TZID=America/New_York:20260406T100000
DTEND;TZID=America/New_York:20260406T100000
DTSTAMP:20260425T060859
CREATED:20251215T210252Z
LAST-MODIFIED:20251215T210252Z
UID:10010149-1775469600-1775469600@www.trailslibrary.org
SUMMARY:Storytime Adventures - Waverly Branch
DESCRIPTION:Ages 0-5: Wiggle\, giggle\, and listen! This storytime is perfect for toddlers.
URL:https://www.trailslibrary.org/event/storytime-adventures-waverly-branch-37/
LOCATION:Waverly Branch\, 203 E. Kelling\, Waverly\, MO\, 64096\, United States
CATEGORIES:Children,Kids,Pre-School,Preschool,Storytime,Toddlers
END:VEVENT
BEGIN:VEVENT
DTSTART;TZID=America/New_York:20260406T130000
DTEND;TZID=America/New_York:20260406T130000
DTSTAMP:20260425T060859
CREATED:20251215T201013Z
LAST-MODIFIED:20251215T201013Z
UID:10009783-1775480400-1775480400@www.trailslibrary.org
SUMMARY:Move to the Beat - Corder Branch
DESCRIPTION:Ages 19+: Join us for cardio drumming with yoga balls!
URL:https://www.trailslibrary.org/event/move-to-the-beat-corder-branch-31/
LOCATION:Corder Branch\, 221 N. Lafayette\, Corder\, MO\, 64021\, United States
CATEGORIES:Adult,Adults,senior,Seniors
END:VEVENT
BEGIN:VEVENT
DTSTART;TZID=America/New_York:20260406T160000
DTEND;TZID=America/New_York:20260406T160000
DTSTAMP:20260425T060859
CREATED:20251215T203221Z
LAST-MODIFIED:20251215T203221Z
UID:10009953-1775491200-1775491200@www.trailslibrary.org
SUMMARY:Junior S.T.E.A.M. Lab - Odessa Branch
DESCRIPTION:Ages 5-8: Kids explore\, create\, and imagine with building blocks!
URL:https://www.trailslibrary.org/event/junior-s-t-e-a-m-lab-odessa-branch-3/
LOCATION:Odessa Branch\, 107 W. Mason\, Odessa\, MO\, 64076\, United States
CATEGORIES:Children,Kids,STEAM
END:VEVENT
BEGIN:VEVENT
DTSTART;TZID=America/New_York:20260407T100000
DTEND;TZID=America/New_York:20260407T100000
DTSTAMP:20260425T060859
CREATED:20251215T195737Z
LAST-MODIFIED:20251215T195737Z
UID:10009714-1775556000-1775556000@www.trailslibrary.org
SUMMARY:Bubbly Storytime - Concordia Branch
DESCRIPTION:Ages 0-5: Storytimes are for building pre-reading skills\, making friends and having fun! And there will be bubbles!
URL:https://www.trailslibrary.org/event/bubbly-storytime-concordia-branch-52/
LOCATION:Concordia Branch\, 813 S Main\, Concordia\, MO\, 64020\, United States
CATEGORIES:Children,Kids,Pre-School,Preschool,Storytime,Toddlers
END:VEVENT
BEGIN:VEVENT
DTSTART;TZID=America/New_York:20260407T100000
DTEND;TZID=America/New_York:20260407T100000
DTSTAMP:20260425T060859
CREATED:20251215T205551Z
LAST-MODIFIED:20251215T205551Z
UID:10010072-1775556000-1775556000@www.trailslibrary.org
SUMMARY:One-on-One TECHtorials - Warrensburg Branch
DESCRIPTION:Ages 19+ REGISTRATION REQUIRED: Get personalized tech help with your smartphone\, tablet\, or laptop—perfect for learning the basics or building your confidence. Appointments are required and must be scheduled at least 24 hours in advance.
URL:https://www.trailslibrary.org/event/one-on-one-techtorials-warrensburg-branch-31/
LOCATION:Warrensburg Branch\, 432 N. Holden\, Warrensburg\, Missouri\, 64093\, United States
CATEGORIES:Adult,Adults,senior,Seniors,Technology
END:VEVENT
BEGIN:VEVENT
DTSTART;TZID=America/New_York:20260407T100000
DTEND;TZID=America/New_York:20260407T100000
DTSTAMP:20260425T060859
CREATED:20251215T205945Z
LAST-MODIFIED:20251215T205945Z
UID:10010110-1775556000-1775556000@www.trailslibrary.org
SUMMARY:Storytime - Warrensburg Branch
DESCRIPTION:Ages 0-5: Join us for a lively storytime filled with engaging stories\, music\, dancing\, crafts\, and plenty of bubbles! It’s a fun-filled adventure perfect for little ones and their grown-ups.
URL:https://www.trailslibrary.org/event/storytime-warrensburg-branch-98/
LOCATION:Warrensburg Branch\, 432 N. Holden\, Warrensburg\, Missouri\, 64093\, United States
CATEGORIES:Children,Kids,Pre-School,Preschool,Storytime,Toddlers
END:VEVENT
BEGIN:VEVENT
DTSTART;TZID=America/New_York:20260407T143000
DTEND;TZID=America/New_York:20260407T143000
DTSTAMP:20260425T060859
CREATED:20251215T205945Z
LAST-MODIFIED:20251215T205945Z
UID:10010111-1775572200-1775572200@www.trailslibrary.org
SUMMARY:Storytime - Warrensburg Branch
DESCRIPTION:Ages 0-5: Join us for a lively storytime filled with engaging stories\, music\, dancing\, crafts\, and plenty of bubbles! It’s a fun-filled adventure perfect for little ones and their grown-ups.
URL:https://www.trailslibrary.org/event/storytime-warrensburg-branch-99/
LOCATION:Warrensburg Branch\, 432 N. Holden\, Warrensburg\, Missouri\, 64093\, United States
CATEGORIES:Children,Kids,Pre-School,Preschool,Storytime,Toddlers
END:VEVENT
BEGIN:VEVENT
DTSTART;TZID=America/New_York:20260408T100000
DTEND;TZID=America/New_York:20260408T100000
DTSTAMP:20260425T060859
CREATED:20251215T200137Z
LAST-MODIFIED:20251215T200137Z
UID:10009726-1775642400-1775642400@www.trailslibrary.org
SUMMARY:Domino Day - Concordia Branch
DESCRIPTION:Ages 19+: Join us for a fun game day!
URL:https://www.trailslibrary.org/event/domino-day-concordia-branch-4/
LOCATION:Concordia Branch\, 813 S Main\, Concordia\, MO\, 64020\, United States
CATEGORIES:Adult,Adults,senior,Seniors
END:VEVENT
BEGIN:VEVENT
DTSTART;TZID=America/New_York:20260408T100000
DTEND;TZID=America/New_York:20260408T100000
DTSTAMP:20260425T060859
CREATED:20251215T200656Z
LAST-MODIFIED:20251215T200656Z
UID:10009743-1775642400-1775642400@www.trailslibrary.org
SUMMARY:Storytime - Corder Branch
DESCRIPTION:Ages 0-5: Storytimes are for building reading skills\, making friends\, and having fun!
URL:https://www.trailslibrary.org/event/storytime-corder-branch-47/
LOCATION:Corder Branch\, 221 N. Lafayette\, Corder\, MO\, 64021\, United States
CATEGORIES:Children,Kids,Pre-School,Preschool,Storytime,Toddlers
END:VEVENT
BEGIN:VEVENT
DTSTART;TZID=America/New_York:20260408T100000
DTEND;TZID=America/New_York:20260408T100000
DTSTAMP:20260425T060859
CREATED:20251215T201456Z
LAST-MODIFIED:20251215T201456Z
UID:10009836-1775642400-1775642400@www.trailslibrary.org
SUMMARY:Storytime - Holden Branch
DESCRIPTION:Ages 0-5: Storytimes are for building pre-reading skills\, making friends\, and having fun!
URL:https://www.trailslibrary.org/event/storytime-holden-branch-50/
LOCATION:Holden Branch\, 207 S. Main\, Holden\, MO\, 64040\, United States
CATEGORIES:Children,Kids,Pre-School,Preschool,Storytime,Toddlers
END:VEVENT
BEGIN:VEVENT
DTSTART;TZID=America/New_York:20260408T100000
DTEND;TZID=America/New_York:20260408T100000
DTSTAMP:20260425T060859
CREATED:20251215T202113Z
LAST-MODIFIED:20251215T202113Z
UID:10009881-1775642400-1775642400@www.trailslibrary.org
SUMMARY:Storytime - Knob Noster Branch
DESCRIPTION:Ages 0-5: Join us for engaging stories\, music\, and bubbles that encourage learning\, movement\, and a love of reading!
URL:https://www.trailslibrary.org/event/storytime-knob-noster-branch-53/
LOCATION:Knob Noster Branch\, 202 N. Adams\, Knob Noster\, MO\, 65336\, United States
CATEGORIES:Children,Kids,Pre-School,Preschool,Storytime,Toddlers
END:VEVENT
BEGIN:VEVENT
DTSTART;TZID=America/New_York:20260408T100000
DTEND;TZID=America/New_York:20260408T100000
DTSTAMP:20260425T060859
CREATED:20251215T202807Z
LAST-MODIFIED:20251215T202807Z
UID:10009918-1775642400-1775642400@www.trailslibrary.org
SUMMARY:Storytime - Lexington Branch
DESCRIPTION:Ages 0-5: Bring your little ones for storytime! Each week we read\, sing\, play and learn\, all while developing early literacy skills
URL:https://www.trailslibrary.org/event/storytime-lexington-branch-52/
LOCATION:Lexington Branch\, 1008 Main Street\, Lexington\, MO\, 64067\, United States
CATEGORIES:Children,Kids,Pre-School,Preschool,Storytime,Toddlers
END:VEVENT
BEGIN:VEVENT
DTSTART;TZID=America/New_York:20260408T100000
DTEND;TZID=America/New_York:20260408T100000
DTSTAMP:20260425T060859
CREATED:20251215T204454Z
LAST-MODIFIED:20251215T204454Z
UID:10009999-1775642400-1775642400@www.trailslibrary.org
SUMMARY:Storytime - Odessa Branch
DESCRIPTION:Ages 0-5: Storytimes are for building pre-reading skills\, making friends\, and having fun!
URL:https://www.trailslibrary.org/event/storytime-odessa-branch-77/
LOCATION:Odessa Branch\, 107 W. Mason\, Odessa\, MO\, 64076\, United States
CATEGORIES:Children,Kids,Pre-School,Preschool,Storytime,Toddlers
END:VEVENT
BEGIN:VEVENT
DTSTART;TZID=America/New_York:20260408T170000
DTEND;TZID=America/New_York:20260408T170000
DTSTAMP:20260425T060859
CREATED:20251215T210036Z
LAST-MODIFIED:20251215T210036Z
UID:10010123-1775667600-1775667600@www.trailslibrary.org
SUMMARY:Zumba - Warrensburg Branch
DESCRIPTION:Ages 19+: Get moving and have fun with a high-energy Zumba class at the library! This dance-fitness program combines Latin and international rhythms for a lively\, full-body workout that’s perfect for all fitness levels.
URL:https://www.trailslibrary.org/event/zumba-warrensburg-branch-11/
LOCATION:Warrensburg Branch\, 432 N. Holden\, Warrensburg\, Missouri\, 64093\, United States
CATEGORIES:Adult,Adults,senior,Seniors
END:VEVENT
BEGIN:VEVENT
DTSTART;TZID=America/New_York:20260409T100000
DTEND;TZID=America/New_York:20260409T100000
DTSTAMP:20260425T060859
CREATED:20251215T204655Z
LAST-MODIFIED:20251215T204655Z
UID:10010000-1775728800-1775728800@www.trailslibrary.org
SUMMARY:Storytime - Odessa Branch
DESCRIPTION:Ages 0-5: Storytimes are for building pre-reading skills\, making friends\, and having fun!
URL:https://www.trailslibrary.org/event/storytime-odessa-branch-78/
LOCATION:Odessa Branch\, 107 W. Mason\, Odessa\, MO\, 64076\, United States
CATEGORIES:Children,Kids,Pre-School,Preschool,Storytime,Toddlers
END:VEVENT
END:VCALENDAR