BEGIN:VCALENDAR
VERSION:2.0
PRODID:-//Trails Regional Library - ECPv6.15.20//NONSGML v1.0//EN
CALSCALE:GREGORIAN
METHOD:PUBLISH
X-ORIGINAL-URL:https://www.trailslibrary.org
X-WR-CALDESC:Events for Trails Regional Library
REFRESH-INTERVAL;VALUE=DURATION:PT1H
X-Robots-Tag:noindex
X-PUBLISHED-TTL:PT1H
BEGIN:VTIMEZONE
TZID:America/New_York
BEGIN:DAYLIGHT
TZOFFSETFROM:-0500
TZOFFSETTO:-0400
TZNAME:EDT
DTSTART:20250309T070000
END:DAYLIGHT
BEGIN:STANDARD
TZOFFSETFROM:-0400
TZOFFSETTO:-0500
TZNAME:EST
DTSTART:20251102T060000
END:STANDARD
BEGIN:DAYLIGHT
TZOFFSETFROM:-0500
TZOFFSETTO:-0400
TZNAME:EDT
DTSTART:20260308T070000
END:DAYLIGHT
BEGIN:STANDARD
TZOFFSETFROM:-0400
TZOFFSETTO:-0500
TZNAME:EST
DTSTART:20261101T060000
END:STANDARD
BEGIN:DAYLIGHT
TZOFFSETFROM:-0500
TZOFFSETTO:-0400
TZNAME:EDT
DTSTART:20270314T070000
END:DAYLIGHT
BEGIN:STANDARD
TZOFFSETFROM:-0400
TZOFFSETTO:-0500
TZNAME:EST
DTSTART:20271107T060000
END:STANDARD
END:VTIMEZONE
BEGIN:VEVENT
DTSTART;TZID=America/New_York:20260413T173000
DTEND;TZID=America/New_York:20260413T173000
DTSTAMP:20260425T060950
CREATED:20251215T205243Z
LAST-MODIFIED:20251215T205243Z
UID:10010056-1776101400-1776101400@www.trailslibrary.org
SUMMARY:NovelTea - Warrensburg Branch
DESCRIPTION:Ages 19+: Join us for a cup of tea\, an award winning book\, and great conversations.
URL:https://www.trailslibrary.org/event/noveltea-warrensburg-branch-15/
LOCATION:Warrensburg Branch\, 432 N. Holden\, Warrensburg\, Missouri\, 64093\, United States
CATEGORIES:Adult,Adults,Book Club,senior,Seniors
END:VEVENT
BEGIN:VEVENT
DTSTART;TZID=America/New_York:20260414T100000
DTEND;TZID=America/New_York:20260414T100000
DTSTAMP:20260425T060950
CREATED:20251215T195737Z
LAST-MODIFIED:20251215T195737Z
UID:10009715-1776160800-1776160800@www.trailslibrary.org
SUMMARY:Bubbly Storytime - Concordia Branch
DESCRIPTION:Ages 0-5: Storytimes are for building pre-reading skills\, making friends and having fun! And there will be bubbles!
URL:https://www.trailslibrary.org/event/bubbly-storytime-concordia-branch-53/
LOCATION:Concordia Branch\, 813 S Main\, Concordia\, MO\, 64020\, United States
CATEGORIES:Children,Kids,Pre-School,Preschool,Storytime,Toddlers
END:VEVENT
BEGIN:VEVENT
DTSTART;TZID=America/New_York:20260414T100000
DTEND;TZID=America/New_York:20260414T100000
DTSTAMP:20260425T060950
CREATED:20251215T202012Z
LAST-MODIFIED:20251215T202012Z
UID:10009860-1776160800-1776160800@www.trailslibrary.org
SUMMARY:Move & Groove - Knob Noster Branch
DESCRIPTION:Ages 0-5: This lively program encourages children to express themselves\, build coordination\, and develop rhythm and motor skills through fun\, active learning. Expect laughter\, music\, and motion!
URL:https://www.trailslibrary.org/event/move-groove-knob-noster-branch-3/
LOCATION:Knob Noster Branch\, 202 N. Adams\, Knob Noster\, MO\, 65336\, United States
CATEGORIES:Children,Kids,Pre-School,Preschool,Toddlers
END:VEVENT
BEGIN:VEVENT
DTSTART;TZID=America/New_York:20260414T100000
DTEND;TZID=America/New_York:20260414T100000
DTSTAMP:20260425T060950
CREATED:20251215T203832Z
LAST-MODIFIED:20251222T152307Z
UID:10009974-1776160800-1776160800@www.trailslibrary.org
SUMMARY:Sit and Get Fit - Odessa Branch
DESCRIPTION:Ages 55+: Strengthen your muscles through breathing and gentle exercise techniques.
URL:https://www.trailslibrary.org/event/sit-and-get-fit-odessa-branch-3/
LOCATION:Odessa Branch\, 107 W. Mason\, Odessa\, MO\, 64076\, United States
CATEGORIES:Adult,Adults,senior,Seniors
END:VEVENT
BEGIN:VEVENT
DTSTART;TZID=America/New_York:20260414T100000
DTEND;TZID=America/New_York:20260414T100000
DTSTAMP:20260425T060950
CREATED:20251215T205551Z
LAST-MODIFIED:20251215T205551Z
UID:10010073-1776160800-1776160800@www.trailslibrary.org
SUMMARY:One-on-One TECHtorials - Warrensburg Branch
DESCRIPTION:Ages 19+ REGISTRATION REQUIRED: Get personalized tech help with your smartphone\, tablet\, or laptop—perfect for learning the basics or building your confidence. Appointments are required and must be scheduled at least 24 hours in advance.
URL:https://www.trailslibrary.org/event/one-on-one-techtorials-warrensburg-branch-32/
LOCATION:Warrensburg Branch\, 432 N. Holden\, Warrensburg\, Missouri\, 64093\, United States
CATEGORIES:Adult,Adults,senior,Seniors,Technology
END:VEVENT
BEGIN:VEVENT
DTSTART;TZID=America/New_York:20260414T100000
DTEND;TZID=America/New_York:20260414T100000
DTSTAMP:20260425T060950
CREATED:20251215T205945Z
LAST-MODIFIED:20251215T205945Z
UID:10010112-1776160800-1776160800@www.trailslibrary.org
SUMMARY:Storytime - Warrensburg Branch
DESCRIPTION:Ages 0-5: Join us for a lively storytime filled with engaging stories\, music\, dancing\, crafts\, and plenty of bubbles! It’s a fun-filled adventure perfect for little ones and their grown-ups.
URL:https://www.trailslibrary.org/event/storytime-warrensburg-branch-100/
LOCATION:Warrensburg Branch\, 432 N. Holden\, Warrensburg\, Missouri\, 64093\, United States
CATEGORIES:Children,Kids,Pre-School,Preschool,Storytime,Toddlers
END:VEVENT
BEGIN:VEVENT
DTSTART;TZID=America/New_York:20260414T143000
DTEND;TZID=America/New_York:20260414T143000
DTSTAMP:20260425T060950
CREATED:20251215T205945Z
LAST-MODIFIED:20251215T205945Z
UID:10010113-1776177000-1776177000@www.trailslibrary.org
SUMMARY:Storytime - Warrensburg Branch
DESCRIPTION:Ages 0-5: Join us for a lively storytime filled with engaging stories\, music\, dancing\, crafts\, and plenty of bubbles! It’s a fun-filled adventure perfect for little ones and their grown-ups.
URL:https://www.trailslibrary.org/event/storytime-warrensburg-branch-101/
LOCATION:Warrensburg Branch\, 432 N. Holden\, Warrensburg\, Missouri\, 64093\, United States
CATEGORIES:Children,Kids,Pre-School,Preschool,Storytime,Toddlers
END:VEVENT
BEGIN:VEVENT
DTSTART;TZID=America/New_York:20260414T150000
DTEND;TZID=America/New_York:20260414T150000
DTSTAMP:20260425T060950
CREATED:20251215T201655Z
LAST-MODIFIED:20251215T201655Z
UID:10009840-1776178800-1776178800@www.trailslibrary.org
SUMMARY:Makers Gonna Make - Holden Branch
DESCRIPTION:Ages 19+: Unleash your creativity every other week with a new craft project designed for all experience levels. All materials are provided at no cost.
URL:https://www.trailslibrary.org/event/makers-gonna-make-holden-branch-7/
LOCATION:Holden Branch\, 207 S. Main\, Holden\, MO\, 64040\, United States
CATEGORIES:Adult,Adults,Crafts,senior,Seniors
END:VEVENT
BEGIN:VEVENT
DTSTART;TZID=America/New_York:20260414T150000
DTEND;TZID=America/New_York:20260414T150000
DTSTAMP:20260425T060950
CREATED:20251215T202822Z
LAST-MODIFIED:20251215T202822Z
UID:10009924-1776178800-1776178800@www.trailslibrary.org
SUMMARY:Tech Tuesday - Lexington Branch
DESCRIPTION:Ages 19+: Beginner’s class for adults looking to troubleshoot through everyday devices\, such as smartphones\, laptops\, iPads\, and more! Bring your own device!
URL:https://www.trailslibrary.org/event/tech-tuesday-lexington-branch-11/
LOCATION:Lexington Branch\, 1008 Main Street\, Lexington\, MO\, 64067\, United States
CATEGORIES:Adult,Adults,senior,Seniors,Technology
END:VEVENT
BEGIN:VEVENT
DTSTART;TZID=America/New_York:20260414T170000
DTEND;TZID=America/New_York:20260414T170000
DTSTAMP:20260425T060950
CREATED:20251215T203623Z
LAST-MODIFIED:20251215T203623Z
UID:10009963-1776186000-1776186000@www.trailslibrary.org
SUMMARY:Love is an Open Book Club - Odessa Branch
DESCRIPTION:Ages 19+: Join us for a genre specific book club and dive into the world of romance.
URL:https://www.trailslibrary.org/event/love-is-an-open-book-club-odessa-branch-17/
LOCATION:Odessa Branch\, 107 W. Mason\, Odessa\, MO\, 64076\, United States
CATEGORIES:Adult,Adults,Book Club,senior,Seniors
END:VEVENT
BEGIN:VEVENT
DTSTART;TZID=America/New_York:20260415T100000
DTEND;TZID=America/New_York:20260415T100000
DTSTAMP:20260425T060950
CREATED:20251215T200656Z
LAST-MODIFIED:20251215T200656Z
UID:10009744-1776247200-1776247200@www.trailslibrary.org
SUMMARY:Storytime - Corder Branch
DESCRIPTION:Ages 0-5: Storytimes are for building reading skills\, making friends\, and having fun!
URL:https://www.trailslibrary.org/event/storytime-corder-branch-48/
LOCATION:Corder Branch\, 221 N. Lafayette\, Corder\, MO\, 64021\, United States
CATEGORIES:Children,Kids,Pre-School,Preschool,Storytime,Toddlers
END:VEVENT
BEGIN:VEVENT
DTSTART;TZID=America/New_York:20260415T100000
DTEND;TZID=America/New_York:20260415T100000
DTSTAMP:20260425T060950
CREATED:20251215T201655Z
LAST-MODIFIED:20251215T201655Z
UID:10009837-1776247200-1776247200@www.trailslibrary.org
SUMMARY:Storytime - Holden Branch
DESCRIPTION:Ages 0-5: Storytimes are for building pre-reading skills\, making friends\, and having fun!
URL:https://www.trailslibrary.org/event/storytime-holden-branch-51/
LOCATION:Holden Branch\, 207 S. Main\, Holden\, MO\, 64040\, United States
CATEGORIES:Children,Kids,Pre-School,Preschool,Storytime,Toddlers
END:VEVENT
BEGIN:VEVENT
DTSTART;TZID=America/New_York:20260415T100000
DTEND;TZID=America/New_York:20260415T100000
DTSTAMP:20260425T060950
CREATED:20251215T202113Z
LAST-MODIFIED:20251215T202113Z
UID:10009882-1776247200-1776247200@www.trailslibrary.org
SUMMARY:Storytime - Knob Noster Branch
DESCRIPTION:Ages 0-5: Join us for engaging stories\, music\, and bubbles that encourage learning\, movement\, and a love of reading!
URL:https://www.trailslibrary.org/event/storytime-knob-noster-branch-54/
LOCATION:Knob Noster Branch\, 202 N. Adams\, Knob Noster\, MO\, 65336\, United States
CATEGORIES:Children,Kids,Pre-School,Preschool,Storytime,Toddlers
END:VEVENT
BEGIN:VEVENT
DTSTART;TZID=America/New_York:20260415T100000
DTEND;TZID=America/New_York:20260415T100000
DTSTAMP:20260425T060950
CREATED:20251215T202807Z
LAST-MODIFIED:20251215T202807Z
UID:10009919-1776247200-1776247200@www.trailslibrary.org
SUMMARY:Storytime - Lexington Branch
DESCRIPTION:Ages 0-5: Bring your little ones for storytime! Each week we read\, sing\, play and learn\, all while developing early literacy skills
URL:https://www.trailslibrary.org/event/storytime-lexington-branch-53/
LOCATION:Lexington Branch\, 1008 Main Street\, Lexington\, MO\, 64067\, United States
CATEGORIES:Children,Kids,Pre-School,Preschool,Storytime,Toddlers
END:VEVENT
BEGIN:VEVENT
DTSTART;TZID=America/New_York:20260415T100000
DTEND;TZID=America/New_York:20260415T100000
DTSTAMP:20260425T060950
CREATED:20251215T204655Z
LAST-MODIFIED:20251215T204655Z
UID:10010001-1776247200-1776247200@www.trailslibrary.org
SUMMARY:Storytime - Odessa Branch
DESCRIPTION:Ages 0-5: Storytimes are for building pre-reading skills\, making friends\, and having fun!
URL:https://www.trailslibrary.org/event/storytime-odessa-branch-79/
LOCATION:Odessa Branch\, 107 W. Mason\, Odessa\, MO\, 64076\, United States
CATEGORIES:Children,Kids,Pre-School,Preschool,Storytime,Toddlers
END:VEVENT
BEGIN:VEVENT
DTSTART;TZID=America/New_York:20260415T140000
DTEND;TZID=America/New_York:20260415T140000
DTSTAMP:20260425T060950
CREATED:20251215T202129Z
LAST-MODIFIED:20251215T202129Z
UID:10009889-1776261600-1776261600@www.trailslibrary.org
SUMMARY:Teen Scene - Knob Noster Branch
DESCRIPTION:Ages 13-18: Grab a snack\, try a fun activity\, and relax with friends in a space made just for teens.
URL:https://www.trailslibrary.org/event/teen-scene-knob-noster-branch-4/
LOCATION:Knob Noster Branch\, 202 N. Adams\, Knob Noster\, MO\, 65336\, United States
CATEGORIES:Pre-Teen,Pre-Teens,Teen,Teens
END:VEVENT
BEGIN:VEVENT
DTSTART;TZID=America/New_York:20260415T170000
DTEND;TZID=America/New_York:20260415T170000
DTSTAMP:20260425T060950
CREATED:20251215T204800Z
LAST-MODIFIED:20251215T204800Z
UID:10010014-1776272400-1776272400@www.trailslibrary.org
SUMMARY:Bunco - Warrensburg Branch
DESCRIPTION:Ages 19+: Join the fun and excitement of Bunco at the Library—everyone’s welcome\, no experience needed!
URL:https://www.trailslibrary.org/event/bunco-warrensburg-branch-6/
LOCATION:Warrensburg Branch\, 432 N. Holden\, Warrensburg\, Missouri\, 64093\, United States
CATEGORIES:Adult,Adults,senior,Seniors
END:VEVENT
BEGIN:VEVENT
DTSTART;TZID=America/New_York:20260416T100000
DTEND;TZID=America/New_York:20260416T100000
DTSTAMP:20260425T060950
CREATED:20251215T204655Z
LAST-MODIFIED:20251215T204655Z
UID:10010002-1776333600-1776333600@www.trailslibrary.org
SUMMARY:Storytime - Odessa Branch
DESCRIPTION:Ages 0-5: Storytimes are for building pre-reading skills\, making friends\, and having fun!
URL:https://www.trailslibrary.org/event/storytime-odessa-branch-80/
LOCATION:Odessa Branch\, 107 W. Mason\, Odessa\, MO\, 64076\, United States
CATEGORIES:Children,Kids,Pre-School,Preschool,Storytime,Toddlers
END:VEVENT
BEGIN:VEVENT
DTSTART;TZID=America/New_York:20260416T100000
DTEND;TZID=America/New_York:20260416T100000
DTSTAMP:20260425T060950
CREATED:20251215T205142Z
LAST-MODIFIED:20251215T205142Z
UID:10010049-1776333600-1776333600@www.trailslibrary.org
SUMMARY:Music & More - Warrensburg Branch
DESCRIPTION:Ages 0-5: Get ready to sing\, dance\, and shake those wiggles out! Join us for Music and More\, where children will explore a variety of musical instruments to boost sensory development\, coordination\, and early literacy and numeracy skills.
URL:https://www.trailslibrary.org/event/music-more-warrensburg-branch-38/
LOCATION:Warrensburg Branch\, 432 N. Holden\, Warrensburg\, Missouri\, 64093\, United States
CATEGORIES:Children,Kids,Pre-School,Preschool,Toddlers
END:VEVENT
BEGIN:VEVENT
DTSTART;TZID=America/New_York:20260416T140000
DTEND;TZID=America/New_York:20260416T140000
DTSTAMP:20260425T060950
CREATED:20251215T201940Z
LAST-MODIFIED:20251215T201940Z
UID:10009846-1776348000-1776348000@www.trailslibrary.org
SUMMARY:Bling Your Book - Knob Noster Branch
DESCRIPTION:Ages 19+: Bring your favorite book and use gems to add accents that stand out on your shelves. Join us for this fun drop-in activity!
URL:https://www.trailslibrary.org/event/bling-your-book-knob-noster-branch/
LOCATION:Knob Noster Branch\, 202 N. Adams\, Knob Noster\, MO\, 65336\, United States
CATEGORIES:Adult,Adults,Crafts,senior,Seniors
END:VEVENT
BEGIN:VEVENT
DTSTART;TZID=America/New_York:20260416T153000
DTEND;TZID=America/New_York:20260416T153000
DTSTAMP:20260425T060950
CREATED:20251215T202911Z
LAST-MODIFIED:20251215T202911Z
UID:10009929-1776353400-1776353400@www.trailslibrary.org
SUMMARY:Tween Time - Lexington Branch
DESCRIPTION:Ages 13-18: Come hang out with friends for an afternoon of fun! Whether you like crafting\, playing games\, or science experiments\, there’s something for everyone!
URL:https://www.trailslibrary.org/event/tween-time-lexington-branch-14/
LOCATION:Lexington Branch\, 1008 Main Street\, Lexington\, MO\, 64067\, United States
CATEGORIES:Crafts,Pre-Teen,Pre-Teens,Teen,Teens
END:VEVENT
BEGIN:VEVENT
DTSTART;TZID=America/New_York:20260416T160000
DTEND;TZID=America/New_York:20260416T160000
DTSTAMP:20260425T060950
CREATED:20251215T200337Z
LAST-MODIFIED:20251215T200337Z
UID:10009730-1776355200-1776355200@www.trailslibrary.org
SUMMARY:STEAM Day - Concordia Branch
DESCRIPTION:Ages 6-12: STEM + Art = STEAM It’s an equation for fun!
URL:https://www.trailslibrary.org/event/steam-day-concordia-branch-7/
LOCATION:Concordia Branch\, 813 S Main\, Concordia\, MO\, 64020\, United States
CATEGORIES:Children,Kids,STEAM
END:VEVENT
BEGIN:VEVENT
DTSTART;TZID=America/New_York:20260416T170000
DTEND;TZID=America/New_York:20260416T170000
DTSTAMP:20260425T060950
CREATED:20251215T202948Z
LAST-MODIFIED:20251215T202948Z
UID:10009934-1776358800-1776358800@www.trailslibrary.org
SUMMARY:Book Lovers' Book Club - Odessa Branch
DESCRIPTION:Ages 19+: Adult book club that meets once a month to discuss their book of choice. This month’s book of choice open for discussion is The Prayer Box by Lisa Wingate.
URL:https://www.trailslibrary.org/event/book-lovers-book-club-odessa-branch-17/
LOCATION:Odessa Branch\, 107 W. Mason\, Odessa\, MO\, 64076\, United States
CATEGORIES:Adult,Adults,Book Club,senior,Seniors
END:VEVENT
BEGIN:VEVENT
DTSTART;TZID=America/New_York:20260417T093000
DTEND;TZID=America/New_York:20260417T093000
DTSTAMP:20260425T060950
CREATED:20251215T201113Z
LAST-MODIFIED:20251215T201113Z
UID:10009805-1776418200-1776418200@www.trailslibrary.org
SUMMARY:Yoga Fridays - Corder Branch
DESCRIPTION:Ages 19+: Join our gentle chair yoga class designed for all levels\, from beginners to those returning to practice.
URL:https://www.trailslibrary.org/event/yoga-fridays-corder-branch-64/
LOCATION:Corder Branch\, 221 N. Lafayette\, Corder\, MO\, 64021\, United States
CATEGORIES:Adult,Adults,senior,Seniors
END:VEVENT
BEGIN:VEVENT
DTSTART;TZID=America/New_York:20260417T180000
DTEND;TZID=America/New_York:20260417T180000
DTSTAMP:20260425T060950
CREATED:20251215T203422Z
LAST-MODIFIED:20251215T203422Z
UID:10009957-1776448800-1776448800@www.trailslibrary.org
SUMMARY:Labyrinths and Lizards - Odessa Branch
DESCRIPTION:Ages 19+: Join us for an evening of Table-Top Role Playing Games!
URL:https://www.trailslibrary.org/event/labyrinths-and-lizards-odessa-branch-10/
LOCATION:Odessa Branch\, 107 W. Mason\, Odessa\, MO\, 64076\, United States
CATEGORIES:Adult,Adults,senior,Seniors
END:VEVENT
BEGIN:VEVENT
DTSTART;TZID=America/New_York:20260418T100000
DTEND;TZID=America/New_York:20260418T100000
DTSTAMP:20260425T060950
CREATED:20251215T200826Z
LAST-MODIFIED:20251215T200826Z
UID:10009757-1776506400-1776506400@www.trailslibrary.org
SUMMARY:Book Folding Creations - Corder Branch
DESCRIPTION:Ages 19+: Learn how to do book folding art!
URL:https://www.trailslibrary.org/event/book-folding-creations-corder-branch-7/
LOCATION:Corder Branch\, 221 N. Lafayette\, Corder\, MO\, 64021\, United States
CATEGORIES:Adult,Adults,Crafts,senior,Seniors
END:VEVENT
BEGIN:VEVENT
DTSTART;TZID=America/New_York:20260418T100000
DTEND;TZID=America/New_York:20260418T100000
DTSTAMP:20260425T060950
CREATED:20251215T205632Z
LAST-MODIFIED:20251215T205632Z
UID:10010083-1776506400-1776506400@www.trailslibrary.org
SUMMARY:RED - Warrensburg Branch
DESCRIPTION:Ages 6-12: Dive into hands-on activities and technology to explore\, build\, and create amazing projects that blend science\, engineering\, and art.
URL:https://www.trailslibrary.org/event/red-warrensburg-branch-8/
LOCATION:Warrensburg Branch\, 432 N. Holden\, Warrensburg\, Missouri\, 64093\, United States
CATEGORIES:Children,Kids,STEAM
END:VEVENT
BEGIN:VEVENT
DTSTART;TZID=America/New_York:20260418T100000
DTEND;TZID=America/New_York:20260418T100000
DTSTAMP:20260425T060950
CREATED:20251215T210205Z
LAST-MODIFIED:20251215T210205Z
UID:10010129-1776506400-1776506400@www.trailslibrary.org
SUMMARY:DIY Craft Day - Waverly Branch
DESCRIPTION:All Ages: Come and be creative with all of our craft supplies.
URL:https://www.trailslibrary.org/event/diy-craft-day-waverly-branch/
LOCATION:Waverly Branch\, 203 E. Kelling\, Waverly\, MO\, 64096\, United States
CATEGORIES:Adult,Adults,All Ages,Children,Crafts,Family,Kids,preteens,senior,Seniors,Teen,Teens,Youth
END:VEVENT
BEGIN:VEVENT
DTSTART;TZID=America/New_York:20260418T140000
DTEND;TZID=America/New_York:20260418T140000
DTSTAMP:20260425T060950
CREATED:20251215T203005Z
LAST-MODIFIED:20251215T203005Z
UID:10009941-1776520800-1776520800@www.trailslibrary.org
SUMMARY:Bunco - Odessa Branch
DESCRIPTION:Ages 19+: Bunco\, Library Edition! Roll the dice\, have fun\, and win prizes—perfect for beginners and seasoned players alike!
URL:https://www.trailslibrary.org/event/bunco-odessa-branch-6/
LOCATION:Odessa Branch\, 107 W. Mason\, Odessa\, MO\, 64076\, United States
CATEGORIES:Adult,Adults,senior,Seniors
END:VEVENT
BEGIN:VEVENT
DTSTART;TZID=America/New_York:20260420T093000
DTEND;TZID=America/New_York:20260420T093000
DTSTAMP:20260425T060950
CREATED:20251215T200942Z
LAST-MODIFIED:20251215T200942Z
UID:10009771-1776677400-1776677400@www.trailslibrary.org
SUMMARY:Monday Melodies - Corder Branch
DESCRIPTION:Ages 0-5: Join us for fun-filled music and movement sessions tailored for toddlers!
URL:https://www.trailslibrary.org/event/monday-melodies-corder-branch-47/
LOCATION:Corder Branch\, 221 N. Lafayette\, Corder\, MO\, 64021\, United States
CATEGORIES:Children,Kids,Pre-School,Preschool,Toddlers
END:VEVENT
END:VCALENDAR