BEGIN:VCALENDAR
VERSION:2.0
PRODID:-//Trails Regional Library - ECPv6.15.20//NONSGML v1.0//EN
CALSCALE:GREGORIAN
METHOD:PUBLISH
X-ORIGINAL-URL:https://www.trailslibrary.org
X-WR-CALDESC:Events for Trails Regional Library
REFRESH-INTERVAL;VALUE=DURATION:PT1H
X-Robots-Tag:noindex
X-PUBLISHED-TTL:PT1H
BEGIN:VTIMEZONE
TZID:America/New_York
BEGIN:DAYLIGHT
TZOFFSETFROM:-0500
TZOFFSETTO:-0400
TZNAME:EDT
DTSTART:20250309T070000
END:DAYLIGHT
BEGIN:STANDARD
TZOFFSETFROM:-0400
TZOFFSETTO:-0500
TZNAME:EST
DTSTART:20251102T060000
END:STANDARD
BEGIN:DAYLIGHT
TZOFFSETFROM:-0500
TZOFFSETTO:-0400
TZNAME:EDT
DTSTART:20260308T070000
END:DAYLIGHT
BEGIN:STANDARD
TZOFFSETFROM:-0400
TZOFFSETTO:-0500
TZNAME:EST
DTSTART:20261101T060000
END:STANDARD
BEGIN:DAYLIGHT
TZOFFSETFROM:-0500
TZOFFSETTO:-0400
TZNAME:EDT
DTSTART:20270314T070000
END:DAYLIGHT
BEGIN:STANDARD
TZOFFSETFROM:-0400
TZOFFSETTO:-0500
TZNAME:EST
DTSTART:20271107T060000
END:STANDARD
END:VTIMEZONE
BEGIN:VEVENT
DTSTART;TZID=America/New_York:20260210T100000
DTEND;TZID=America/New_York:20260210T100000
DTSTAMP:20260425T082158
CREATED:20251215T205702Z
LAST-MODIFIED:20251215T205702Z
UID:10010091-1770717600-1770717600@www.trailslibrary.org
SUMMARY:Storytime - Warrensburg Branch
DESCRIPTION:Ages 0-5: Join us for a lively storytime filled with engaging stories\, music\, dancing\, crafts\, and plenty of bubbles! It’s a fun-filled adventure perfect for little ones and their grown-ups.
URL:https://www.trailslibrary.org/event/storytime-warrensburg-branch-79/
LOCATION:Warrensburg Branch\, 432 N. Holden\, Warrensburg\, Missouri\, 64093\, United States
CATEGORIES:Children,Kids,Pre-School,Preschool,Storytime,Toddlers
END:VEVENT
BEGIN:VEVENT
DTSTART;TZID=America/New_York:20260210T143000
DTEND;TZID=America/New_York:20260210T143000
DTSTAMP:20260425T082158
CREATED:20251215T205702Z
LAST-MODIFIED:20251215T205702Z
UID:10010092-1770733800-1770733800@www.trailslibrary.org
SUMMARY:Storytime - Warrensburg Branch
DESCRIPTION:Ages 0-5: Join us for a lively storytime filled with engaging stories\, music\, dancing\, crafts\, and plenty of bubbles! It’s a fun-filled adventure perfect for little ones and their grown-ups.
URL:https://www.trailslibrary.org/event/storytime-warrensburg-branch-80/
LOCATION:Warrensburg Branch\, 432 N. Holden\, Warrensburg\, Missouri\, 64093\, United States
CATEGORIES:Children,Kids,Pre-School,Preschool,Storytime,Toddlers
END:VEVENT
BEGIN:VEVENT
DTSTART;TZID=America/New_York:20260210T150000
DTEND;TZID=America/New_York:20260210T150000
DTSTAMP:20260425T082158
CREATED:20251215T202822Z
LAST-MODIFIED:20251215T202822Z
UID:10009922-1770735600-1770735600@www.trailslibrary.org
SUMMARY:Tech Tuesday - Lexington Branch
DESCRIPTION:Ages 19+: Beginner’s class for adults looking to troubleshoot through everyday devices\, such as smartphones\, laptops\, iPads\, and more! Bring your own device!
URL:https://www.trailslibrary.org/event/tech-tuesday-lexington-branch-9/
LOCATION:Lexington Branch\, 1008 Main Street\, Lexington\, MO\, 64067\, United States
CATEGORIES:Adult,Adults,senior,Seniors,Technology
END:VEVENT
BEGIN:VEVENT
DTSTART;TZID=America/New_York:20260210T153000
DTEND;TZID=America/New_York:20260210T153000
DTSTAMP:20260425T082158
CREATED:20251215T202013Z
LAST-MODIFIED:20251215T202013Z
UID:10009864-1770737400-1770737400@www.trailslibrary.org
SUMMARY:Parachute Party - Knob Noster Branch
DESCRIPTION:Ages 6-12: Get ready for some high-flying fun! We’ll play fun parachute games that keep everyone moving\, laughing\, and working together.
URL:https://www.trailslibrary.org/event/parachute-party-knob-noster-branch/
LOCATION:Knob Noster Branch\, 202 N. Adams\, Knob Noster\, MO\, 65336\, United States
CATEGORIES:Children,Kids,Youth
END:VEVENT
BEGIN:VEVENT
DTSTART;TZID=America/New_York:20260210T170000
DTEND;TZID=America/New_York:20260210T170000
DTSTAMP:20260425T082158
CREATED:20251215T203623Z
LAST-MODIFIED:20251215T203623Z
UID:10009960-1770742800-1770742800@www.trailslibrary.org
SUMMARY:Love is an Open Book Club - Odessa Branch
DESCRIPTION:Ages 19+: Join us for a genre specific book club and dive into the world of romance.
URL:https://www.trailslibrary.org/event/love-is-an-open-book-club-odessa-branch-14/
LOCATION:Odessa Branch\, 107 W. Mason\, Odessa\, MO\, 64076\, United States
CATEGORIES:Adult,Adults,Book Club,senior,Seniors
END:VEVENT
BEGIN:VEVENT
DTSTART;TZID=America/New_York:20260211T100000
DTEND;TZID=America/New_York:20260211T100000
DTSTAMP:20260425T082158
CREATED:20251215T200137Z
LAST-MODIFIED:20251215T200137Z
UID:10009724-1770804000-1770804000@www.trailslibrary.org
SUMMARY:Domino Day - Concordia Branch
DESCRIPTION:Ages 19+: The cure for cabin fever: get out of the house for a fun game day!
URL:https://www.trailslibrary.org/event/domino-day-concordia-branch-2/
LOCATION:Concordia Branch\, 813 S Main\, Concordia\, MO\, 64020\, United States
CATEGORIES:Adult,Adults,senior,Seniors
END:VEVENT
BEGIN:VEVENT
DTSTART;TZID=America/New_York:20260211T100000
DTEND;TZID=America/New_York:20260211T100000
DTSTAMP:20260425T082158
CREATED:20251215T200639Z
LAST-MODIFIED:20251215T200639Z
UID:10009735-1770804000-1770804000@www.trailslibrary.org
SUMMARY:Storytime - Corder Branch
DESCRIPTION:Ages 0-5: Storytimes are for building reading skills\, making friends\, and having fun!
URL:https://www.trailslibrary.org/event/storytime-corder-branch-39/
LOCATION:Corder Branch\, 221 N. Lafayette\, Corder\, MO\, 64021\, United States
CATEGORIES:Children,Kids,Pre-School,Preschool,Storytime,Toddlers
END:VEVENT
BEGIN:VEVENT
DTSTART;TZID=America/New_York:20260211T100000
DTEND;TZID=America/New_York:20260211T100000
DTSTAMP:20260425T082158
CREATED:20251215T201225Z
LAST-MODIFIED:20251215T201225Z
UID:10009819-1770804000-1770804000@www.trailslibrary.org
SUMMARY:Storytime - Holden Branch
DESCRIPTION:Ages 0-5: Storytimes are for building pre-reading skills\, making friends\, and having fun!
URL:https://www.trailslibrary.org/event/storytime-holden-branch-42/
LOCATION:Holden Branch\, 207 S. Main\, Holden\, MO\, 64040\, United States
CATEGORIES:Children,Kids,Pre-School,Preschool,Storytime,Toddlers
END:VEVENT
BEGIN:VEVENT
DTSTART;TZID=America/New_York:20260211T100000
DTEND;TZID=America/New_York:20260211T100000
DTSTAMP:20260425T082158
CREATED:20251215T202043Z
LAST-MODIFIED:20251215T202043Z
UID:10009873-1770804000-1770804000@www.trailslibrary.org
SUMMARY:Storytime - Knob Noster Branch
DESCRIPTION:Ages 0-5: Join us for engaging stories\, music\, and bubbles that encourage learning\, movement\, and a love of reading!
URL:https://www.trailslibrary.org/event/storytime-knob-noster-branch-45/
LOCATION:Knob Noster Branch\, 202 N. Adams\, Knob Noster\, MO\, 65336\, United States
CATEGORIES:Children,Kids,Pre-School,Preschool,Storytime,Toddlers
END:VEVENT
BEGIN:VEVENT
DTSTART;TZID=America/New_York:20260211T100000
DTEND;TZID=America/New_York:20260211T100000
DTSTAMP:20260425T082158
CREATED:20251215T202410Z
LAST-MODIFIED:20251215T202410Z
UID:10009910-1770804000-1770804000@www.trailslibrary.org
SUMMARY:Storytime - Lexington Branch
DESCRIPTION:Ages 0-5: Bring your little ones for storytime! Each week we read\, sing\, play and learn\, all while developing early literacy skills
URL:https://www.trailslibrary.org/event/storytime-lexington-branch-44/
LOCATION:Lexington Branch\, 1008 Main Street\, Lexington\, MO\, 64067\, United States
CATEGORIES:Children,Kids,Pre-School,Preschool,Storytime,Toddlers
END:VEVENT
BEGIN:VEVENT
DTSTART;TZID=America/New_York:20260211T100000
DTEND;TZID=America/New_York:20260211T100000
DTSTAMP:20260425T082158
CREATED:20251215T204249Z
LAST-MODIFIED:20251215T204249Z
UID:10009985-1770804000-1770804000@www.trailslibrary.org
SUMMARY:Storytime - Odessa Branch
DESCRIPTION:Ages 0-5: Storytimes are for building pre-reading skills\, making friends\, and having fun!
URL:https://www.trailslibrary.org/event/storytime-odessa-branch-63/
LOCATION:Odessa Branch\, 107 W. Mason\, Odessa\, MO\, 64076\, United States
CATEGORIES:Children,Kids,Pre-School,Preschool,Storytime,Toddlers
END:VEVENT
BEGIN:VEVENT
DTSTART;TZID=America/New_York:20260211T170000
DTEND;TZID=America/New_York:20260211T170000
DTSTAMP:20260425T082158
CREATED:20251215T210036Z
LAST-MODIFIED:20251215T210036Z
UID:10010119-1770829200-1770829200@www.trailslibrary.org
SUMMARY:Zumba - Warrensburg Branch
DESCRIPTION:Ages 19+: Get moving and have fun with a high-energy Zumba class at the library! This dance-fitness program combines Latin and international rhythms for a lively\, full-body workout that’s perfect for all fitness levels.
URL:https://www.trailslibrary.org/event/zumba-warrensburg-branch-7/
LOCATION:Warrensburg Branch\, 432 N. Holden\, Warrensburg\, Missouri\, 64093\, United States
CATEGORIES:Adult,Adults,senior,Seniors
END:VEVENT
BEGIN:VEVENT
DTSTART;TZID=America/New_York:20260212T100000
DTEND;TZID=America/New_York:20260212T100000
DTSTAMP:20260425T082158
CREATED:20251215T204249Z
LAST-MODIFIED:20251215T204249Z
UID:10009986-1770890400-1770890400@www.trailslibrary.org
SUMMARY:Storytime - Odessa Branch
DESCRIPTION:Ages 0-5: Storytimes are for building pre-reading skills\, making friends\, and having fun!
URL:https://www.trailslibrary.org/event/storytime-odessa-branch-64/
LOCATION:Odessa Branch\, 107 W. Mason\, Odessa\, MO\, 64076\, United States
CATEGORIES:Children,Kids,Pre-School,Preschool,Storytime,Toddlers
END:VEVENT
BEGIN:VEVENT
DTSTART;TZID=America/New_York:20260212T100000
DTEND;TZID=America/New_York:20260212T100000
DTSTAMP:20260425T082158
CREATED:20251215T204917Z
LAST-MODIFIED:20251215T204917Z
UID:10010040-1770890400-1770890400@www.trailslibrary.org
SUMMARY:Music & More - Warrensburg Branch
DESCRIPTION:Ages 0-5: Get ready to sing\, dance\, and shake those wiggles out! Join us for Music and More\, where children will explore a variety of musical instruments to boost sensory development\, coordination\, and early literacy and numeracy skills.
URL:https://www.trailslibrary.org/event/music-more-warrensburg-branch-29/
LOCATION:Warrensburg Branch\, 432 N. Holden\, Warrensburg\, Missouri\, 64093\, United States
CATEGORIES:Children,Kids,Pre-School,Preschool,Toddlers
END:VEVENT
BEGIN:VEVENT
DTSTART;TZID=America/New_York:20260212T113000
DTEND;TZID=America/New_York:20260212T113000
DTSTAMP:20260425T082158
CREATED:20251215T201940Z
LAST-MODIFIED:20251215T201940Z
UID:10009845-1770895800-1770895800@www.trailslibrary.org
SUMMARY:Bake Pretend - Knob Noster Branch
DESCRIPTION:Ages 0-5: Kids can decorate their own pretend cookies and enjoy a creative playtime together.
URL:https://www.trailslibrary.org/event/bake-pretend-knob-noster-branch/
LOCATION:Knob Noster Branch\, 202 N. Adams\, Knob Noster\, MO\, 65336\, United States
CATEGORIES:Children,Kids,Pre-School,Preschool,Toddlers
END:VEVENT
BEGIN:VEVENT
DTSTART;TZID=America/New_York:20260212T130000
DTEND;TZID=America/New_York:20260212T130000
DTSTAMP:20260425T082158
CREATED:20251215T202352Z
LAST-MODIFIED:20251215T202352Z
UID:10009897-1770901200-1770901200@www.trailslibrary.org
SUMMARY:Any Book\, Book Club - Lexington Branch
DESCRIPTION:Ages 19+: That’s right\, any book! Share a favorite read with others. You might discover your next favorite!
URL:https://www.trailslibrary.org/event/any-book-book-club-lexington-branch-11/
LOCATION:Lexington Branch\, 1008 Main Street\, Lexington\, MO\, 64067\, United States
CATEGORIES:Adult,Adults,Book Club,senior,Seniors
END:VEVENT
BEGIN:VEVENT
DTSTART;TZID=America/New_York:20260212T153000
DTEND;TZID=America/New_York:20260212T153000
DTSTAMP:20260425T082158
CREATED:20251215T202354Z
LAST-MODIFIED:20251215T202354Z
UID:10009903-1770910200-1770910200@www.trailslibrary.org
SUMMARY:Kids Club - Lexington Branch
DESCRIPTION:Ages 6-12: If you like crafts\, games and fun science activites (STEAM) then this club is for you. Bring a friend for more FUN!
URL:https://www.trailslibrary.org/event/kids-club-lexington-branch-12/
LOCATION:Lexington Branch\, 1008 Main Street\, Lexington\, MO\, 64067\, United States
CATEGORIES:Children,Crafts,Kids,STEAM
END:VEVENT
BEGIN:VEVENT
DTSTART;TZID=America/New_York:20260212T153000
DTEND;TZID=America/New_York:20260212T153000
DTSTAMP:20260425T082158
CREATED:20251215T205631Z
LAST-MODIFIED:20251215T205631Z
UID:10010081-1770910200-1770910200@www.trailslibrary.org
SUMMARY:Paint and Stamp: Teen Edition - Warrensburg Branch
DESCRIPTION:Ages 13-18 REGISTRATION REQUIRED: Grab a canvas and get ready to create! Kick off with acrylic paints to build your own bold base—splash colors\, blend vibes\, or go full abstract. Then level up with our stash of cool stamps. Layer\, overlap\, and make it yours. Bring your crew\, and your creativity. Walk out with art that slaps.
URL:https://www.trailslibrary.org/event/paint-and-stamp-teen-edition-warrensburg-branch/
LOCATION:Warrensburg Branch\, 432 N. Holden\, Warrensburg\, Missouri\, 64093\, United States
CATEGORIES:Crafts,Pre-Teen,Pre-Teens,Teen,Teens
END:VEVENT
BEGIN:VEVENT
DTSTART;TZID=America/New_York:20260212T154500
DTEND;TZID=America/New_York:20260212T154500
DTSTAMP:20260425T082158
CREATED:20251215T202307Z
LAST-MODIFIED:20251215T202307Z
UID:10009892-1770911100-1770911100@www.trailslibrary.org
SUMMARY:Trading Card Club - Leeton Express Branch
DESCRIPTION:Ages 6-12: Join Mrs. Schuler for a meeting of the Trading Card Club. We will talk about different trading cards\, create our own trading cards. as well as play and trade.
URL:https://www.trailslibrary.org/event/trading-card-club-leeton-express-branch-7/
LOCATION:Leeton Express Branch\, 500 N. Main\, Leeton\, MO\, 64761\, United States
CATEGORIES:Children,Crafts,Kids
END:VEVENT
BEGIN:VEVENT
DTSTART;TZID=America/New_York:20260213T093000
DTEND;TZID=America/New_York:20260213T093000
DTSTAMP:20260425T082158
CREATED:20251215T201057Z
LAST-MODIFIED:20251215T201057Z
UID:10009797-1770975000-1770975000@www.trailslibrary.org
SUMMARY:Yoga Fridays - Corder Branch
DESCRIPTION:Ages 19+: Join our gentle chair yoga class designed for all levels\, from beginners to those returning to practice.
URL:https://www.trailslibrary.org/event/yoga-fridays-corder-branch-56/
LOCATION:Corder Branch\, 221 N. Lafayette\, Corder\, MO\, 64021\, United States
CATEGORIES:Adult,Adults,senior,Seniors
END:VEVENT
BEGIN:VEVENT
DTSTART;TZID=America/New_York:20260214T100000
DTEND;TZID=America/New_York:20260214T100000
DTSTAMP:20260425T082158
CREATED:20251215T195938Z
LAST-MODIFIED:20251215T195938Z
UID:10009722-1771063200-1771063200@www.trailslibrary.org
SUMMARY:Cartoons & Pancakes - Concordia Branch
DESCRIPTION:All Ages: It’s Second Saturday! Let’s enjoy pancakes and cartoons!
URL:https://www.trailslibrary.org/event/cartoons-pancakes-concordia-branch-17/
LOCATION:Concordia Branch\, 813 S Main\, Concordia\, MO\, 64020\, United States
CATEGORIES:Adult,Adults,All Ages,Children,Family,Kids,Movie,preteens,senior,Seniors,Teen,Teens,Youth
END:VEVENT
BEGIN:VEVENT
DTSTART;TZID=America/New_York:20260216T000000
DTEND;TZID=America/New_York:20260216T235959
DTSTAMP:20260425T082158
CREATED:20240214T200057Z
LAST-MODIFIED:20240214T200058Z
UID:10007444-1771200000-1771286399@www.trailslibrary.org
SUMMARY:Closure Notice - President's Day
DESCRIPTION:All locations of Trails Regional Library will be closed in observance of President’s Day. We will reopen tomorrow for normal hours.
URL:https://www.trailslibrary.org/event/closure-notice-presidents-day/2026-02-16/
LOCATION:MO
CATEGORIES:Everyone
END:VEVENT
BEGIN:VEVENT
DTSTART;TZID=America/New_York:20260217T100000
DTEND;TZID=America/New_York:20260217T100000
DTSTAMP:20260425T082158
CREATED:20251215T195338Z
LAST-MODIFIED:20251215T195338Z
UID:10009707-1771322400-1771322400@www.trailslibrary.org
SUMMARY:Bubbly Storytime - Concordia Branch
DESCRIPTION:Ages 0-5: Storytimes are for building pre-reading skills\, making friends and having fun! And there will be bubbles!
URL:https://www.trailslibrary.org/event/bubbly-storytime-concordia-branch-45/
LOCATION:Concordia Branch\, 813 S Main\, Concordia\, MO\, 64020\, United States
CATEGORIES:Children,Kids,Pre-School,Preschool,Storytime,Toddlers
END:VEVENT
BEGIN:VEVENT
DTSTART;TZID=America/New_York:20260217T100000
DTEND;TZID=America/New_York:20260217T100000
DTSTAMP:20260425T082158
CREATED:20251215T201958Z
LAST-MODIFIED:20251215T201958Z
UID:10009858-1771322400-1771322400@www.trailslibrary.org
SUMMARY:Move & Groove - Knob Noster Branch
DESCRIPTION:Ages 0-5: This lively program encourages children to express themselves\, build coordination\, and develop rhythm and motor skills through fun\, active learning. Expect laughter\, music\, and motion!
URL:https://www.trailslibrary.org/event/move-groove-knob-noster-branch/
LOCATION:Knob Noster Branch\, 202 N. Adams\, Knob Noster\, MO\, 65336\, United States
CATEGORIES:Children,Kids,Pre-School,Preschool,Toddlers
END:VEVENT
BEGIN:VEVENT
DTSTART;TZID=America/New_York:20260217T100000
DTEND;TZID=America/New_York:20260217T100000
DTSTAMP:20260425T082158
CREATED:20251215T205505Z
LAST-MODIFIED:20251215T205505Z
UID:10010065-1771322400-1771322400@www.trailslibrary.org
SUMMARY:One-on-One TECHtorials - Warrensburg Branch
DESCRIPTION:Ages 19+ REGISTRATION REQUIRED: Get personalized tech help with your smartphone\, tablet\, or laptop—perfect for learning the basics or building your confidence. Appointments are required and must be scheduled at least 24 hours in advance.
URL:https://www.trailslibrary.org/event/one-on-one-techtorials-warrensburg-branch-24/
LOCATION:Warrensburg Branch\, 432 N. Holden\, Warrensburg\, Missouri\, 64093\, United States
CATEGORIES:Adult,Adults,senior,Seniors,Technology
END:VEVENT
BEGIN:VEVENT
DTSTART;TZID=America/New_York:20260217T100000
DTEND;TZID=America/New_York:20260217T100000
DTSTAMP:20260425T082158
CREATED:20251215T205815Z
LAST-MODIFIED:20251215T205815Z
UID:10010101-1771322400-1771322400@www.trailslibrary.org
SUMMARY:Storytime - Warrensburg Branch
DESCRIPTION:Ages 0-5: Join us for a lively storytime filled with engaging stories\, music\, dancing\, crafts\, and plenty of bubbles! It’s a fun-filled adventure perfect for little ones and their grown-ups.
URL:https://www.trailslibrary.org/event/storytime-warrensburg-branch-89/
LOCATION:Warrensburg Branch\, 432 N. Holden\, Warrensburg\, Missouri\, 64093\, United States
CATEGORIES:Children,Kids,Pre-School,Preschool,Storytime,Toddlers
END:VEVENT
BEGIN:VEVENT
DTSTART;TZID=America/New_York:20260217T133000
DTEND;TZID=America/New_York:20260217T133000
DTSTAMP:20260425T082158
CREATED:20251215T202822Z
LAST-MODIFIED:20251215T202822Z
UID:10009925-1771335000-1771335000@www.trailslibrary.org
SUMMARY:Trivia Time! - Lexington Branch
DESCRIPTION:Ages 19+: Special host Tom Beard will be in the house for an afternoon of Trivia.
URL:https://www.trailslibrary.org/event/trivia-time-lexington-branch/
LOCATION:Lexington Branch\, 1008 Main Street\, Lexington\, MO\, 64067\, United States
CATEGORIES:Adult,Adults,Guest Presenter,senior,Seniors
END:VEVENT
BEGIN:VEVENT
DTSTART;TZID=America/New_York:20260217T143000
DTEND;TZID=America/New_York:20260217T143000
DTSTAMP:20260425T082158
CREATED:20251215T205815Z
LAST-MODIFIED:20251215T205815Z
UID:10010102-1771338600-1771338600@www.trailslibrary.org
SUMMARY:Storytime - Warrensburg Branch
DESCRIPTION:Ages 0-5: Join us for a lively storytime filled with engaging stories\, music\, dancing\, crafts\, and plenty of bubbles! It’s a fun-filled adventure perfect for little ones and their grown-ups.
URL:https://www.trailslibrary.org/event/storytime-warrensburg-branch-90/
LOCATION:Warrensburg Branch\, 432 N. Holden\, Warrensburg\, Missouri\, 64093\, United States
CATEGORIES:Children,Kids,Pre-School,Preschool,Storytime,Toddlers
END:VEVENT
BEGIN:VEVENT
DTSTART;TZID=America/New_York:20260217T150000
DTEND;TZID=America/New_York:20260217T150000
DTSTAMP:20260425T082158
CREATED:20251215T201240Z
LAST-MODIFIED:20251215T201240Z
UID:10009823-1771340400-1771340400@www.trailslibrary.org
SUMMARY:Makers Gonna Make - Holden Branch
DESCRIPTION:Ages 19+: Unleash your creativity every other week with a new craft project designed for all experience levels. All materials are provided at no cost.
URL:https://www.trailslibrary.org/event/makers-gonna-make-holden-branch-3/
LOCATION:Holden Branch\, 207 S. Main\, Holden\, MO\, 64040\, United States
CATEGORIES:Adult,Adults,Crafts,senior,Seniors
END:VEVENT
BEGIN:VEVENT
DTSTART;TZID=America/New_York:20260217T163000
DTEND;TZID=America/New_York:20260217T163000
DTSTAMP:20260425T082158
CREATED:20251215T195307Z
LAST-MODIFIED:20251215T195307Z
UID:10009694-1771345800-1771345800@www.trailslibrary.org
SUMMARY:Bake Club - Concordia Branch
DESCRIPTION:Ages 19+: February is all about chocolate!
URL:https://www.trailslibrary.org/event/bake-club-concordia-branch-7/
LOCATION:Concordia Branch\, 813 S Main\, Concordia\, MO\, 64020\, United States
CATEGORIES:Adult,Adults,senior,Seniors
END:VEVENT
END:VCALENDAR