BEGIN:VCALENDAR
VERSION:2.0
PRODID:-//Trails Regional Library - ECPv6.15.20//NONSGML v1.0//EN
CALSCALE:GREGORIAN
METHOD:PUBLISH
X-ORIGINAL-URL:https://www.trailslibrary.org
X-WR-CALDESC:Events for Trails Regional Library
REFRESH-INTERVAL;VALUE=DURATION:PT1H
X-Robots-Tag:noindex
X-PUBLISHED-TTL:PT1H
BEGIN:VTIMEZONE
TZID:America/New_York
BEGIN:DAYLIGHT
TZOFFSETFROM:-0500
TZOFFSETTO:-0400
TZNAME:EDT
DTSTART:20250309T070000
END:DAYLIGHT
BEGIN:STANDARD
TZOFFSETFROM:-0400
TZOFFSETTO:-0500
TZNAME:EST
DTSTART:20251102T060000
END:STANDARD
BEGIN:DAYLIGHT
TZOFFSETFROM:-0500
TZOFFSETTO:-0400
TZNAME:EDT
DTSTART:20260308T070000
END:DAYLIGHT
BEGIN:STANDARD
TZOFFSETFROM:-0400
TZOFFSETTO:-0500
TZNAME:EST
DTSTART:20261101T060000
END:STANDARD
BEGIN:DAYLIGHT
TZOFFSETFROM:-0500
TZOFFSETTO:-0400
TZNAME:EDT
DTSTART:20270314T070000
END:DAYLIGHT
BEGIN:STANDARD
TZOFFSETFROM:-0400
TZOFFSETTO:-0500
TZNAME:EST
DTSTART:20271107T060000
END:STANDARD
END:VTIMEZONE
BEGIN:VEVENT
DTSTART;TZID=America/New_York:20260420T100000
DTEND;TZID=America/New_York:20260420T100000
DTSTAMP:20260425T175738
CREATED:20251215T210252Z
LAST-MODIFIED:20251215T210252Z
UID:10010151-1776679200-1776679200@www.trailslibrary.org
SUMMARY:Storytime Adventures - Waverly Branch
DESCRIPTION:Ages 0-5: Wiggle\, giggle\, and listen! This storytime is perfect for toddlers.
URL:https://www.trailslibrary.org/event/storytime-adventures-waverly-branch-39/
LOCATION:Waverly Branch\, 203 E. Kelling\, Waverly\, MO\, 64096\, United States
CATEGORIES:Children,Kids,Pre-School,Preschool,Storytime,Toddlers
END:VEVENT
BEGIN:VEVENT
DTSTART;TZID=America/New_York:20260420T130000
DTEND;TZID=America/New_York:20260420T130000
DTSTAMP:20260425T175738
CREATED:20251215T201013Z
LAST-MODIFIED:20251215T201013Z
UID:10009785-1776690000-1776690000@www.trailslibrary.org
SUMMARY:Move to the Beat - Corder Branch
DESCRIPTION:Ages 19+: Join us for cardio drumming with yoga balls!
URL:https://www.trailslibrary.org/event/move-to-the-beat-corder-branch-33/
LOCATION:Corder Branch\, 221 N. Lafayette\, Corder\, MO\, 64021\, United States
CATEGORIES:Adult,Adults,senior,Seniors
END:VEVENT
BEGIN:VEVENT
DTSTART;TZID=America/New_York:20260420T163000
DTEND;TZID=America/New_York:20260420T163000
DTSTAMP:20260425T175738
CREATED:20251215T195307Z
LAST-MODIFIED:20251215T195307Z
UID:10009696-1776702600-1776702600@www.trailslibrary.org
SUMMARY:Bake Club - Concordia Branch
DESCRIPTION:Ages 19+: We’re looking forward to gardening! Let’s explore Vegetarian Cooking.
URL:https://www.trailslibrary.org/event/bake-club-concordia-branch-9/
LOCATION:Concordia Branch\, 813 S Main\, Concordia\, MO\, 64020\, United States
CATEGORIES:Adult,Adults,senior,Seniors
END:VEVENT
BEGIN:VEVENT
DTSTART;TZID=America/New_York:20260420T170000
DTEND;TZID=America/New_York:20260420T170000
DTSTAMP:20260425T175738
CREATED:20251215T204816Z
LAST-MODIFIED:20251215T204816Z
UID:10010021-1776704400-1776704400@www.trailslibrary.org
SUMMARY:Craftastic - Warrensburg Branch
DESCRIPTION:Ages 19+ REGISTRATION REQUIRED: Join fellow crafters at Trails for a fun and creative DIY project! All materials will be provided\, so bring your creativity and enjoy crafting with others.
URL:https://www.trailslibrary.org/event/craftastic-warrensburg-branch-13/
LOCATION:Warrensburg Branch\, 432 N. Holden\, Warrensburg\, Missouri\, 64093\, United States
CATEGORIES:Adult,Adults,Crafts,senior,Seniors
END:VEVENT
BEGIN:VEVENT
DTSTART;TZID=America/New_York:20260421T100000
DTEND;TZID=America/New_York:20260421T100000
DTSTAMP:20260425T175738
CREATED:20251215T195737Z
LAST-MODIFIED:20251215T195737Z
UID:10009716-1776765600-1776765600@www.trailslibrary.org
SUMMARY:Bubbly Storytime - Concordia Branch
DESCRIPTION:Ages 0-5: Storytimes are for building pre-reading skills\, making friends and having fun! And there will be bubbles!
URL:https://www.trailslibrary.org/event/bubbly-storytime-concordia-branch-54/
LOCATION:Concordia Branch\, 813 S Main\, Concordia\, MO\, 64020\, United States
CATEGORIES:Children,Kids,Pre-School,Preschool,Storytime,Toddlers
END:VEVENT
BEGIN:VEVENT
DTSTART;TZID=America/New_York:20260421T100000
DTEND;TZID=America/New_York:20260421T100000
DTSTAMP:20260425T175738
CREATED:20251215T205606Z
LAST-MODIFIED:20251215T205606Z
UID:10010074-1776765600-1776765600@www.trailslibrary.org
SUMMARY:One-on-One TECHtorials - Warrensburg Branch
DESCRIPTION:Ages 19+ REGISTRATION REQUIRED: Get personalized tech help with your smartphone\, tablet\, or laptop—perfect for learning the basics or building your confidence. Appointments are required and must be scheduled at least 24 hours in advance.
URL:https://www.trailslibrary.org/event/one-on-one-techtorials-warrensburg-branch-33/
LOCATION:Warrensburg Branch\, 432 N. Holden\, Warrensburg\, Missouri\, 64093\, United States
CATEGORIES:Adult,Adults,senior,Seniors,Technology
END:VEVENT
BEGIN:VEVENT
DTSTART;TZID=America/New_York:20260421T100000
DTEND;TZID=America/New_York:20260421T100000
DTSTAMP:20260425T175738
CREATED:20251215T210020Z
LAST-MODIFIED:20251215T210020Z
UID:10010114-1776765600-1776765600@www.trailslibrary.org
SUMMARY:Storytime - Warrensburg Branch
DESCRIPTION:Ages 0-5: Join us for a lively storytime filled with engaging stories\, music\, dancing\, crafts\, and plenty of bubbles! It’s a fun-filled adventure perfect for little ones and their grown-ups.
URL:https://www.trailslibrary.org/event/storytime-warrensburg-branch-102/
LOCATION:Warrensburg Branch\, 432 N. Holden\, Warrensburg\, Missouri\, 64093\, United States
CATEGORIES:Children,Kids,Pre-School,Preschool,Storytime,Toddlers
END:VEVENT
BEGIN:VEVENT
DTSTART;TZID=America/New_York:20260421T143000
DTEND;TZID=America/New_York:20260421T143000
DTSTAMP:20260425T175738
CREATED:20251215T210020Z
LAST-MODIFIED:20251215T210020Z
UID:10010115-1776781800-1776781800@www.trailslibrary.org
SUMMARY:Storytime - Warrensburg Branch
DESCRIPTION:Ages 0-5: Join us for a lively storytime filled with engaging stories\, music\, dancing\, crafts\, and plenty of bubbles! It’s a fun-filled adventure perfect for little ones and their grown-ups.
URL:https://www.trailslibrary.org/event/storytime-warrensburg-branch-103/
LOCATION:Warrensburg Branch\, 432 N. Holden\, Warrensburg\, Missouri\, 64093\, United States
CATEGORIES:Children,Kids,Pre-School,Preschool,Storytime,Toddlers
END:VEVENT
BEGIN:VEVENT
DTSTART;TZID=America/New_York:20260421T153000
DTEND;TZID=America/New_York:20260421T153000
DTSTAMP:20260425T175738
CREATED:20251215T201957Z
LAST-MODIFIED:20251215T201957Z
UID:10009856-1776785400-1776785400@www.trailslibrary.org
SUMMARY:Kids Karaoke - Knob Noster Branch
DESCRIPTION:Ages 6-12: Get ready to sing your heart out! Join us for Kids Karaoke and take the mic for your favorite songs.
URL:https://www.trailslibrary.org/event/kids-karaoke-knob-noster-branch/
LOCATION:Knob Noster Branch\, 202 N. Adams\, Knob Noster\, MO\, 65336\, United States
CATEGORIES:Children,Kids,Youth
END:VEVENT
BEGIN:VEVENT
DTSTART;TZID=America/New_York:20260422T100000
DTEND;TZID=America/New_York:20260422T100000
DTSTAMP:20260425T175738
CREATED:20251215T200656Z
LAST-MODIFIED:20251215T200656Z
UID:10009745-1776852000-1776852000@www.trailslibrary.org
SUMMARY:Storytime - Corder Branch
DESCRIPTION:Ages 0-5: Storytimes are for building reading skills\, making friends\, and having fun!
URL:https://www.trailslibrary.org/event/storytime-corder-branch-49/
LOCATION:Corder Branch\, 221 N. Lafayette\, Corder\, MO\, 64021\, United States
CATEGORIES:Children,Kids,Pre-School,Preschool,Storytime,Toddlers
END:VEVENT
BEGIN:VEVENT
DTSTART;TZID=America/New_York:20260422T100000
DTEND;TZID=America/New_York:20260422T100000
DTSTAMP:20260425T175738
CREATED:20251215T201655Z
LAST-MODIFIED:20251215T201655Z
UID:10009838-1776852000-1776852000@www.trailslibrary.org
SUMMARY:Storytime - Holden Branch
DESCRIPTION:Ages 0-5: Storytimes are for building pre-reading skills\, making friends\, and having fun!
URL:https://www.trailslibrary.org/event/storytime-holden-branch-52/
LOCATION:Holden Branch\, 207 S. Main\, Holden\, MO\, 64040\, United States
CATEGORIES:Children,Kids,Pre-School,Preschool,Storytime,Toddlers
END:VEVENT
BEGIN:VEVENT
DTSTART;TZID=America/New_York:20260422T100000
DTEND;TZID=America/New_York:20260422T100000
DTSTAMP:20260425T175738
CREATED:20251215T202113Z
LAST-MODIFIED:20251215T202113Z
UID:10009883-1776852000-1776852000@www.trailslibrary.org
SUMMARY:Storytime - Knob Noster Branch
DESCRIPTION:Ages 0-5: Join us for engaging stories\, music\, and bubbles that encourage learning\, movement\, and a love of reading!
URL:https://www.trailslibrary.org/event/storytime-knob-noster-branch-55/
LOCATION:Knob Noster Branch\, 202 N. Adams\, Knob Noster\, MO\, 65336\, United States
CATEGORIES:Children,Kids,Pre-School,Preschool,Storytime,Toddlers
END:VEVENT
BEGIN:VEVENT
DTSTART;TZID=America/New_York:20260422T100000
DTEND;TZID=America/New_York:20260422T100000
DTSTAMP:20260425T175738
CREATED:20251215T202807Z
LAST-MODIFIED:20251215T202807Z
UID:10009920-1776852000-1776852000@www.trailslibrary.org
SUMMARY:Storytime - Lexington Branch
DESCRIPTION:Ages 0-5: Bring your little ones for storytime! Each week we read\, sing\, play and learn\, all while developing early literacy skills
URL:https://www.trailslibrary.org/event/storytime-lexington-branch-54/
LOCATION:Lexington Branch\, 1008 Main Street\, Lexington\, MO\, 64067\, United States
CATEGORIES:Children,Kids,Pre-School,Preschool,Storytime,Toddlers
END:VEVENT
BEGIN:VEVENT
DTSTART;TZID=America/New_York:20260422T100000
DTEND;TZID=America/New_York:20260422T100000
DTSTAMP:20260425T175738
CREATED:20251215T204655Z
LAST-MODIFIED:20251215T204655Z
UID:10010003-1776852000-1776852000@www.trailslibrary.org
SUMMARY:Storytime - Odessa Branch
DESCRIPTION:Ages 0-5: Storytimes are for building pre-reading skills\, making friends\, and having fun!
URL:https://www.trailslibrary.org/event/storytime-odessa-branch-81/
LOCATION:Odessa Branch\, 107 W. Mason\, Odessa\, MO\, 64076\, United States
CATEGORIES:Children,Kids,Pre-School,Preschool,Storytime,Toddlers
END:VEVENT
BEGIN:VEVENT
DTSTART;TZID=America/New_York:20260422T170000
DTEND;TZID=America/New_York:20260422T170000
DTSTAMP:20260425T175738
CREATED:20251215T210126Z
LAST-MODIFIED:20251215T210126Z
UID:10010124-1776877200-1776877200@www.trailslibrary.org
SUMMARY:Zumba - Warrensburg Branch
DESCRIPTION:Ages 19+: Get moving and have fun with a high-energy Zumba class at the library! This dance-fitness program combines Latin and international rhythms for a lively\, full-body workout that’s perfect for all fitness levels.
URL:https://www.trailslibrary.org/event/zumba-warrensburg-branch-12/
LOCATION:Warrensburg Branch\, 432 N. Holden\, Warrensburg\, Missouri\, 64093\, United States
CATEGORIES:Adult,Adults,senior,Seniors
END:VEVENT
BEGIN:VEVENT
DTSTART;TZID=America/New_York:20260423T100000
DTEND;TZID=America/New_York:20260423T100000
DTSTAMP:20260425T175738
CREATED:20251215T204655Z
LAST-MODIFIED:20251215T204655Z
UID:10010004-1776938400-1776938400@www.trailslibrary.org
SUMMARY:Storytime - Odessa Branch
DESCRIPTION:Ages 0-5: Storytimes are for building pre-reading skills\, making friends\, and having fun!
URL:https://www.trailslibrary.org/event/storytime-odessa-branch-82/
LOCATION:Odessa Branch\, 107 W. Mason\, Odessa\, MO\, 64076\, United States
CATEGORIES:Children,Kids,Pre-School,Preschool,Storytime,Toddlers
END:VEVENT
BEGIN:VEVENT
DTSTART;TZID=America/New_York:20260423T100000
DTEND;TZID=America/New_York:20260423T100000
DTSTAMP:20260425T175738
CREATED:20251215T205142Z
LAST-MODIFIED:20251215T205142Z
UID:10010050-1776938400-1776938400@www.trailslibrary.org
SUMMARY:Music & More - Warrensburg Branch
DESCRIPTION:Ages 0-5: Get ready to sing\, dance\, and shake those wiggles out! Join us for Music and More\, where children will explore a variety of musical instruments to boost sensory development\, coordination\, and early literacy and numeracy skills.
URL:https://www.trailslibrary.org/event/music-more-warrensburg-branch-39/
LOCATION:Warrensburg Branch\, 432 N. Holden\, Warrensburg\, Missouri\, 64093\, United States
CATEGORIES:Children,Kids,Pre-School,Preschool,Toddlers
END:VEVENT
BEGIN:VEVENT
DTSTART;TZID=America/New_York:20260423T113000
DTEND;TZID=America/New_York:20260423T113000
DTSTAMP:20260425T175738
CREATED:20251215T202028Z
LAST-MODIFIED:20251215T202028Z
UID:10009867-1776943800-1776943800@www.trailslibrary.org
SUMMARY:Sense & Seek - Knob Noster Branch
DESCRIPTION:Ages 0-5: Children will move through engaging stations that encourage them to touch\, see\, hear\, and explore the world around them in a fun and interactive way.
URL:https://www.trailslibrary.org/event/sense-seek-knob-noster-branch-2/
LOCATION:Knob Noster Branch\, 202 N. Adams\, Knob Noster\, MO\, 65336\, United States
CATEGORIES:Children,Kids,Pre-School,Preschool,Toddlers
END:VEVENT
BEGIN:VEVENT
DTSTART;TZID=America/New_York:20260423T153000
DTEND;TZID=America/New_York:20260423T153000
DTSTAMP:20260425T175738
CREATED:20251215T203020Z
LAST-MODIFIED:20251215T203020Z
UID:10009946-1776958200-1776958200@www.trailslibrary.org
SUMMARY:Decompression Den - Odessa Branch
DESCRIPTION:Ages 13-18: Take some time to unwind and enjoy some snacks at the library!
URL:https://www.trailslibrary.org/event/decompression-den-odessa-branch-4/
LOCATION:Odessa Branch\, 107 W. Mason\, Odessa\, MO\, 64076\, United States
CATEGORIES:Pre-Teen,Pre-Teens,Teen,Teens
END:VEVENT
BEGIN:VEVENT
DTSTART;TZID=America/New_York:20260423T160000
DTEND;TZID=America/New_York:20260423T160000
DTSTAMP:20260425T175738
CREATED:20251215T195306Z
LAST-MODIFIED:20251215T195306Z
UID:10009692-1776960000-1776960000@www.trailslibrary.org
SUMMARY:Afterschool Book Talk - Concordia Branch
DESCRIPTION:Ages 12-15: Come in after school to talk about books and have a snack.
URL:https://www.trailslibrary.org/event/afterschool-book-talk-concordia-branch-4/
LOCATION:Concordia Branch\, 813 S Main\, Concordia\, MO\, 64020\, United States
CATEGORIES:Book Club,Teen,Teens
END:VEVENT
BEGIN:VEVENT
DTSTART;TZID=America/New_York:20260423T170000
DTEND;TZID=America/New_York:20260423T170000
DTSTAMP:20260425T175738
CREATED:20251215T201942Z
LAST-MODIFIED:20251215T201942Z
UID:10009850-1776963600-1776963600@www.trailslibrary.org
SUMMARY:Book Club - Knob Noster Branch
DESCRIPTION:Ages 19+: Join us at book club to share your thoughts\, meet fellow book lovers\, and help us choose next month’s read!
URL:https://www.trailslibrary.org/event/book-club-knob-noster-branch-16/
LOCATION:Knob Noster Branch\, 202 N. Adams\, Knob Noster\, MO\, 65336\, United States
CATEGORIES:Adult,Adults,Book Club,senior,Seniors
END:VEVENT
BEGIN:VEVENT
DTSTART;TZID=America/New_York:20260424T093000
DTEND;TZID=America/New_York:20260424T093000
DTSTAMP:20260425T175738
CREATED:20251215T201127Z
LAST-MODIFIED:20251215T201127Z
UID:10009806-1777023000-1777023000@www.trailslibrary.org
SUMMARY:Yoga Fridays - Corder Branch
DESCRIPTION:Ages 19+: Join our gentle chair yoga class designed for all levels\, from beginners to those returning to practice.
URL:https://www.trailslibrary.org/event/yoga-fridays-corder-branch-65/
LOCATION:Corder Branch\, 221 N. Lafayette\, Corder\, MO\, 64021\, United States
CATEGORIES:Adult,Adults,senior,Seniors
END:VEVENT
BEGIN:VEVENT
DTSTART;TZID=America/New_York:20260425T100000
DTEND;TZID=America/New_York:20260425T100000
DTSTAMP:20260425T175738
CREATED:20251215T204831Z
LAST-MODIFIED:20251215T204831Z
UID:10010025-1777111200-1777111200@www.trailslibrary.org
SUMMARY:Crafty Family Fun - Warrensburg Branch
DESCRIPTION:All Ages: Join us for hands-on fun where kids can get creative using recycled\, repurposed\, and budget-friendly materials.
URL:https://www.trailslibrary.org/event/crafty-family-fun-warrensburg-branch-13/
LOCATION:Warrensburg Branch\, 432 N. Holden\, Warrensburg\, Missouri\, 64093\, United States
CATEGORIES:Adult,Adults,All Ages,Children,Crafts,Family,Kids,preteens,senior,Seniors,Teen,Teens,Youth
END:VEVENT
BEGIN:VEVENT
DTSTART;TZID=America/New_York:20260425T110000
DTEND;TZID=America/New_York:20260425T110000
DTSTAMP:20260425T175738
CREATED:20251215T201855Z
LAST-MODIFIED:20251215T201855Z
UID:10009843-1777114800-1777114800@www.trailslibrary.org
SUMMARY:Wonder Works for Kids - Holden Branch
DESCRIPTION:Ages 6-12: Join us for a hands-on learning adventure where kids explore creativity\, curiosity\, and new skills through fun\, engaging activities designed to spark imagination.
URL:https://www.trailslibrary.org/event/wonder-works-for-kids-holden-branch-2/
LOCATION:Holden Branch\, 207 S. Main\, Holden\, MO\, 64040\, United States
CATEGORIES:Children,Kids,Youth
END:VEVENT
BEGIN:VEVENT
DTSTART;TZID=America/New_York:20260425T113000
DTEND;TZID=America/New_York:20260425T113000
DTSTAMP:20260425T175738
CREATED:20251216T225500Z
LAST-MODIFIED:20251216T225500Z
UID:10010156-1777116600-1777116600@www.trailslibrary.org
SUMMARY:Mini Paper Mache Volcanoes - Corder Branch
DESCRIPTION:Ages 6-18: Get ready for some explosive fun! Join us to build your own mini paper mache volcano and let your creativity errupt as you design and paint your unique creation!
URL:https://www.trailslibrary.org/event/mini-paper-mache-volcanoes-corder-branch-2/
LOCATION:Corder Branch\, 221 N. Lafayette\, Corder\, MO\, 64021\, United States
CATEGORIES:Children,Crafts,Kids,Pre-Teen,Pre-Teens,Teen,Teens
END:VEVENT
BEGIN:VEVENT
DTSTART;TZID=America/New_York:20260425T120000
DTEND;TZID=America/New_York:20260425T120000
DTSTAMP:20260425T175738
CREATED:20251215T203221Z
LAST-MODIFIED:20251215T203221Z
UID:10009951-1777118400-1777118400@www.trailslibrary.org
SUMMARY:Here to Skein\, Yarn Tomorrow - Odessa Branch
DESCRIPTION:Ages 19+: Bring an independent fiber art or small craft project to work on while you socialize\, and trade tips and tricks with others!
URL:https://www.trailslibrary.org/event/here-to-skein-yarn-tomorrow-odessa-branch-4/
LOCATION:Odessa Branch\, 107 W. Mason\, Odessa\, MO\, 64076\, United States
CATEGORIES:Adult,Adults,Crafts,senior,Seniors
END:VEVENT
BEGIN:VEVENT
DTSTART;TZID=America/New_York:20260427T093000
DTEND;TZID=America/New_York:20260427T093000
DTSTAMP:20260425T175738
CREATED:20251215T200942Z
LAST-MODIFIED:20251215T200942Z
UID:10009772-1777282200-1777282200@www.trailslibrary.org
SUMMARY:Monday Melodies - Corder Branch
DESCRIPTION:Ages 0-5: Join us for fun-filled music and movement sessions tailored for toddlers!
URL:https://www.trailslibrary.org/event/monday-melodies-corder-branch-48/
LOCATION:Corder Branch\, 221 N. Lafayette\, Corder\, MO\, 64021\, United States
CATEGORIES:Children,Kids,Pre-School,Preschool,Toddlers
END:VEVENT
BEGIN:VEVENT
DTSTART;TZID=America/New_York:20260427T100000
DTEND;TZID=America/New_York:20260427T100000
DTSTAMP:20260425T175738
CREATED:20251215T210252Z
LAST-MODIFIED:20251215T210252Z
UID:10010152-1777284000-1777284000@www.trailslibrary.org
SUMMARY:Storytime Adventures - Waverly Branch
DESCRIPTION:Ages 0-5: Wiggle\, giggle\, and listen! This storytime is perfect for toddlers.
URL:https://www.trailslibrary.org/event/storytime-adventures-waverly-branch-40/
LOCATION:Waverly Branch\, 203 E. Kelling\, Waverly\, MO\, 64096\, United States
CATEGORIES:Children,Kids,Pre-School,Preschool,Storytime,Toddlers
END:VEVENT
BEGIN:VEVENT
DTSTART;TZID=America/New_York:20260427T130000
DTEND;TZID=America/New_York:20260427T130000
DTSTAMP:20260425T175738
CREATED:20251215T201027Z
LAST-MODIFIED:20251215T201027Z
UID:10009786-1777294800-1777294800@www.trailslibrary.org
SUMMARY:Move to the Beat - Corder Branch
DESCRIPTION:Ages 19+: Join us for cardio drumming with yoga balls!
URL:https://www.trailslibrary.org/event/move-to-the-beat-corder-branch-34/
LOCATION:Corder Branch\, 221 N. Lafayette\, Corder\, MO\, 64021\, United States
CATEGORIES:Adult,Adults,senior,Seniors
END:VEVENT
BEGIN:VEVENT
DTSTART;TZID=America/New_York:20260427T140000
DTEND;TZID=America/New_York:20260427T140000
DTSTAMP:20260425T175738
CREATED:20251215T201028Z
LAST-MODIFIED:20251216T225501Z
UID:10009789-1777298400-1777298400@www.trailslibrary.org
SUMMARY:S.T.E.A.M. Team - Corder Branch
DESCRIPTION:Ages 6-12: Activities based on science\, technology\, engineering\, art and math!
URL:https://www.trailslibrary.org/event/s-t-e-a-m-team-corder-branch-11/
LOCATION:Corder Branch\, 221 N. Lafayette\, Corder\, MO\, 64021\, United States
CATEGORIES:Children,Kids,STEAM
END:VEVENT
END:VCALENDAR