BEGIN:VCALENDAR
VERSION:2.0
PRODID:-//Trails Regional Library - ECPv6.15.20//NONSGML v1.0//EN
CALSCALE:GREGORIAN
METHOD:PUBLISH
X-WR-CALNAME:Trails Regional Library
X-ORIGINAL-URL:https://www.trailslibrary.org
X-WR-CALDESC:Events for Trails Regional Library
REFRESH-INTERVAL;VALUE=DURATION:PT1H
X-Robots-Tag:noindex
X-PUBLISHED-TTL:PT1H
BEGIN:VTIMEZONE
TZID:America/New_York
BEGIN:DAYLIGHT
TZOFFSETFROM:-0500
TZOFFSETTO:-0400
TZNAME:EDT
DTSTART:20250309T070000
END:DAYLIGHT
BEGIN:STANDARD
TZOFFSETFROM:-0400
TZOFFSETTO:-0500
TZNAME:EST
DTSTART:20251102T060000
END:STANDARD
BEGIN:DAYLIGHT
TZOFFSETFROM:-0500
TZOFFSETTO:-0400
TZNAME:EDT
DTSTART:20260308T070000
END:DAYLIGHT
BEGIN:STANDARD
TZOFFSETFROM:-0400
TZOFFSETTO:-0500
TZNAME:EST
DTSTART:20261101T060000
END:STANDARD
BEGIN:DAYLIGHT
TZOFFSETFROM:-0500
TZOFFSETTO:-0400
TZNAME:EDT
DTSTART:20270314T070000
END:DAYLIGHT
BEGIN:STANDARD
TZOFFSETFROM:-0400
TZOFFSETTO:-0500
TZNAME:EST
DTSTART:20271107T060000
END:STANDARD
END:VTIMEZONE
BEGIN:VEVENT
DTSTART;TZID=America/New_York:20260218T140000
DTEND;TZID=America/New_York:20260218T140000
DTSTAMP:20260425T082017
CREATED:20251215T202129Z
LAST-MODIFIED:20251215T202129Z
UID:10009887-1771423200-1771423200@www.trailslibrary.org
SUMMARY:Teen Scene - Knob Noster Branch
DESCRIPTION:Ages 13-18: Grab a snack\, try a fun activity\, and relax with friends in a space made just for teens.
URL:https://www.trailslibrary.org/event/teen-scene-knob-noster-branch-2/
LOCATION:Knob Noster Branch\, 202 N. Adams\, Knob Noster\, MO\, 65336\, United States
CATEGORIES:Pre-Teen,Pre-Teens,Teen,Teens
END:VEVENT
BEGIN:VEVENT
DTSTART;TZID=America/New_York:20260218T140000
DTEND;TZID=America/New_York:20260218T140000
DTSTAMP:20260425T082017
CREATED:20251215T210205Z
LAST-MODIFIED:20251215T210205Z
UID:10010131-1771423200-1771423200@www.trailslibrary.org
SUMMARY:Remember When - Waverly Branch
DESCRIPTION:Ages 19+: Come and reflect on your memories from the past. Bring pictures and such to share.
URL:https://www.trailslibrary.org/event/remember-when-waverly-branch-2/
LOCATION:Waverly Branch\, 203 E. Kelling\, Waverly\, MO\, 64096\, United States
CATEGORIES:Adult,Adults,senior,Seniors
END:VEVENT
BEGIN:VEVENT
DTSTART;TZID=America/New_York:20260218T170000
DTEND;TZID=America/New_York:20260218T170000
DTSTAMP:20260425T082017
CREATED:20251215T204801Z
LAST-MODIFIED:20251215T204801Z
UID:10010015-1771434000-1771434000@www.trailslibrary.org
SUMMARY:Bunco - Warrensburg Branch
DESCRIPTION:Ages 19+: Join the fun and excitement of Bunco at the Library—everyone’s welcome\, no experience needed!
URL:https://www.trailslibrary.org/event/bunco-warrensburg-branch-7/
LOCATION:Warrensburg Branch\, 432 N. Holden\, Warrensburg\, Missouri\, 64093\, United States
CATEGORIES:Adult,Adults,senior,Seniors
END:VEVENT
BEGIN:VEVENT
DTSTART;TZID=America/New_York:20260219T100000
DTEND;TZID=America/New_York:20260219T100000
DTSTAMP:20260425T082017
CREATED:20251215T204249Z
LAST-MODIFIED:20251215T204249Z
UID:10009988-1771495200-1771495200@www.trailslibrary.org
SUMMARY:Storytime - Odessa Branch
DESCRIPTION:Ages 0-5: Storytimes are for building pre-reading skills\, making friends\, and having fun!
URL:https://www.trailslibrary.org/event/storytime-odessa-branch-66/
LOCATION:Odessa Branch\, 107 W. Mason\, Odessa\, MO\, 64076\, United States
CATEGORIES:Children,Kids,Pre-School,Preschool,Storytime,Toddlers
END:VEVENT
BEGIN:VEVENT
DTSTART;TZID=America/New_York:20260219T100000
DTEND;TZID=America/New_York:20260219T100000
DTSTAMP:20260425T082018
CREATED:20251215T204917Z
LAST-MODIFIED:20251215T204917Z
UID:10010041-1771495200-1771495200@www.trailslibrary.org
SUMMARY:Music & More - Warrensburg Branch
DESCRIPTION:Ages 0-5: Get ready to sing\, dance\, and shake those wiggles out! Join us for Music and More\, where children will explore a variety of musical instruments to boost sensory development\, coordination\, and early literacy and numeracy skills.
URL:https://www.trailslibrary.org/event/music-more-warrensburg-branch-30/
LOCATION:Warrensburg Branch\, 432 N. Holden\, Warrensburg\, Missouri\, 64093\, United States
CATEGORIES:Children,Kids,Pre-School,Preschool,Toddlers
END:VEVENT
BEGIN:VEVENT
DTSTART;TZID=America/New_York:20260219T153000
DTEND;TZID=America/New_York:20260219T153000
DTSTAMP:20260425T082018
CREATED:20251215T202911Z
LAST-MODIFIED:20251215T202911Z
UID:10009927-1771515000-1771515000@www.trailslibrary.org
SUMMARY:Tween Time - Lexington Branch
DESCRIPTION:Ages 13-18: Come hang out with friends for an afternoon of fun! Whether you like crafting\, playing games\, or science experiments\, there’s something for everyone!
URL:https://www.trailslibrary.org/event/tween-time-lexington-branch-12/
LOCATION:Lexington Branch\, 1008 Main Street\, Lexington\, MO\, 64067\, United States
CATEGORIES:Crafts,Pre-Teen,Pre-Teens,Teen,Teens
END:VEVENT
BEGIN:VEVENT
DTSTART;TZID=America/New_York:20260219T160000
DTEND;TZID=America/New_York:20260219T160000
DTSTAMP:20260425T082018
CREATED:20251215T200138Z
LAST-MODIFIED:20251215T200138Z
UID:10009728-1771516800-1771516800@www.trailslibrary.org
SUMMARY:STEAM Day - Concordia Branch
DESCRIPTION:Ages 6-12: STEM + Art = STEAM It’s an equation for fun!
URL:https://www.trailslibrary.org/event/steam-day-concordia-branch-5/
LOCATION:Concordia Branch\, 813 S Main\, Concordia\, MO\, 64020\, United States
CATEGORIES:Children,Kids,STEAM
END:VEVENT
BEGIN:VEVENT
DTSTART;TZID=America/New_York:20260219T170000
DTEND;TZID=America/New_York:20260219T170000
DTSTAMP:20260425T082018
CREATED:20251215T202948Z
LAST-MODIFIED:20251215T202948Z
UID:10009932-1771520400-1771520400@www.trailslibrary.org
SUMMARY:Book Lovers' Book Club - Odessa Branch
DESCRIPTION:Ages 19+: Adult book club that meets once a month to discuss their book of choice. This month’s book of choice open for discussion is Frankenstein by Mary Shelley.
URL:https://www.trailslibrary.org/event/book-lovers-book-club-odessa-branch-15/
LOCATION:Odessa Branch\, 107 W. Mason\, Odessa\, MO\, 64076\, United States
CATEGORIES:Adult,Adults,Book Club,senior,Seniors
END:VEVENT
BEGIN:VEVENT
DTSTART;TZID=America/New_York:20260219T173000
DTEND;TZID=America/New_York:20260219T173000
DTSTAMP:20260425T082018
CREATED:20251215T202128Z
LAST-MODIFIED:20251215T202128Z
UID:10009885-1771522200-1771522200@www.trailslibrary.org
SUMMARY:Swipe Painting - Knob Noster Branch
DESCRIPTION:Ages 19+: Try a new style of art using blobs of paint and a squeegee. Every swipe makes a surprise design!
URL:https://www.trailslibrary.org/event/swipe-painting-knob-noster-branch/
LOCATION:Knob Noster Branch\, 202 N. Adams\, Knob Noster\, MO\, 65336\, United States
CATEGORIES:Adult,Adults,Crafts,senior,Seniors
END:VEVENT
BEGIN:VEVENT
DTSTART;TZID=America/New_York:20260220T093000
DTEND;TZID=America/New_York:20260220T093000
DTSTAMP:20260425T082018
CREATED:20251215T201057Z
LAST-MODIFIED:20251215T201057Z
UID:10009798-1771579800-1771579800@www.trailslibrary.org
SUMMARY:Yoga Fridays - Corder Branch
DESCRIPTION:Ages 19+: Join our gentle chair yoga class designed for all levels\, from beginners to those returning to practice.
URL:https://www.trailslibrary.org/event/yoga-fridays-corder-branch-57/
LOCATION:Corder Branch\, 221 N. Lafayette\, Corder\, MO\, 64021\, United States
CATEGORIES:Adult,Adults,senior,Seniors
END:VEVENT
BEGIN:VEVENT
DTSTART;TZID=America/New_York:20260220T140000
DTEND;TZID=America/New_York:20260220T140000
DTSTAMP:20260425T082018
CREATED:20251215T204831Z
LAST-MODIFIED:20251215T204831Z
UID:10010027-1771596000-1771596000@www.trailslibrary.org
SUMMARY:Fall Prevention - Warrensburg Branch
DESCRIPTION:Ages 19+: Join us for an engaging and practical session designed to help you stay steady on your feet and maintain independence as you age. Led by experienced health professionals from Johnson County Community Health Services\, this program focuses on fall prevention strategies and easy\, effective home exercises you can do daily to improve balance\, strength\, and confidence.
URL:https://www.trailslibrary.org/event/fall-prevention-warrensburg-branch/
LOCATION:Warrensburg Branch\, 432 N. Holden\, Warrensburg\, Missouri\, 64093\, United States
CATEGORIES:Adult,Adults,Guest Presenter,senior,Seniors
END:VEVENT
BEGIN:VEVENT
DTSTART;TZID=America/New_York:20260221T100000
DTEND;TZID=America/New_York:20260221T100000
DTSTAMP:20260425T082018
CREATED:20251215T200811Z
LAST-MODIFIED:20251215T200811Z
UID:10009755-1771668000-1771668000@www.trailslibrary.org
SUMMARY:Book Folding Creations - Corder Branch
DESCRIPTION:Ages 19+: Learn how to do book folding art!
URL:https://www.trailslibrary.org/event/book-folding-creations-corder-branch-5/
LOCATION:Corder Branch\, 221 N. Lafayette\, Corder\, MO\, 64021\, United States
CATEGORIES:Adult,Adults,Crafts,senior,Seniors
END:VEVENT
BEGIN:VEVENT
DTSTART;TZID=America/New_York:20260221T100000
DTEND;TZID=America/New_York:20260221T100000
DTSTAMP:20260425T082018
CREATED:20251215T205646Z
LAST-MODIFIED:20251215T205646Z
UID:10010085-1771668000-1771668000@www.trailslibrary.org
SUMMARY:RED - Warrensburg Branch
DESCRIPTION:Ages 6-12: Dive into hands-on activities and technology to explore\, build\, and create amazing projects that blend science\, engineering\, and art.
URL:https://www.trailslibrary.org/event/red-warrensburg-branch-10/
LOCATION:Warrensburg Branch\, 432 N. Holden\, Warrensburg\, Missouri\, 64093\, United States
CATEGORIES:Children,Kids,STEAM
END:VEVENT
BEGIN:VEVENT
DTSTART;TZID=America/New_York:20260221T140000
DTEND;TZID=America/New_York:20260221T140000
DTSTAMP:20260425T082018
CREATED:20251215T203004Z
LAST-MODIFIED:20251215T203004Z
UID:10009940-1771682400-1771682400@www.trailslibrary.org
SUMMARY:Bunco - Odessa Branch
DESCRIPTION:Ages 19+: Bunco\, Library Edition! Roll the dice\, have fun\, and win prizes—perfect for beginners and seasoned players alike!
URL:https://www.trailslibrary.org/event/bunco-odessa-branch-5/
LOCATION:Odessa Branch\, 107 W. Mason\, Odessa\, MO\, 64076\, United States
CATEGORIES:Adult,Adults,senior,Seniors
END:VEVENT
BEGIN:VEVENT
DTSTART;TZID=America/New_York:20260221T140000
DTEND;TZID=America/New_York:20260221T140000
DTSTAMP:20260425T082018
CREATED:20251215T204801Z
LAST-MODIFIED:20251215T204801Z
UID:10010017-1771682400-1771682400@www.trailslibrary.org
SUMMARY:Celebrate Black History Month - Warrensburg Branch
DESCRIPTION:Ages 19+: Join the Johnson County Historical Society for an inspiring and educational celebration of Black History Month!\nExplore the rich\, often untold stories of African American individuals and families who helped shape Johnson County from the days of settlement through the Civil Rights era and beyond.
URL:https://www.trailslibrary.org/event/celebrate-black-history-month-warrensburg-branch/
LOCATION:Warrensburg Branch\, 432 N. Holden\, Warrensburg\, Missouri\, 64093\, United States
CATEGORIES:Adult,Adults,Guest Speakers,senior,Seniors
END:VEVENT
BEGIN:VEVENT
DTSTART;TZID=America/New_York:20260224T100000
DTEND;TZID=America/New_York:20260224T100000
DTSTAMP:20260425T082018
CREATED:20251215T195338Z
LAST-MODIFIED:20251215T195338Z
UID:10009708-1771927200-1771927200@www.trailslibrary.org
SUMMARY:Bubbly Storytime - Concordia Branch
DESCRIPTION:Ages 0-5: Storytimes are for building pre-reading skills\, making friends and having fun! And there will be bubbles!
URL:https://www.trailslibrary.org/event/bubbly-storytime-concordia-branch-46/
LOCATION:Concordia Branch\, 813 S Main\, Concordia\, MO\, 64020\, United States
CATEGORIES:Children,Kids,Pre-School,Preschool,Storytime,Toddlers
END:VEVENT
BEGIN:VEVENT
DTSTART;TZID=America/New_York:20260224T100000
DTEND;TZID=America/New_York:20260224T100000
DTSTAMP:20260425T082018
CREATED:20251215T205506Z
LAST-MODIFIED:20251215T205506Z
UID:10010066-1771927200-1771927200@www.trailslibrary.org
SUMMARY:One-on-One TECHtorials - Warrensburg Branch
DESCRIPTION:Ages 19+ REGISTRATION REQUIRED: Get personalized tech help with your smartphone\, tablet\, or laptop—perfect for learning the basics or building your confidence. Appointments are required and must be scheduled at least 24 hours in advance.
URL:https://www.trailslibrary.org/event/one-on-one-techtorials-warrensburg-branch-25/
LOCATION:Warrensburg Branch\, 432 N. Holden\, Warrensburg\, Missouri\, 64093\, United States
CATEGORIES:Adult,Adults,senior,Seniors,Technology
END:VEVENT
BEGIN:VEVENT
DTSTART;TZID=America/New_York:20260224T100000
DTEND;TZID=America/New_York:20260224T100000
DTSTAMP:20260425T082018
CREATED:20251215T205702Z
LAST-MODIFIED:20251215T205702Z
UID:10010093-1771927200-1771927200@www.trailslibrary.org
SUMMARY:Storytime - Warrensburg Branch
DESCRIPTION:Ages 0-5: Join us for a lively storytime filled with engaging stories\, music\, dancing\, crafts\, and plenty of bubbles! It’s a fun-filled adventure perfect for little ones and their grown-ups.
URL:https://www.trailslibrary.org/event/storytime-warrensburg-branch-81/
LOCATION:Warrensburg Branch\, 432 N. Holden\, Warrensburg\, Missouri\, 64093\, United States
CATEGORIES:Children,Kids,Pre-School,Preschool,Storytime,Toddlers
END:VEVENT
BEGIN:VEVENT
DTSTART;TZID=America/New_York:20260224T143000
DTEND;TZID=America/New_York:20260224T143000
DTSTAMP:20260425T082018
CREATED:20251215T205759Z
LAST-MODIFIED:20251215T205759Z
UID:10010094-1771943400-1771943400@www.trailslibrary.org
SUMMARY:Storytime - Warrensburg Branch
DESCRIPTION:Ages 0-5: Join us for a lively storytime filled with engaging stories\, music\, dancing\, crafts\, and plenty of bubbles! It’s a fun-filled adventure perfect for little ones and their grown-ups.
URL:https://www.trailslibrary.org/event/storytime-warrensburg-branch-82/
LOCATION:Warrensburg Branch\, 432 N. Holden\, Warrensburg\, Missouri\, 64093\, United States
CATEGORIES:Children,Kids,Pre-School,Preschool,Storytime,Toddlers
END:VEVENT
BEGIN:VEVENT
DTSTART;TZID=America/New_York:20260224T153000
DTEND;TZID=America/New_York:20260224T153000
DTSTAMP:20260425T082018
CREATED:20251215T202028Z
LAST-MODIFIED:20251215T202028Z
UID:10009865-1771947000-1771947000@www.trailslibrary.org
SUMMARY:Pipette Painting - Knob Noster Branch
DESCRIPTION:Ages 6-12: Experiment with color and creativity! Use droppers to make fun designs on white felt.
URL:https://www.trailslibrary.org/event/pipette-painting-knob-noster-branch/
LOCATION:Knob Noster Branch\, 202 N. Adams\, Knob Noster\, MO\, 65336\, United States
CATEGORIES:Children,Crafts,Kids
END:VEVENT
BEGIN:VEVENT
DTSTART;TZID=America/New_York:20260224T163000
DTEND;TZID=America/New_York:20260224T163000
DTSTAMP:20260425T082018
CREATED:20251215T195308Z
LAST-MODIFIED:20251215T195308Z
UID:10009698-1771950600-1771950600@www.trailslibrary.org
SUMMARY:Book Club - Concordia Branch
DESCRIPTION:Ages 19+: Make new friends and discover new books! This month we will discuss All the Colors of the Dark by Chris Whitaker.
URL:https://www.trailslibrary.org/event/book-club-concordia-branch-14/
LOCATION:Concordia Branch\, 813 S Main\, Concordia\, MO\, 64020\, United States
CATEGORIES:Adult,Adults,Book Club,senior,Seniors
END:VEVENT
BEGIN:VEVENT
DTSTART;TZID=America/New_York:20260224T170000
DTEND;TZID=America/New_York:20260224T170000
DTSTAMP:20260425T082018
CREATED:20251215T204846Z
LAST-MODIFIED:20251215T204846Z
UID:10010032-1771952400-1771952400@www.trailslibrary.org
SUMMARY:Literary Antics - Warrensburg Branch
DESCRIPTION:Ages 19+ REGISTRATION REQUIRED: Transform retired books into one-of-a-kind crafts in this creative program!
URL:https://www.trailslibrary.org/event/literary-antics-warrensburg-branch-8/
LOCATION:Warrensburg Branch\, 432 N. Holden\, Warrensburg\, Missouri\, 64093\, United States
CATEGORIES:Adult,Adults,Crafts,senior,Seniors
END:VEVENT
BEGIN:VEVENT
DTSTART;TZID=America/New_York:20260225T100000
DTEND;TZID=America/New_York:20260225T100000
DTSTAMP:20260425T082018
CREATED:20251215T200640Z
LAST-MODIFIED:20251215T200640Z
UID:10009737-1772013600-1772013600@www.trailslibrary.org
SUMMARY:Storytime - Corder Branch
DESCRIPTION:Ages 0-5: Storytimes are for building reading skills\, making friends\, and having fun!
URL:https://www.trailslibrary.org/event/storytime-corder-branch-41/
LOCATION:Corder Branch\, 221 N. Lafayette\, Corder\, MO\, 64021\, United States
CATEGORIES:Children,Kids,Pre-School,Preschool,Storytime,Toddlers
END:VEVENT
BEGIN:VEVENT
DTSTART;TZID=America/New_York:20260225T100000
DTEND;TZID=America/New_York:20260225T100000
DTSTAMP:20260425T082018
CREATED:20251215T201225Z
LAST-MODIFIED:20251215T201225Z
UID:10009821-1772013600-1772013600@www.trailslibrary.org
SUMMARY:Storytime - Holden Branch
DESCRIPTION:Ages 0-5: Storytimes are for building pre-reading skills\, making friends\, and having fun!
URL:https://www.trailslibrary.org/event/storytime-holden-branch-44/
LOCATION:Holden Branch\, 207 S. Main\, Holden\, MO\, 64040\, United States
CATEGORIES:Children,Kids,Pre-School,Preschool,Storytime,Toddlers
END:VEVENT
BEGIN:VEVENT
DTSTART;TZID=America/New_York:20260225T100000
DTEND;TZID=America/New_York:20260225T100000
DTSTAMP:20260425T082018
CREATED:20251215T202057Z
LAST-MODIFIED:20251215T202057Z
UID:10009875-1772013600-1772013600@www.trailslibrary.org
SUMMARY:Storytime - Knob Noster Branch
DESCRIPTION:Ages 0-5: Join us for engaging stories\, music\, and bubbles that encourage learning\, movement\, and a love of reading!
URL:https://www.trailslibrary.org/event/storytime-knob-noster-branch-47/
LOCATION:Knob Noster Branch\, 202 N. Adams\, Knob Noster\, MO\, 65336\, United States
CATEGORIES:Children,Kids,Pre-School,Preschool,Storytime,Toddlers
END:VEVENT
BEGIN:VEVENT
DTSTART;TZID=America/New_York:20260225T100000
DTEND;TZID=America/New_York:20260225T100000
DTSTAMP:20260425T082018
CREATED:20251215T202611Z
LAST-MODIFIED:20251215T202611Z
UID:10009912-1772013600-1772013600@www.trailslibrary.org
SUMMARY:Storytime - Lexington Branch
DESCRIPTION:Ages 0-5: Bring your little ones for storytime! Each week we read\, sing\, play and learn\, all while developing early literacy skills
URL:https://www.trailslibrary.org/event/storytime-lexington-branch-46/
LOCATION:Lexington Branch\, 1008 Main Street\, Lexington\, MO\, 64067\, United States
CATEGORIES:Children,Kids,Pre-School,Preschool,Storytime,Toddlers
END:VEVENT
BEGIN:VEVENT
DTSTART;TZID=America/New_York:20260225T100000
DTEND;TZID=America/New_York:20260225T100000
DTSTAMP:20260425T082018
CREATED:20251215T204250Z
LAST-MODIFIED:20251215T204250Z
UID:10009989-1772013600-1772013600@www.trailslibrary.org
SUMMARY:Storytime - Odessa Branch
DESCRIPTION:Ages 0-5: Storytimes are for building pre-reading skills\, making friends\, and having fun!
URL:https://www.trailslibrary.org/event/storytime-odessa-branch-67/
LOCATION:Odessa Branch\, 107 W. Mason\, Odessa\, MO\, 64076\, United States
CATEGORIES:Children,Kids,Pre-School,Preschool,Storytime,Toddlers
END:VEVENT
BEGIN:VEVENT
DTSTART;TZID=America/New_York:20260225T130000
DTEND;TZID=America/New_York:20260225T130000
DTSTAMP:20260425T082018
CREATED:20251215T201240Z
LAST-MODIFIED:20251215T201240Z
UID:10009824-1772024400-1772024400@www.trailslibrary.org
SUMMARY:The Plot Thickens Book Club - Holden Branch
DESCRIPTION:Ages 19+: Join us on the last Wednesday of every month for an engaging book club\, where we will discover new books and connect through meaningful discussions.
URL:https://www.trailslibrary.org/event/the-plot-thickens-book-club-holden-branch-2/
LOCATION:Holden Branch\, 207 S. Main\, Holden\, MO\, 64040\, United States
CATEGORIES:Adult,Adults,Book Club,senior,Seniors
END:VEVENT
BEGIN:VEVENT
DTSTART;TZID=America/New_York:20260225T170000
DTEND;TZID=America/New_York:20260225T170000
DTSTAMP:20260425T082018
CREATED:20251215T210036Z
LAST-MODIFIED:20251215T210036Z
UID:10010120-1772038800-1772038800@www.trailslibrary.org
SUMMARY:Zumba - Warrensburg Branch
DESCRIPTION:Ages 19+: Get moving and have fun with a high-energy Zumba class at the library! This dance-fitness program combines Latin and international rhythms for a lively\, full-body workout that’s perfect for all fitness levels.
URL:https://www.trailslibrary.org/event/zumba-warrensburg-branch-8/
LOCATION:Warrensburg Branch\, 432 N. Holden\, Warrensburg\, Missouri\, 64093\, United States
CATEGORIES:Adult,Adults,senior,Seniors
END:VEVENT
BEGIN:VEVENT
DTSTART;TZID=America/New_York:20260226T100000
DTEND;TZID=America/New_York:20260226T100000
DTSTAMP:20260425T082018
CREATED:20251215T204438Z
LAST-MODIFIED:20251215T204438Z
UID:10009990-1772100000-1772100000@www.trailslibrary.org
SUMMARY:Storytime - Odessa Branch
DESCRIPTION:Ages 0-5: Storytimes are for building pre-reading skills\, making friends\, and having fun!
URL:https://www.trailslibrary.org/event/storytime-odessa-branch-68/
LOCATION:Odessa Branch\, 107 W. Mason\, Odessa\, MO\, 64076\, United States
CATEGORIES:Children,Kids,Pre-School,Preschool,Storytime,Toddlers
END:VEVENT
END:VCALENDAR