BEGIN:VCALENDAR
VERSION:2.0
PRODID:-//Trails Regional Library - ECPv6.15.20//NONSGML v1.0//EN
CALSCALE:GREGORIAN
METHOD:PUBLISH
X-WR-CALNAME:Trails Regional Library
X-ORIGINAL-URL:https://www.trailslibrary.org
X-WR-CALDESC:Events for Trails Regional Library
REFRESH-INTERVAL;VALUE=DURATION:PT1H
X-Robots-Tag:noindex
X-PUBLISHED-TTL:PT1H
BEGIN:VTIMEZONE
TZID:America/New_York
BEGIN:DAYLIGHT
TZOFFSETFROM:-0500
TZOFFSETTO:-0400
TZNAME:EDT
DTSTART:20260308T070000
END:DAYLIGHT
BEGIN:STANDARD
TZOFFSETFROM:-0400
TZOFFSETTO:-0500
TZNAME:EST
DTSTART:20261101T060000
END:STANDARD
BEGIN:DAYLIGHT
TZOFFSETFROM:-0500
TZOFFSETTO:-0400
TZNAME:EDT
DTSTART:20270314T070000
END:DAYLIGHT
BEGIN:STANDARD
TZOFFSETFROM:-0400
TZOFFSETTO:-0500
TZNAME:EST
DTSTART:20271107T060000
END:STANDARD
BEGIN:DAYLIGHT
TZOFFSETFROM:-0500
TZOFFSETTO:-0400
TZNAME:EDT
DTSTART:20280312T070000
END:DAYLIGHT
BEGIN:STANDARD
TZOFFSETFROM:-0400
TZOFFSETTO:-0500
TZNAME:EST
DTSTART:20281105T060000
END:STANDARD
BEGIN:DAYLIGHT
TZOFFSETFROM:-0500
TZOFFSETTO:-0400
TZNAME:EDT
DTSTART:20290311T070000
END:DAYLIGHT
BEGIN:STANDARD
TZOFFSETFROM:-0400
TZOFFSETTO:-0500
TZNAME:EST
DTSTART:20291104T060000
END:STANDARD
END:VTIMEZONE
BEGIN:VEVENT
DTSTART;TZID=America/New_York:20270215T000000
DTEND;TZID=America/New_York:20270215T235959
DTSTAMP:20260419T091530
CREATED:20240214T200057Z
LAST-MODIFIED:20240214T200058Z
UID:10007445-1802649600-1802735999@www.trailslibrary.org
SUMMARY:Closure Notice - President's Day
DESCRIPTION:All locations of Trails Regional Library will be closed in observance of President’s Day. We will reopen tomorrow for normal hours.
URL:https://www.trailslibrary.org/event/closure-notice-presidents-day/2027-02-15/
CATEGORIES:Everyone
END:VEVENT
BEGIN:VEVENT
DTSTART;TZID=America/New_York:20280221T000000
DTEND;TZID=America/New_York:20280221T235959
DTSTAMP:20260419T091530
CREATED:20240214T200057Z
LAST-MODIFIED:20240214T200058Z
UID:10007446-1834704000-1834790399@www.trailslibrary.org
SUMMARY:Closure Notice - President's Day
DESCRIPTION:All locations of Trails Regional Library will be closed in observance of President’s Day. We will reopen tomorrow for normal hours.
URL:https://www.trailslibrary.org/event/closure-notice-presidents-day/2028-02-21/
CATEGORIES:Everyone
END:VEVENT
END:VCALENDAR