BEGIN:VCALENDAR
VERSION:2.0
PRODID:-//Trails Regional Library - ECPv6.15.20//NONSGML v1.0//EN
CALSCALE:GREGORIAN
METHOD:PUBLISH
X-WR-CALNAME:Trails Regional Library
X-ORIGINAL-URL:https://www.trailslibrary.org
X-WR-CALDESC:Events for Trails Regional Library
REFRESH-INTERVAL;VALUE=DURATION:PT1H
X-Robots-Tag:noindex
X-PUBLISHED-TTL:PT1H
BEGIN:VTIMEZONE
TZID:America/New_York
BEGIN:DAYLIGHT
TZOFFSETFROM:-0500
TZOFFSETTO:-0400
TZNAME:EDT
DTSTART:20240310T070000
END:DAYLIGHT
BEGIN:STANDARD
TZOFFSETFROM:-0400
TZOFFSETTO:-0500
TZNAME:EST
DTSTART:20241103T060000
END:STANDARD
BEGIN:DAYLIGHT
TZOFFSETFROM:-0500
TZOFFSETTO:-0400
TZNAME:EDT
DTSTART:20250309T070000
END:DAYLIGHT
BEGIN:STANDARD
TZOFFSETFROM:-0400
TZOFFSETTO:-0500
TZNAME:EST
DTSTART:20251102T060000
END:STANDARD
BEGIN:DAYLIGHT
TZOFFSETFROM:-0500
TZOFFSETTO:-0400
TZNAME:EDT
DTSTART:20260308T070000
END:DAYLIGHT
BEGIN:STANDARD
TZOFFSETFROM:-0400
TZOFFSETTO:-0500
TZNAME:EST
DTSTART:20261101T060000
END:STANDARD
END:VTIMEZONE
BEGIN:VEVENT
DTSTART;TZID=America/New_York:20251001T100000
DTEND;TZID=America/New_York:20251001T100000
DTSTAMP:20260425T221626
CREATED:20250911T140509Z
LAST-MODIFIED:20250911T140509Z
UID:10009412-1759312800-1759312800@www.trailslibrary.org
SUMMARY:Storytime - Holden Branch
DESCRIPTION:Ages 0-5: Come listen to a story and make a craft!
URL:https://www.trailslibrary.org/event/storytime-holden-branch-26/
LOCATION:Holden Branch\, 207 S. Main\, Holden\, MO\, 64040\, United States
CATEGORIES:Children,Kids,Pre-School,Preschool,Storytime,Toddlers
END:VEVENT
BEGIN:VEVENT
DTSTART;TZID=America/New_York:20251001T100000
DTEND;TZID=America/New_York:20251001T100000
DTSTAMP:20260425T221626
CREATED:20250911T140717Z
LAST-MODIFIED:20250911T140717Z
UID:10009444-1759312800-1759312800@www.trailslibrary.org
SUMMARY:Storytime - Knob Noster Branch
DESCRIPTION:Ages 0-5: Join us for engaging stories\, music\, and bubbles that encourage learning\, movement\, and a love of reading!
URL:https://www.trailslibrary.org/event/storytime-knob-noster-branch-31/
LOCATION:Knob Noster Branch\, 202 N. Adams\, Knob Noster\, MO\, 65336\, United States
CATEGORIES:Children,Kids,Pre-School,Preschool,Storytime,Toddlers
END:VEVENT
BEGIN:VEVENT
DTSTART;TZID=America/New_York:20251001T100000
DTEND;TZID=America/New_York:20251001T100000
DTSTAMP:20260425T221626
CREATED:20250911T140839Z
LAST-MODIFIED:20250911T140839Z
UID:10009464-1759312800-1759312800@www.trailslibrary.org
SUMMARY:Storytime - Lexington Branch
DESCRIPTION:Ages 0-5: Bring your little ones for storytime! Each week we read\, sing\, play and learn\, all while developing early literacy skills
URL:https://www.trailslibrary.org/event/storytime-lexington-branch-29/
LOCATION:Lexington Branch\, 1008 Main Street\, Lexington\, MO\, 64067\, United States
CATEGORIES:Children,Kids,Pre-School,Preschool,Storytime,Toddlers
END:VEVENT
BEGIN:VEVENT
DTSTART;TZID=America/New_York:20251001T100000
DTEND;TZID=America/New_York:20251001T100000
DTSTAMP:20260425T221627
CREATED:20250911T141132Z
LAST-MODIFIED:20250911T141132Z
UID:10009508-1759312800-1759312800@www.trailslibrary.org
SUMMARY:Storytime - Odessa Branch
DESCRIPTION:Ages 0-5: Storytimes are for building pre-reading skills\, making friends\, and having fun!
URL:https://www.trailslibrary.org/event/storytime-odessa-branch-43/
LOCATION:Odessa Branch\, 107 W. Mason\, Odessa\, MO\, 64076\, United States
CATEGORIES:Children,Kids,Pre-School,Preschool,Storytime,Toddlers
END:VEVENT
BEGIN:VEVENT
DTSTART;TZID=America/New_York:20251001T100000
DTEND;TZID=America/New_York:20251001T100000
DTSTAMP:20260425T221627
CREATED:20250911T142158Z
LAST-MODIFIED:20250911T142158Z
UID:10009595-1759312800-1759312800@www.trailslibrary.org
SUMMARY:Sassy Seniors - Waverly Branch
DESCRIPTION:Ages 55+: Come and play games\, trivia\, and enjoy a morning of fun with friends!
URL:https://www.trailslibrary.org/event/sassy-seniors-waverly-branch-10/
LOCATION:Waverly Branch\, 203 E. Kelling\, Waverly\, MO\, 64096\, United States
CATEGORIES:senior,Seniors
END:VEVENT
BEGIN:VEVENT
DTSTART;TZID=America/New_York:20251001T100000
DTEND;TZID=America/New_York:20251001T100000
DTSTAMP:20260425T221627
CREATED:20250911T193845Z
LAST-MODIFIED:20250911T193845Z
UID:10009609-1759312800-1759312800@www.trailslibrary.org
SUMMARY:Storytime - Corder Branch
DESCRIPTION:Ages 0-5: Storytimes are for building reading skills\, making friends\, and having fun!
URL:https://www.trailslibrary.org/event/storytime-corder-branch-23/
LOCATION:Corder Branch\, 221 N. Lafayette\, Corder\, MO\, 64021\, United States
CATEGORIES:Children,Kids,Pre-School,Preschool,Storytime,Toddlers
END:VEVENT
BEGIN:VEVENT
DTSTART;TZID=America/New_York:20251001T180000
DTEND;TZID=America/New_York:20251001T180000
DTSTAMP:20260425T221627
CREATED:20250911T141736Z
LAST-MODIFIED:20250911T141736Z
UID:10009562-1759341600-1759341600@www.trailslibrary.org
SUMMARY:Quilts & Clothing from Around the World - Warrensburg Branch
DESCRIPTION:Ages 6-12: Join Dr. Amber Clifford\, Director of McClure Archives and Musuem at UCM\, to learn about different parts of an Arabian costume\, quilts\, and clothing from around the world.  You will have an opportunity to paint your own quilt.
URL:https://www.trailslibrary.org/event/quilts-clothing-from-around-the-world-warrensburg-branch-2/
LOCATION:Warrensburg Branch\, 432 N. Holden\, Warrensburg\, Missouri\, 64093\, United States
CATEGORIES:Children,Guest Presenter,Kids,Youth
END:VEVENT
BEGIN:VEVENT
DTSTART;TZID=America/New_York:20251002T100000
DTEND;TZID=America/New_York:20251002T100000
DTSTAMP:20260425T221627
CREATED:20250911T141132Z
LAST-MODIFIED:20250911T141132Z
UID:10009509-1759399200-1759399200@www.trailslibrary.org
SUMMARY:Storytime - Odessa Branch
DESCRIPTION:Ages 0-5: Storytimes are for building pre-reading skills\, making friends\, and having fun!
URL:https://www.trailslibrary.org/event/storytime-odessa-branch-44/
LOCATION:Odessa Branch\, 107 W. Mason\, Odessa\, MO\, 64076\, United States
CATEGORIES:Children,Kids,Pre-School,Preschool,Storytime,Toddlers
END:VEVENT
BEGIN:VEVENT
DTSTART;TZID=America/New_York:20251002T100000
DTEND;TZID=America/New_York:20251002T100000
DTSTAMP:20260425T221627
CREATED:20250911T141706Z
LAST-MODIFIED:20250911T141706Z
UID:10009548-1759399200-1759399200@www.trailslibrary.org
SUMMARY:Music & More - Warrensburg Branch
DESCRIPTION:Ages 0-5: Get ready to sing\, dance\, and shake those wiggles out! Join us for Music and More\, where children will explore a variety of musical instruments to boost sensory development\, coordination\, and early literacy and numeracy skills.
URL:https://www.trailslibrary.org/event/music-more-warrensburg-branch-15/
LOCATION:Warrensburg Branch\, 432 N. Holden\, Warrensburg\, Missouri\, 64093\, United States
CATEGORIES:Children,Kids,Pre-School,Preschool,Toddlers
END:VEVENT
BEGIN:VEVENT
DTSTART;TZID=America/New_York:20251002T153000
DTEND;TZID=America/New_York:20251002T153000
DTSTAMP:20260425T221627
CREATED:20250911T141116Z
LAST-MODIFIED:20250911T141116Z
UID:10009501-1759419000-1759419000@www.trailslibrary.org
SUMMARY:Otaku Club - Odessa Branch
DESCRIPTION:Ages 13-18: Enjoy an evening of watching anime with fellow anime nerds!
URL:https://www.trailslibrary.org/event/otaku-club-odessa-branch-9/
LOCATION:Odessa Branch\, 107 W. Mason\, Odessa\, MO\, 64076\, United States
CATEGORIES:Pre-Teen,Pre-Teens,Teen,Teens
END:VEVENT
BEGIN:VEVENT
DTSTART;TZID=America/New_York:20251002T160000
DTEND;TZID=America/New_York:20251002T160000
DTSTAMP:20260425T221627
CREATED:20250911T141604Z
LAST-MODIFIED:20250911T141604Z
UID:10009523-1759420800-1759420800@www.trailslibrary.org
SUMMARY:12 Days of Kindness - Warrensburg Branch
DESCRIPTION:Ages 6-12: Part of a 12-week series\, this creative craft program lets kids design and make heartfelt gifts for family and friends. Each session is hands-on fun\, and participants can take home a wrapped gift. Join for one session or as many as you’d like!
URL:https://www.trailslibrary.org/event/12-days-of-kindness-warrensburg-branch-2/
LOCATION:Warrensburg Branch\, 432 N. Holden\, Warrensburg\, Missouri\, 64093\, United States
CATEGORIES:Children,Crafts,Kids
END:VEVENT
BEGIN:VEVENT
DTSTART;TZID=America/New_York:20251003T093000
DTEND;TZID=America/New_York:20251003T093000
DTSTAMP:20260425T221627
CREATED:20250911T194058Z
LAST-MODIFIED:20250911T194058Z
UID:10009656-1759483800-1759483800@www.trailslibrary.org
SUMMARY:Yoga Fridays - Corder Branch
DESCRIPTION:Ages 19+: Join our gentle chair yoga class designed for all levels\, from beginners to those returning to practice.
URL:https://www.trailslibrary.org/event/yoga-fridays-corder-branch-39/
LOCATION:Corder Branch\, 221 N. Lafayette\, Corder\, MO\, 64021\, United States
CATEGORIES:Adult,Adults,senior,Seniors
END:VEVENT
BEGIN:VEVENT
DTSTART;TZID=America/New_York:20251003T153000
DTEND;TZID=America/New_York:20251003T153000
DTSTAMP:20260425T221627
CREATED:20250911T140647Z
LAST-MODIFIED:20250911T140647Z
UID:10009435-1759505400-1759505400@www.trailslibrary.org
SUMMARY:Movie Matinee - Knob Noster Branch
DESCRIPTION:All Ages: Reel fun awaits—join us at the library for a film\, popcorn\, and good vibes.
URL:https://www.trailslibrary.org/event/movie-matinee-knob-noster-branch-2/
LOCATION:Knob Noster Branch\, 202 N. Adams\, Knob Noster\, MO\, 65336\, United States
CATEGORIES:Adult,Adults,All Ages,Children,Family,Kids,Movie,preteens,senior,Seniors,Teen,Teens,Youth
END:VEVENT
BEGIN:VEVENT
DTSTART;TZID=America/New_York:20251003T160000
DTEND;TZID=America/New_York:20251003T160000
DTSTAMP:20260425T221627
CREATED:20250911T141852Z
LAST-MODIFIED:20250911T141852Z
UID:10009587-1759507200-1759507200@www.trailslibrary.org
SUMMARY:Teen Maker Lab - Warrensburg Branch
DESCRIPTION:Ages 13-18 REGISTRATION REQUIRED: Create and innovate with hands-on crafts and projects using repurposed materials in this fun\, eco-friendly maker experience.
URL:https://www.trailslibrary.org/event/teen-maker-lab-warrensburg-branch-3/
LOCATION:Warrensburg Branch\, 432 N. Holden\, Warrensburg\, Missouri\, 64093\, United States
CATEGORIES:Crafts,Pre-Teen,Pre-Teens,Teen,Teens
END:VEVENT
BEGIN:VEVENT
DTSTART;TZID=America/New_York:20251003T180000
DTEND;TZID=America/New_York:20251003T180000
DTSTAMP:20260425T221627
CREATED:20250911T141047Z
LAST-MODIFIED:20250911T141047Z
UID:10009494-1759514400-1759514400@www.trailslibrary.org
SUMMARY:Labyrinths and Lizards - Odessa Branch
DESCRIPTION:Ages 19+: Join us for an evening of Table-Top Role Playing Games!
URL:https://www.trailslibrary.org/event/labyrinths-and-lizards-odessa-branch-5/
LOCATION:Odessa Branch\, 107 W. Mason\, Odessa\, MO\, 64076\, United States
CATEGORIES:Adult,Adults,senior,Seniors
END:VEVENT
BEGIN:VEVENT
DTSTART;TZID=America/New_York:20251006T093000
DTEND;TZID=America/New_York:20251006T093000
DTSTAMP:20260425T221627
CREATED:20250911T193933Z
LAST-MODIFIED:20250911T193933Z
UID:10009630-1759743000-1759743000@www.trailslibrary.org
SUMMARY:Monday Melodies - Corder Branch
DESCRIPTION:Ages 0-5: Join us for fun-filled music and movement sessions tailored for toddlers!
URL:https://www.trailslibrary.org/event/monday-melodies-corder-branch-26/
LOCATION:Corder Branch\, 221 N. Lafayette\, Corder\, MO\, 64021\, United States
CATEGORIES:Children,Kids,Pre-School,Preschool,Toddlers
END:VEVENT
BEGIN:VEVENT
DTSTART;TZID=America/New_York:20251006T100000
DTEND;TZID=America/New_York:20251006T100000
DTSTAMP:20260425T221627
CREATED:20250911T142158Z
LAST-MODIFIED:20250911T142158Z
UID:10009599-1759744800-1759744800@www.trailslibrary.org
SUMMARY:Storytime Adventures - Waverly Branch
DESCRIPTION:Ages 0-5: Storytimes are for building reading skills\, making friends\, and more!
URL:https://www.trailslibrary.org/event/storytime-adventures-waverly-branch-18/
LOCATION:Waverly Branch\, 203 E. Kelling\, Waverly\, MO\, 64096\, United States
CATEGORIES:Children,Kids,Pre-School,Preschool,Storytime,Toddlers
END:VEVENT
BEGIN:VEVENT
DTSTART;TZID=America/New_York:20251006T101500
DTEND;TZID=America/New_York:20251006T101500
DTSTAMP:20260425T221627
CREATED:20250911T193903Z
LAST-MODIFIED:20250911T193903Z
UID:10009623-1759745700-1759745700@www.trailslibrary.org
SUMMARY:Book Club - Corder Branch
DESCRIPTION:Ages 19+: Join us at the library for a lively discussion about this month’s book.
URL:https://www.trailslibrary.org/event/book-club-corder-branch-15/
LOCATION:Corder Branch\, 221 N. Lafayette\, Corder\, MO\, 64021\, United States
CATEGORIES:Adult,Adults,Book Club,senior,Seniors
END:VEVENT
BEGIN:VEVENT
DTSTART;TZID=America/New_York:20251006T130000
DTEND;TZID=America/New_York:20251006T130000
DTSTAMP:20260425T221627
CREATED:20250911T194003Z
LAST-MODIFIED:20250911T194003Z
UID:10009641-1759755600-1759755600@www.trailslibrary.org
SUMMARY:Move to the Beat - Corder Branch
DESCRIPTION:Ages 19+: Join us for cardio drumming with yoga balls!
URL:https://www.trailslibrary.org/event/move-to-the-beat-corder-branch-9/
LOCATION:Corder Branch\, 221 N. Lafayette\, Corder\, MO\, 64021\, United States
CATEGORIES:Adult,Adults,senior,Seniors
END:VEVENT
BEGIN:VEVENT
DTSTART;TZID=America/New_York:20251006T153000
DTEND;TZID=America/New_York:20251006T153000
DTSTAMP:20260425T221627
CREATED:20250911T141102Z
LAST-MODIFIED:20250911T141102Z
UID:10009499-1759764600-1759764600@www.trailslibrary.org
SUMMARY:Monster Masterpiece - Odessa Branch
DESCRIPTION:Ages  5-8: Let your creativity run wild and craft your own monster using the magic of string art!
URL:https://www.trailslibrary.org/event/monster-masterpiece-odessa-branch/
LOCATION:Odessa Branch\, 107 W. Mason\, Odessa\, MO\, 64076\, United States
CATEGORIES:Children,Kids,STEAM
END:VEVENT
BEGIN:VEVENT
DTSTART;TZID=America/New_York:20251006T173000
DTEND;TZID=America/New_York:20251006T173000
DTSTAMP:20260425T221627
CREATED:20250911T141736Z
LAST-MODIFIED:20250911T141736Z
UID:10009559-1759771800-1759771800@www.trailslibrary.org
SUMMARY:NovelTea - Warrensburg Branch
DESCRIPTION:Ages 19+: Join us for a cup of tea\, an award winning book\, and great conversations. This month’s pick is The Ghosts of Eden Park by Karen Abbott.
URL:https://www.trailslibrary.org/event/noveltea-warrensburg-branch-10/
LOCATION:Warrensburg Branch\, 432 N. Holden\, Warrensburg\, Missouri\, 64093\, United States
CATEGORIES:Adult,Adults,Book Club,senior,Seniors
END:VEVENT
BEGIN:VEVENT
DTSTART;TZID=America/New_York:20251007T100000
DTEND;TZID=America/New_York:20251007T100000
DTSTAMP:20260425T221627
CREATED:20250911T140308Z
LAST-MODIFIED:20250911T140308Z
UID:10009391-1759831200-1759831200@www.trailslibrary.org
SUMMARY:Bubbly Storytime - Concordia Branch
DESCRIPTION:Ages 0-5: Storytimes are for building pre-reading skills\, making friends\, and having fun! And there will be bubbles!
URL:https://www.trailslibrary.org/event/bubbly-storytime-concordia-branch-30/
LOCATION:Concordia Branch\, 813 S Main\, Concordia\, MO\, 64020\, United States
CATEGORIES:Children,Kids,Pre-School,Preschool,Storytime,Toddlers
END:VEVENT
BEGIN:VEVENT
DTSTART;TZID=America/New_York:20251007T100000
DTEND;TZID=America/New_York:20251007T100000
DTSTAMP:20260425T221627
CREATED:20250911T140507Z
LAST-MODIFIED:20250911T140507Z
UID:10009407-1759831200-1759831200@www.trailslibrary.org
SUMMARY:Coffee and Conversations - Holden Branch
DESCRIPTION:Ages 19+: Come and join the Trails staff and members of the community for coffee and conversations.
URL:https://www.trailslibrary.org/event/coffee-and-conversations-holden-branch/
LOCATION:Holden Branch\, 207 S. Main\, Holden\, MO\, 64040\, United States
CATEGORIES:Adult,Adults,senior,Seniors
END:VEVENT
BEGIN:VEVENT
DTSTART;TZID=America/New_York:20251007T100000
DTEND;TZID=America/New_York:20251007T100000
DTSTAMP:20260425T221627
CREATED:20250911T141751Z
LAST-MODIFIED:20250911T141751Z
UID:10009567-1759831200-1759831200@www.trailslibrary.org
SUMMARY:Storytime - Warrensburg Branch
DESCRIPTION:Ages 0-5: Join us for a lively storytime filled with engaging stories\, music\, dancing\, crafts\, and plenty of bubbles! It’s a fun-filled adventure perfect for little ones and their grown-ups.
URL:https://www.trailslibrary.org/event/storytime-warrensburg-branch-54/
LOCATION:Warrensburg Branch\, 432 N. Holden\, Warrensburg\, Missouri\, 64093\, United States
CATEGORIES:Children,Kids,Pre-School,Preschool,Storytime,Toddlers
END:VEVENT
BEGIN:VEVENT
DTSTART;TZID=America/New_York:20251007T143000
DTEND;TZID=America/New_York:20251007T143000
DTSTAMP:20260425T221627
CREATED:20250911T141806Z
LAST-MODIFIED:20250911T141806Z
UID:10009568-1759847400-1759847400@www.trailslibrary.org
SUMMARY:Storytime - Warrensburg Branch
DESCRIPTION:Ages 0-5: Join us for a lively storytime filled with engaging stories\, music\, dancing\, crafts\, and plenty of bubbles! It’s a fun-filled adventure perfect for little ones and their grown-ups.
URL:https://www.trailslibrary.org/event/storytime-warrensburg-branch-55/
LOCATION:Warrensburg Branch\, 432 N. Holden\, Warrensburg\, Missouri\, 64093\, United States
CATEGORIES:Children,Kids,Pre-School,Preschool,Storytime,Toddlers
END:VEVENT
BEGIN:VEVENT
DTSTART;TZID=America/New_York:20251007T150000
DTEND;TZID=America/New_York:20251007T150000
DTSTAMP:20260425T221627
CREATED:20250911T140508Z
LAST-MODIFIED:20250911T140508Z
UID:10009409-1759849200-1759849200@www.trailslibrary.org
SUMMARY:Craft and Chill - Holden Branch
DESCRIPTION:Ages 19+ REGISTRATION REQUIRED: Unleash your creativity at our twice monthly crafting program. Each session will feature a new art project. All supplies provided\, no experience necessary.
URL:https://www.trailslibrary.org/event/craft-and-chill-holden-branch-3/
LOCATION:Holden Branch\, 207 S. Main\, Holden\, MO\, 64040\, United States
CATEGORIES:Adult,Adults,Crafts,senior,Seniors
END:VEVENT
BEGIN:VEVENT
DTSTART;TZID=America/New_York:20251008T100000
DTEND;TZID=America/New_York:20251008T100000
DTSTAMP:20260425T221627
CREATED:20250911T140509Z
LAST-MODIFIED:20250911T140509Z
UID:10009413-1759917600-1759917600@www.trailslibrary.org
SUMMARY:Storytime - Holden Branch
DESCRIPTION:Ages 0-5: Come listen to a story and make a craft!
URL:https://www.trailslibrary.org/event/storytime-holden-branch-27/
LOCATION:Holden Branch\, 207 S. Main\, Holden\, MO\, 64040\, United States
CATEGORIES:Children,Kids,Pre-School,Preschool,Storytime,Toddlers
END:VEVENT
BEGIN:VEVENT
DTSTART;TZID=America/New_York:20251008T100000
DTEND;TZID=America/New_York:20251008T100000
DTSTAMP:20260425T221627
CREATED:20250911T140717Z
LAST-MODIFIED:20250911T140717Z
UID:10009445-1759917600-1759917600@www.trailslibrary.org
SUMMARY:Storytime - Knob Noster Branch
DESCRIPTION:Ages 0-5: Join us for engaging stories\, music\, and bubbles that encourage learning\, movement\, and a love of reading!
URL:https://www.trailslibrary.org/event/storytime-knob-noster-branch-32/
LOCATION:Knob Noster Branch\, 202 N. Adams\, Knob Noster\, MO\, 65336\, United States
CATEGORIES:Children,Kids,Pre-School,Preschool,Storytime,Toddlers
END:VEVENT
BEGIN:VEVENT
DTSTART;TZID=America/New_York:20251008T100000
DTEND;TZID=America/New_York:20251008T100000
DTSTAMP:20260425T221627
CREATED:20250911T140839Z
LAST-MODIFIED:20250911T140839Z
UID:10009465-1759917600-1759917600@www.trailslibrary.org
SUMMARY:Storytime - Lexington Branch
DESCRIPTION:Ages 0-5: Bring your little ones for storytime! Each week we read\, sing\, play and learn\, all while developing early literacy skills
URL:https://www.trailslibrary.org/event/storytime-lexington-branch-30/
LOCATION:Lexington Branch\, 1008 Main Street\, Lexington\, MO\, 64067\, United States
CATEGORIES:Children,Kids,Pre-School,Preschool,Storytime,Toddlers
END:VEVENT
BEGIN:VEVENT
DTSTART;TZID=America/New_York:20251008T100000
DTEND;TZID=America/New_York:20251008T100000
DTSTAMP:20260425T221627
CREATED:20250911T193845Z
LAST-MODIFIED:20250911T193845Z
UID:10009610-1759917600-1759917600@www.trailslibrary.org
SUMMARY:Storytime - Corder Branch
DESCRIPTION:Ages 0-5: Storytimes are for building reading skills\, making friends\, and having fun!
URL:https://www.trailslibrary.org/event/storytime-corder-branch-24/
LOCATION:Corder Branch\, 221 N. Lafayette\, Corder\, MO\, 64021\, United States
CATEGORIES:Children,Kids,Pre-School,Preschool,Storytime,Toddlers
END:VEVENT
END:VCALENDAR