BEGIN:VCALENDAR
VERSION:2.0
PRODID:-//Trails Regional Library - ECPv6.15.20//NONSGML v1.0//EN
CALSCALE:GREGORIAN
METHOD:PUBLISH
X-ORIGINAL-URL:https://www.trailslibrary.org
X-WR-CALDESC:Events for Trails Regional Library
REFRESH-INTERVAL;VALUE=DURATION:PT1H
X-Robots-Tag:noindex
X-PUBLISHED-TTL:PT1H
BEGIN:VTIMEZONE
TZID:America/New_York
BEGIN:DAYLIGHT
TZOFFSETFROM:-0500
TZOFFSETTO:-0400
TZNAME:EDT
DTSTART:20240310T070000
END:DAYLIGHT
BEGIN:STANDARD
TZOFFSETFROM:-0400
TZOFFSETTO:-0500
TZNAME:EST
DTSTART:20241103T060000
END:STANDARD
BEGIN:DAYLIGHT
TZOFFSETFROM:-0500
TZOFFSETTO:-0400
TZNAME:EDT
DTSTART:20250309T070000
END:DAYLIGHT
BEGIN:STANDARD
TZOFFSETFROM:-0400
TZOFFSETTO:-0500
TZNAME:EST
DTSTART:20251102T060000
END:STANDARD
BEGIN:DAYLIGHT
TZOFFSETFROM:-0500
TZOFFSETTO:-0400
TZNAME:EDT
DTSTART:20260308T070000
END:DAYLIGHT
BEGIN:STANDARD
TZOFFSETFROM:-0400
TZOFFSETTO:-0500
TZNAME:EST
DTSTART:20261101T060000
END:STANDARD
END:VTIMEZONE
BEGIN:VEVENT
DTSTART;TZID=America/New_York:20251103T093000
DTEND;TZID=America/New_York:20251103T093000
DTSTAMP:20260425T202621
CREATED:20250911T193934Z
LAST-MODIFIED:20250911T193934Z
UID:10009633-1762162200-1762162200@www.trailslibrary.org
SUMMARY:Monday Melodies - Corder Branch
DESCRIPTION:Ages 0-5: Join us for fun-filled music and movement sessions tailored for toddlers!
URL:https://www.trailslibrary.org/event/monday-melodies-corder-branch-29/
LOCATION:Corder Branch\, 221 N. Lafayette\, Corder\, MO\, 64021\, United States
CATEGORIES:Children,Kids,Pre-School,Preschool,Toddlers
END:VEVENT
BEGIN:VEVENT
DTSTART;TZID=America/New_York:20251103T100000
DTEND;TZID=America/New_York:20251103T100000
DTSTAMP:20260425T202621
CREATED:20250911T142200Z
LAST-MODIFIED:20250911T142200Z
UID:10009602-1762164000-1762164000@www.trailslibrary.org
SUMMARY:Storytime Adventures - Waverly Branch
DESCRIPTION:Ages 0-5: Storytimes are for building reading skills\, making friends\, and more!
URL:https://www.trailslibrary.org/event/storytime-adventures-waverly-branch-21/
LOCATION:Waverly Branch\, 203 E. Kelling\, Waverly\, MO\, 64096\, United States
CATEGORIES:Children,Kids,Pre-School,Preschool,Storytime,Toddlers
END:VEVENT
BEGIN:VEVENT
DTSTART;TZID=America/New_York:20251103T130000
DTEND;TZID=America/New_York:20251103T130000
DTSTAMP:20260425T202621
CREATED:20250911T194018Z
LAST-MODIFIED:20250911T194018Z
UID:10009644-1762174800-1762174800@www.trailslibrary.org
SUMMARY:Move to the Beat - Corder Branch
DESCRIPTION:Ages 19+: Join us for cardio drumming with yoga balls!
URL:https://www.trailslibrary.org/event/move-to-the-beat-corder-branch-12/
LOCATION:Corder Branch\, 221 N. Lafayette\, Corder\, MO\, 64021\, United States
CATEGORIES:Adult,Adults,senior,Seniors
END:VEVENT
BEGIN:VEVENT
DTSTART;TZID=America/New_York:20251103T153000
DTEND;TZID=America/New_York:20251103T153000
DTSTAMP:20260425T202621
CREATED:20250911T141032Z
LAST-MODIFIED:20250911T141032Z
UID:10009488-1762183800-1762183800@www.trailslibrary.org
SUMMARY:Disguise a Turkey - Odessa Branch
DESCRIPTION:Ages 5-8: Spark your creativity and help your turkey not get caught for Thanksgiving!
URL:https://www.trailslibrary.org/event/disguise-a-turkey-odessa-branch/
LOCATION:Odessa Branch\, 107 W. Mason\, Odessa\, MO\, 64076\, United States
CATEGORIES:Children,Kids,Youth
END:VEVENT
BEGIN:VEVENT
DTSTART;TZID=America/New_York:20251104T100000
DTEND;TZID=America/New_York:20251104T100000
DTSTAMP:20260425T202621
CREATED:20250911T140323Z
LAST-MODIFIED:20250911T140323Z
UID:10009395-1762250400-1762250400@www.trailslibrary.org
SUMMARY:Bubbly Storytime - Concordia Branch
DESCRIPTION:Ages 0-5: Storytimes are for building pre-reading skills\, making friends\, and having fun! And there will be bubbles!
URL:https://www.trailslibrary.org/event/bubbly-storytime-concordia-branch-34/
LOCATION:Concordia Branch\, 813 S Main\, Concordia\, MO\, 64020\, United States
CATEGORIES:Children,Kids,Pre-School,Preschool,Storytime,Toddlers
END:VEVENT
BEGIN:VEVENT
DTSTART;TZID=America/New_York:20251104T100000
DTEND;TZID=America/New_York:20251104T100000
DTSTAMP:20260425T202621
CREATED:20250911T141821Z
LAST-MODIFIED:20250911T141821Z
UID:10009573-1762250400-1762250400@www.trailslibrary.org
SUMMARY:Storytime - Warrensburg Branch
DESCRIPTION:Ages 0-5: Join us for a lively storytime filled with engaging stories\, music\, dancing\, crafts\, and plenty of bubbles! It’s a fun-filled adventure perfect for little ones and their grown-ups.
URL:https://www.trailslibrary.org/event/storytime-warrensburg-branch-60/
LOCATION:Warrensburg Branch\, 432 N. Holden\, Warrensburg\, Missouri\, 64093\, United States
CATEGORIES:Children,Kids,Pre-School,Preschool,Storytime,Toddlers
END:VEVENT
BEGIN:VEVENT
DTSTART;TZID=America/New_York:20251104T100000
DTEND;TZID=America/New_York:20251104T100000
DTSTAMP:20260425T202621
CREATED:20250930T135618Z
LAST-MODIFIED:20250930T135618Z
UID:10009679-1762250400-1762250400@www.trailslibrary.org
SUMMARY:Coffee and Conversations - Holden Branch
DESCRIPTION:Ages 19+: Come and join the Trails staff and members of the community for coffee and conversations.
URL:https://www.trailslibrary.org/event/coffee-and-conversations-holden-branch-3/
LOCATION:Holden Branch\, 207 S. Main\, Holden\, MO\, 64040\, United States
CATEGORIES:Adult,Adults,senior,Seniors
END:VEVENT
BEGIN:VEVENT
DTSTART;TZID=America/New_York:20251104T143000
DTEND;TZID=America/New_York:20251104T143000
DTSTAMP:20260425T202621
CREATED:20250911T141821Z
LAST-MODIFIED:20250911T141821Z
UID:10009574-1762266600-1762266600@www.trailslibrary.org
SUMMARY:Storytime - Warrensburg Branch
DESCRIPTION:Ages 0-5: Join us for a lively storytime filled with engaging stories\, music\, dancing\, crafts\, and plenty of bubbles! It’s a fun-filled adventure perfect for little ones and their grown-ups.
URL:https://www.trailslibrary.org/event/storytime-warrensburg-branch-61/
LOCATION:Warrensburg Branch\, 432 N. Holden\, Warrensburg\, Missouri\, 64093\, United States
CATEGORIES:Children,Kids,Pre-School,Preschool,Storytime,Toddlers
END:VEVENT
BEGIN:VEVENT
DTSTART;TZID=America/New_York:20251104T150000
DTEND;TZID=America/New_York:20251104T150000
DTSTAMP:20260425T202621
CREATED:20250930T135600Z
LAST-MODIFIED:20250930T135600Z
UID:10009668-1762268400-1762268400@www.trailslibrary.org
SUMMARY:Craft and Chill - Holden Branch
DESCRIPTION:Ages 19+ REGISTRATION REQUIRED: Unleash your creativity at our twice monthly crafting program. Each session will feature a new art project. All supplies provided\, no experience necessary.
URL:https://www.trailslibrary.org/event/craft-and-chill-holden-branch-5/
LOCATION:Holden Branch\, 207 S. Main\, Holden\, MO\, 64040\, United States
CATEGORIES:Adult,Adults,Crafts,senior,Seniors
END:VEVENT
BEGIN:VEVENT
DTSTART;TZID=America/New_York:20251104T153000
DTEND;TZID=America/New_York:20251104T153000
DTSTAMP:20260425T202621
CREATED:20250911T140647Z
LAST-MODIFIED:20250911T140647Z
UID:10009433-1762270200-1762270200@www.trailslibrary.org
SUMMARY:Marbled Leaf Printing - Knob Noster Branch
DESCRIPTION:Ages 6-12: Create marbled leaf prints by blending shaving cream and paint to reveal swirling colors and unique textures!
URL:https://www.trailslibrary.org/event/marbled-leaf-printing-knob-noster-branch/
LOCATION:Knob Noster Branch\, 202 N. Adams\, Knob Noster\, MO\, 65336\, United States
CATEGORIES:Children,Kids,Youth
END:VEVENT
BEGIN:VEVENT
DTSTART;TZID=America/New_York:20251104T170000
DTEND;TZID=America/New_York:20251104T170000
DTSTAMP:20260425T202621
CREATED:20250911T141102Z
LAST-MODIFIED:20250911T141102Z
UID:10009497-1762275600-1762275600@www.trailslibrary.org
SUMMARY:Love is an Open Book Club - Odessa Branch
DESCRIPTION:Ages 19+: Join us for a genre specific book club and dive into the world of romance.
URL:https://www.trailslibrary.org/event/love-is-an-open-book-club-odessa-branch-11/
LOCATION:Odessa Branch\, 107 W. Mason\, Odessa\, MO\, 64076\, United States
CATEGORIES:Adult,Adults,Book Club,senior,Seniors
END:VEVENT
BEGIN:VEVENT
DTSTART;TZID=America/New_York:20251105T100000
DTEND;TZID=America/New_York:20251105T100000
DTSTAMP:20260425T202621
CREATED:20250911T140732Z
LAST-MODIFIED:20250911T140732Z
UID:10009449-1762336800-1762336800@www.trailslibrary.org
SUMMARY:Storytime - Knob Noster Branch
DESCRIPTION:Ages 0-5: Join us for engaging stories\, music\, and bubbles that encourage learning\, movement\, and a love of reading!
URL:https://www.trailslibrary.org/event/storytime-knob-noster-branch-36/
LOCATION:Knob Noster Branch\, 202 N. Adams\, Knob Noster\, MO\, 65336\, United States
CATEGORIES:Children,Kids,Pre-School,Preschool,Storytime,Toddlers
END:VEVENT
BEGIN:VEVENT
DTSTART;TZID=America/New_York:20251105T100000
DTEND;TZID=America/New_York:20251105T100000
DTSTAMP:20260425T202621
CREATED:20250911T140854Z
LAST-MODIFIED:20250911T140854Z
UID:10009469-1762336800-1762336800@www.trailslibrary.org
SUMMARY:Storytime - Lexington Branch
DESCRIPTION:Ages 0-5: Bring your little ones for storytime! Each week we read\, sing\, play and learn\, all while developing early literacy skills
URL:https://www.trailslibrary.org/event/storytime-lexington-branch-34/
LOCATION:Lexington Branch\, 1008 Main Street\, Lexington\, MO\, 64067\, United States
CATEGORIES:Children,Kids,Pre-School,Preschool,Storytime,Toddlers
END:VEVENT
BEGIN:VEVENT
DTSTART;TZID=America/New_York:20251105T100000
DTEND;TZID=America/New_York:20251105T100000
DTSTAMP:20260425T202621
CREATED:20250911T141147Z
LAST-MODIFIED:20250911T141147Z
UID:10009514-1762336800-1762336800@www.trailslibrary.org
SUMMARY:Storytime - Odessa Branch
DESCRIPTION:Ages 0-5: Storytimes are for building pre-reading skills\, making friends\, and having fun!
URL:https://www.trailslibrary.org/event/storytime-odessa-branch-49/
LOCATION:Odessa Branch\, 107 W. Mason\, Odessa\, MO\, 64076\, United States
CATEGORIES:Children,Kids,Pre-School,Preschool,Storytime,Toddlers
END:VEVENT
BEGIN:VEVENT
DTSTART;TZID=America/New_York:20251105T100000
DTEND;TZID=America/New_York:20251105T100000
DTSTAMP:20260425T202621
CREATED:20250911T142158Z
LAST-MODIFIED:20250911T142158Z
UID:10009596-1762336800-1762336800@www.trailslibrary.org
SUMMARY:Sassy Seniors - Waverly Branch
DESCRIPTION:Ages 55+: Come and play games\, trivia\, and enjoy a morning of fun with friends!
URL:https://www.trailslibrary.org/event/sassy-seniors-waverly-branch-11/
LOCATION:Waverly Branch\, 203 E. Kelling\, Waverly\, MO\, 64096\, United States
CATEGORIES:senior,Seniors
END:VEVENT
BEGIN:VEVENT
DTSTART;TZID=America/New_York:20251105T100000
DTEND;TZID=America/New_York:20251105T100000
DTSTAMP:20260425T202621
CREATED:20250911T193847Z
LAST-MODIFIED:20250911T193847Z
UID:10009614-1762336800-1762336800@www.trailslibrary.org
SUMMARY:Storytime - Corder Branch
DESCRIPTION:Ages 0-5: Storytimes are for building reading skills\, making friends\, and having fun!
URL:https://www.trailslibrary.org/event/storytime-corder-branch-28/
LOCATION:Corder Branch\, 221 N. Lafayette\, Corder\, MO\, 64021\, United States
CATEGORIES:Children,Kids,Pre-School,Preschool,Storytime,Toddlers
END:VEVENT
BEGIN:VEVENT
DTSTART;TZID=America/New_York:20251105T100000
DTEND;TZID=America/New_York:20251105T100000
DTSTAMP:20260425T202621
CREATED:20250930T135601Z
LAST-MODIFIED:20250930T135601Z
UID:10009672-1762336800-1762336800@www.trailslibrary.org
SUMMARY:Storytime - Holden Branch
DESCRIPTION:Ages 0-5: Come listen to a story and make a craft!
URL:https://www.trailslibrary.org/event/storytime-holden-branch-31/
LOCATION:Holden Branch\, 207 S. Main\, Holden\, MO\, 64040\, United States
CATEGORIES:Children,Kids,Pre-School,Preschool,Storytime,Toddlers
END:VEVENT
BEGIN:VEVENT
DTSTART;TZID=America/New_York:20251105T180000
DTEND;TZID=America/New_York:20251105T180000
DTSTAMP:20260425T202621
CREATED:20250911T141622Z
LAST-MODIFIED:20251028T193935Z
UID:10009537-1762365600-1762365600@www.trailslibrary.org
SUMMARY:CANCELLED: Color\, Pattern\, and Textiles from Around the World - Warrensburg Branch
DESCRIPTION:Event cancelled due to unforeseen circumstances. Ages 19+: Join us in collaboration with UCM’s Archives and Museum\, featuring Dr. Amber Clifford\, as she explores color\, pattern\, and textiles from around the world. Enjoy light refreshments while discovering global textile traditions and design.
URL:https://www.trailslibrary.org/event/color-pattern-and-textiles-from-around-the-world-warrensburg-branch-2/
LOCATION:Warrensburg Branch\, 432 N. Holden\, Warrensburg\, Missouri\, 64093\, United States
CATEGORIES:Adult,Adults,Guest Presenter,senior,Seniors
END:VEVENT
BEGIN:VEVENT
DTSTART;TZID=America/New_York:20251106T100000
DTEND;TZID=America/New_York:20251106T100000
DTSTAMP:20260425T202621
CREATED:20250911T141147Z
LAST-MODIFIED:20250911T141147Z
UID:10009515-1762423200-1762423200@www.trailslibrary.org
SUMMARY:Storytime - Odessa Branch
DESCRIPTION:Ages 0-5: Storytimes are for building pre-reading skills\, making friends\, and having fun!
URL:https://www.trailslibrary.org/event/storytime-odessa-branch-50/
LOCATION:Odessa Branch\, 107 W. Mason\, Odessa\, MO\, 64076\, United States
CATEGORIES:Children,Kids,Pre-School,Preschool,Storytime,Toddlers
END:VEVENT
BEGIN:VEVENT
DTSTART;TZID=America/New_York:20251106T100000
DTEND;TZID=America/New_York:20251106T100000
DTSTAMP:20260425T202621
CREATED:20250911T141706Z
LAST-MODIFIED:20250911T141706Z
UID:10009552-1762423200-1762423200@www.trailslibrary.org
SUMMARY:Music & More - Warrensburg Branch
DESCRIPTION:Ages 0-5: Get ready to sing\, dance\, and shake those wiggles out! Join us for Music and More\, where children will explore a variety of musical instruments to boost sensory development\, coordination\, and early literacy and numeracy skills.
URL:https://www.trailslibrary.org/event/music-more-warrensburg-branch-19/
LOCATION:Warrensburg Branch\, 432 N. Holden\, Warrensburg\, Missouri\, 64093\, United States
CATEGORIES:Children,Kids,Pre-School,Preschool,Toddlers
END:VEVENT
BEGIN:VEVENT
DTSTART;TZID=America/New_York:20251106T113000
DTEND;TZID=America/New_York:20251106T113000
DTSTAMP:20260425T202621
CREATED:20250911T140702Z
LAST-MODIFIED:20250911T140702Z
UID:10009438-1762428600-1762428600@www.trailslibrary.org
SUMMARY:Play-Dough Bake Shop - Knob Noster Branch
DESCRIPTION:Ages 0-5: Whip up some fun! Kids can make pretend treats and tasty creations using play dough and play kitchen tools.
URL:https://www.trailslibrary.org/event/play-dough-bake-shop-knob-noster-branch/
LOCATION:Knob Noster Branch\, 202 N. Adams\, Knob Noster\, MO\, 65336\, United States
CATEGORIES:Children,Crafts,Kids,Pre-School,Preschool,Toddlers
END:VEVENT
BEGIN:VEVENT
DTSTART;TZID=America/New_York:20251106T153000
DTEND;TZID=America/New_York:20251106T153000
DTSTAMP:20260425T202621
CREATED:20250911T141117Z
LAST-MODIFIED:20250911T141117Z
UID:10009502-1762443000-1762443000@www.trailslibrary.org
SUMMARY:Otaku Club - Odessa Branch
DESCRIPTION:Ages 13-18: Enjoy an evening of watching anime with fellow anime nerds!
URL:https://www.trailslibrary.org/event/otaku-club-odessa-branch-10/
LOCATION:Odessa Branch\, 107 W. Mason\, Odessa\, MO\, 64076\, United States
CATEGORIES:Pre-Teen,Pre-Teens,Teen,Teens
END:VEVENT
BEGIN:VEVENT
DTSTART;TZID=America/New_York:20251106T160000
DTEND;TZID=America/New_York:20251106T160000
DTSTAMP:20260425T202621
CREATED:20250911T141604Z
LAST-MODIFIED:20250911T141604Z
UID:10009525-1762444800-1762444800@www.trailslibrary.org
SUMMARY:12 Days of Kindness - Warrensburg Branch
DESCRIPTION:Ages 6-12: Part of a 12-week series\, this creative craft program lets kids design and make heartfelt gifts for family and friends. Each session is hands-on fun\, and participants can take home a wrapped gift. Join for one session or as many as you’d like!
URL:https://www.trailslibrary.org/event/12-days-of-kindness-warrensburg-branch-4/
LOCATION:Warrensburg Branch\, 432 N. Holden\, Warrensburg\, Missouri\, 64093\, United States
CATEGORIES:Children,Crafts,Kids
END:VEVENT
BEGIN:VEVENT
DTSTART;TZID=America/New_York:20251107T093000
DTEND;TZID=America/New_York:20251107T093000
DTSTAMP:20260425T202621
CREATED:20250911T194113Z
LAST-MODIFIED:20250911T194113Z
UID:10009661-1762507800-1762507800@www.trailslibrary.org
SUMMARY:Yoga Fridays - Corder Branch
DESCRIPTION:Ages 19+: Join our gentle chair yoga class designed for all levels\, from beginners to those returning to practice.
URL:https://www.trailslibrary.org/event/yoga-fridays-corder-branch-44/
LOCATION:Corder Branch\, 221 N. Lafayette\, Corder\, MO\, 64021\, United States
CATEGORIES:Adult,Adults,senior,Seniors
END:VEVENT
BEGIN:VEVENT
DTSTART;TZID=America/New_York:20251107T153000
DTEND;TZID=America/New_York:20251107T153000
DTSTAMP:20260425T202621
CREATED:20250911T140648Z
LAST-MODIFIED:20250911T140648Z
UID:10009436-1762529400-1762529400@www.trailslibrary.org
SUMMARY:Movie Matinee - Knob Noster Branch
DESCRIPTION:All Ages: Reel fun awaits—join us at the library for a film\, popcorn\, and good vibes.
URL:https://www.trailslibrary.org/event/movie-matinee-knob-noster-branch-3/
LOCATION:Knob Noster Branch\, 202 N. Adams\, Knob Noster\, MO\, 65336\, United States
CATEGORIES:Adult,Adults,All Ages,Children,Family,Kids,Movie,preteens,senior,Seniors,Teen,Teens,Youth
END:VEVENT
BEGIN:VEVENT
DTSTART;TZID=America/New_York:20251107T160000
DTEND;TZID=America/New_York:20251107T160000
DTSTAMP:20260425T202621
CREATED:20250911T141906Z
LAST-MODIFIED:20250911T141906Z
UID:10009588-1762531200-1762531200@www.trailslibrary.org
SUMMARY:Teen Maker Lab - Warrensburg Branch
DESCRIPTION:Ages 13-18 REGISTRATION REQUIRED: Create and innovate with hands-on crafts and projects using repurposed materials in this fun\, eco-friendly maker experience.
URL:https://www.trailslibrary.org/event/teen-maker-lab-warrensburg-branch-4/
LOCATION:Warrensburg Branch\, 432 N. Holden\, Warrensburg\, Missouri\, 64093\, United States
CATEGORIES:Crafts,Pre-Teen,Pre-Teens,Teen,Teens
END:VEVENT
BEGIN:VEVENT
DTSTART;TZID=America/New_York:20251108T100000
DTEND;TZID=America/New_York:20251108T100000
DTSTAMP:20260425T202621
CREATED:20250911T140338Z
LAST-MODIFIED:20250911T140338Z
UID:10009402-1762596000-1762596000@www.trailslibrary.org
SUMMARY:Cartoons & Pancakes - Concordia Branch
DESCRIPTION:All Ages: It’s Second Saturday! Let’s enjoy pancakes and cartoons!
URL:https://www.trailslibrary.org/event/cartoons-pancakes-concordia-branch-11/
LOCATION:Concordia Branch\, 813 S Main\, Concordia\, MO\, 64020\, United States
CATEGORIES:Adult,Adults,All Ages,Children,Family,Kids,Movie,preteens,senior,Seniors,Teen,Teens,Youth
END:VEVENT
BEGIN:VEVENT
DTSTART;TZID=America/New_York:20251108T110000
DTEND;TZID=America/New_York:20251108T110000
DTSTAMP:20260425T202621
CREATED:20250930T135648Z
LAST-MODIFIED:20250930T135648Z
UID:10009683-1762599600-1762599600@www.trailslibrary.org
SUMMARY:Family Lego Day - Holden Branch
DESCRIPTION:All Ages: Bring your family in and build a Lego structure or enjoy some board games at our monthly Family Lego Day!
URL:https://www.trailslibrary.org/event/family-lego-day-holden-branch/
LOCATION:Holden Branch\, 207 S. Main\, Holden\, MO\, 64040\, United States
CATEGORIES:Adult,Adults,All Ages,Children,Family,Kids,preteens,senior,Seniors,Teen,Teens,Youth
END:VEVENT
BEGIN:VEVENT
DTSTART;TZID=America/New_York:20251108T120000
DTEND;TZID=America/New_York:20251108T120000
DTSTAMP:20260425T202621
CREATED:20250911T140611Z
LAST-MODIFIED:20250911T140611Z
UID:10009430-1762603200-1762603200@www.trailslibrary.org
SUMMARY:Gearing Up with Drew - Knob Noster Branch
DESCRIPTION:All Ages: Join us for a special visit from Drew’s Bike Shop! Learn how to stay safe on your bike with a hands-on safety demo\, and hear Drew’s story about turning his passion for biking into a business.
URL:https://www.trailslibrary.org/event/gearing-up-with-drew-knob-noster-branch/
LOCATION:Knob Noster Branch\, 202 N. Adams\, Knob Noster\, MO\, 65336\, United States
CATEGORIES:Adult,Adults,All Ages,Children,Family,Guest Presenter,Kids,preteens,senior,Seniors,Teen,Teens,Youth
END:VEVENT
BEGIN:VEVENT
DTSTART;TZID=America/New_York:20251108T130000
DTEND;TZID=America/New_York:20251108T130000
DTSTAMP:20260425T202621
CREATED:20250911T141032Z
LAST-MODIFIED:20250911T141032Z
UID:10009487-1762606800-1762606800@www.trailslibrary.org
SUMMARY:Crafternoon - Odessa Branch
DESCRIPTION:Ages 19+: Get creative with us at our fun craft afternoon!
URL:https://www.trailslibrary.org/event/crafternoon-odessa-branch/
LOCATION:Odessa Branch\, 107 W. Mason\, Odessa\, MO\, 64076\, United States
CATEGORIES:Adult,Adults,Crafts,senior,Seniors
END:VEVENT
END:VCALENDAR